From mboxrd@z Thu Jan 1 00:00:00 1970 Return-Path: Received: from mails.dpdk.org (mails.dpdk.org [217.70.189.124]) by inbox.dpdk.org (Postfix) with ESMTP id 4CFEB46B63 for ; Sun, 13 Jul 2025 10:49:19 +0200 (CEST) Received: from mails.dpdk.org (localhost [127.0.0.1]) by mails.dpdk.org (Postfix) with ESMTP id 36A564028F; Sun, 13 Jul 2025 10:49:19 +0200 (CEST) Received: from mail-pj1-f97.google.com (mail-pj1-f97.google.com [209.85.216.97]) by mails.dpdk.org (Postfix) with ESMTP id 010654028F for ; Sun, 13 Jul 2025 10:49:17 +0200 (CEST) Received: by mail-pj1-f97.google.com with SMTP id 98e67ed59e1d1-3135f3511bcso2928940a91.0 for ; Sun, 13 Jul 2025 01:49:17 -0700 (PDT) DKIM-Signature: v=1; a=rsa-sha256; c=relaxed/relaxed; d=iol.unh.edu; s=unh-iol; t=1752396557; x=1753001357; darn=dpdk.org; h=references:in-reply-to:cc:to:from:subject:message-id:date:from:to :cc:subject:date:message-id:reply-to; bh=fEjuWhV06+pc+Vq0T4xiujLPhncLAMIxxQakA9O5w3M=; b=YIOMKJ7Ztmptt6pSnzedoDhR1VkcsTCCEXOOrZbe1lmszkhWjvmpIdr6nSPMIUIxd6 y/JKoki0cUkTx13syMBakLE+tM+OZ2YMgLXIsivZTWXGqM871L1QFXtwn4QrHHto+qsH Nuyche/oqVWhiknSS/x/bXCT0mFsq/mghIHag= X-Google-DKIM-Signature: v=1; a=rsa-sha256; c=relaxed/relaxed; d=1e100.net; s=20230601; t=1752396557; x=1753001357; h=references:in-reply-to:cc:to:from:subject:message-id:date :x-gm-message-state:from:to:cc:subject:date:message-id:reply-to; bh=fEjuWhV06+pc+Vq0T4xiujLPhncLAMIxxQakA9O5w3M=; b=o72B4ux+O9ljVXGsTCgY/xWzIUZZ/BsOlhR3qDEMmyw8WSyzqKkjIGftBcq85XYiQC 5FLlN1WCdl5iRIYAAohYixGx1Ecvq8JyWqCH4sf/HqRF0V+vU3VWvy8ecfRVYCbSFIpv eQeKV5RvbCK490jM89Jntu/jB3QdM0ALYhiYkT1PDK6I6GVokXQ4YhaB5csbYgjGfXCi 8rApYRbd/vp6QgERdVV3qwSSF8B3urTx6cSgPfi2mBJj/cdy8Gf4qdZLopseDjpMzE64 PV95+MtCXPSmj7PFX5CJPFJcA6iJ86F+uWGutkKxwct7P1TT1vt0uI1tz67iC5xIfB94 uaSQ== X-Gm-Message-State: AOJu0YwE5dn5uHw3S1ilfminLJ1TFVps4or8edPAHQ6uIvZ+Fv5nYJB3 /yOb3ctrJTx8AAP64xm7Ulk5PUJp9fRmieqINbZUCrwGewCEjbqdCln1a9za4f21eHZNu/Fv9Sn HIiOraF0wkoN5JnNEzSuj2urEmaY8/KUKIV2hqZKMNiDokcbjTn7O29+AiUsS X-Gm-Gg: ASbGncuO149IDNOYsV4UCIj+h9STA5Ef85h3xmzqIlkTummXJpua4H564SYUwLcH7E9 9w7jlZvHZ01kR6OmiRSucZBGy4iHjtcJEZbmo/Gjf09KouITz9qaVFCu75ViFVK0KH6u/cn/uKu 7Udvuyuwa+BDkNp7hA+H8miGr4ZIvXdoG5ySuzq5qb5TSviVkt2rH9uwBsCf/ACJODUSCr7wn9j vMDMN1WjrtMSDstOn5Me+XkkO9X3N3AHGgMpq294F1ft0yhdS20o053x4XKOp0WePvyWXv7e8OW g2C5CE33E8ot1pPT7rkRgwDS8XxUILmgQYZDZ7celPlkxHfbnw== X-Google-Smtp-Source: AGHT+IGgxAXBbQWXS1mHf1djkP2DKwtaC5CTMe2svZnjq+fKS5/rLtwLg0w9raSW1bPuaHZOyCiCwA02ZZj4 X-Received: by 2002:a17:90b:5790:b0:311:b0ec:135b with SMTP id 98e67ed59e1d1-31c4ccf06d1mr16343132a91.24.1752396557037; Sun, 13 Jul 2025 01:49:17 -0700 (PDT) Received: from postal.iol.unh.edu (postal.iol.unh.edu. [2606:4100:3880:1234::84]) by smtp-relay.gmail.com with ESMTPS id d9443c01a7336-23de4320bccsm3802065ad.81.2025.07.13.01.49.16 (version=TLS1_2 cipher=ECDHE-ECDSA-AES128-GCM-SHA256 bits=128/128); Sun, 13 Jul 2025 01:49:17 -0700 (PDT) X-Relaying-Domain: iol.unh.edu Date: Sun, 13 Jul 2025 01:49:17 -0700 (PDT) Message-ID: <6873730d.170a0220.10f4bd.53b5SMTPIN_ADDED_MISSING@mx.google.com> Received: from [172.21.0.5] (unknown [172.18.0.240]) by postal.iol.unh.edu (Postfix) with ESMTP id 475DF6051830; Sun, 13 Jul 2025 04:49:16 -0400 (EDT) Subject: |SUCCESS| pw155181 [PATCH] [v9,1/1] app/testpmd: canonicalize short From: dpdklab@iol.unh.edu To: Test Report Cc: dpdk-test-reports@iol.unh.edu In-Reply-To: <20250713063417.10998-2-shperetz@nvidia.com> References: <20250713063417.10998-2-shperetz@nvidia.com> Content-Type: text/plain X-BeenThere: test-report@dpdk.org X-Mailman-Version: 2.1.29 Precedence: list List-Id: automatic DPDK test reports List-Unsubscribe: , List-Archive: List-Post: List-Help: List-Subscribe: , Errors-To: test-report-bounces@dpdk.org Test-Label: iol-abi-testing Test-Status: SUCCESS http://dpdk.org/patch/155181 _Testing PASS_ Submitter: Shani Peretz Date: Sunday, July 13 2025 06:34:17 DPDK git baseline: Repo:dpdk Branch: master CommitID:9fe9c0b231c8da5435bfccb1963121b4277f961c 155181 --> testing pass Upstream job id: Generic-DPDK-Compile-ABI#134191 Test environment and result as below: +-------------------------------+----------+ | Environment | abi_test | +===============================+==========+ | CentOS Stream 9 | PASS | +-------------------------------+----------+ | Fedora Linux 41 | PASS | +-------------------------------+----------+ | Fedora Linux 40 | PASS | +-------------------------------+----------+ | Debian GNU/Linux 12 | PASS | +-------------------------------+----------+ | CentOS Stream 10 | PASS | +-------------------------------+----------+ | openSUSE Leap 15.6 | PASS | +-------------------------------+----------+ | Red Hat Enterprise Linux 9.5 | PASS | +-------------------------------+----------+ | Ubuntu 22.04 | PASS | +-------------------------------+----------+ | Red Hat Enterprise Linux 8.10 | PASS | +-------------------------------+----------+ | Ubuntu 24.04 | PASS | +-------------------------------+----------+ CentOS Stream 9 Kernel: 5.15 Compiler: gcc gcc (GCC) 11.5.0 20240719 (Red Hat 11.5.0-7) Fedora Linux 41 Kernel: 5.15 Compiler: clang gcc (GCC) 14.3.1 20250523 (Red Hat 14.3.1-1) Fedora Linux 40 Kernel: 5.15 Compiler: clang gcc (GCC) 14.2.1 20240912 (Red Hat 14.2.1-3) Debian GNU/Linux 12 Kernel: 5.15 Compiler: gcc gcc (Debian 12.2.0-14+deb12u1) 12.2.0 CentOS Stream 10 Kernel: 5.15 Compiler: gcc gcc (GCC) 14.2.1 20250110 (Red Hat 14.2.1-8) openSUSE Leap 15.6 Kernel: 5.15 Compiler: gcc gcc (SUSE Linux) 7.5.0 Red Hat Enterprise Linux 9.5 Kernel: 5.15 Compiler: gcc gcc (GCC) 11.5.0 20240719 (Red Hat 11.5.0-2) Ubuntu 22.04 Kernel: 5.15 Compiler: gcc gcc (Ubuntu 11.4.0-1ubuntu1~22.04) 11.4.0 Red Hat Enterprise Linux 8.10 Kernel: 5.15 Compiler: gcc gcc (GCC) 8.5.0 20210514 (Red Hat 8.5.0-22) Ubuntu 24.04 Kernel: 5.15 Compiler: gcc gcc (Ubuntu 13.3.0-6ubuntu2~24.04) 13.3.0 To view detailed results, visit: https://lab.dpdk.org/results/dashboard/patchsets/33641/ UNH-IOL DPDK Community Lab To manage your email subscriptions, visit: https://lab.dpdk.org/results/dashboard/preferences/subscriptions/