From mboxrd@z Thu Jan 1 00:00:00 1970 Return-Path: Received: from mails.dpdk.org (mails.dpdk.org [217.70.189.124]) by inbox.dpdk.org (Postfix) with ESMTP id 6422B46B63 for ; Sun, 13 Jul 2025 10:50:40 +0200 (CEST) Received: from mails.dpdk.org (localhost [127.0.0.1]) by mails.dpdk.org (Postfix) with ESMTP id 5DCF74028F; Sun, 13 Jul 2025 10:50:40 +0200 (CEST) Received: from mail-qt1-f225.google.com (mail-qt1-f225.google.com [209.85.160.225]) by mails.dpdk.org (Postfix) with ESMTP id 8E68B4028F for ; Sun, 13 Jul 2025 10:50:39 +0200 (CEST) Received: by mail-qt1-f225.google.com with SMTP id d75a77b69052e-4a585dc5f4aso41369931cf.2 for ; Sun, 13 Jul 2025 01:50:39 -0700 (PDT) DKIM-Signature: v=1; a=rsa-sha256; c=relaxed/relaxed; d=iol.unh.edu; s=unh-iol; t=1752396639; x=1753001439; darn=dpdk.org; h=references:in-reply-to:cc:to:from:subject:message-id:date:from:to :cc:subject:date:message-id:reply-to; bh=kG5lvT6Uj8vNsEdVd+JHamR/hKsKD9dfb/hk+CyfI0E=; b=jKRee6XZAPjI6r+4+2FbRMpzU57S7UBY9h5U0moL9w/lWbX9kdmS4qSLgRJo69flgQ CemC2dARmJ2XnvGo1aLxKbqcpEsIOGR0zNw2kFMNn4f5Li4I6zeE1fH4yOseW1NzWFqj ttFT5Qi+Rcb7Gbbt28NI+HWFqDZTifNMBWt+U= X-Google-DKIM-Signature: v=1; a=rsa-sha256; c=relaxed/relaxed; d=1e100.net; s=20230601; t=1752396639; x=1753001439; h=references:in-reply-to:cc:to:from:subject:message-id:date :x-gm-message-state:from:to:cc:subject:date:message-id:reply-to; bh=kG5lvT6Uj8vNsEdVd+JHamR/hKsKD9dfb/hk+CyfI0E=; b=ChiILb/Nori0V4Br4pmkI9D4emeTuk5h1y9BcW6DUZvrFX9p+lXu/koEeZ/Uifb9lG n7VWnQITvKVBnaN/Yv8jAlUt4EL47x2fuIC5ZixhsV1wnqOr6d/qaykPvuJ4HnyM3qvI hCzMesYD0ufaxc+uxTjpI2qtXR1/oPRsKRsRMZW8Qu6aoUNJOFAcUNFoSdEoEzc9QqFJ u5hiMzQHHQiced2fkv0p86Filt+vKLywGWuiQIWvZ67xlQv8n5SRPiTRaqvxRIIlrZxu Ri0hGCOXU/Hl1lA1C5jyRtxRB71lv/xiTuUvgdGDzmprwTIJy7pxeJFUXeIzi22vl4s0 JyRw== X-Gm-Message-State: AOJu0YzjpV/qbrze5hsoL9696md3lN/KfEo8ylieGDYBeEs65fcQnGKK y8dHe2kAoCUwE2DLSESofGhMlgNm3WEObAKunghOKgWT7G/jxFm82UMcP0jmFd65Fw9twLnk801 8Ub6KqphaAXWKXhwrTW+lfa5xMCcIBC2qQVYSp7cHlRak X-Gm-Gg: ASbGncvgzVcp7EmIc4jNo+WJ9kacLRkM3P+dihkrT4uMLWyYtDTt6ELFTOBGatvGj0Y R/qg8UociWcvPIzZO5MU34ADwjZ4Fc2qjfzyFB7hvVE0hdyq/zXcYFQgECRL7pKWzG9WcOKufJX QK15qq42hwZPzFdUfSDYiYFOC7uQFY+u43MvmPHr6uYM7BC4b7jByzIXPXlHN8AC3qis9LCajVX 8V2k8aLHDNFwzLm/oJWm7L+ISEKc9FuAnfC0HOEzvbNarfrv11mshp0NPl0QJChP8IAKdJOF3k0 mQCpLdph+YXw0EL83+6oobreodntQiMZkCKRZjFB7fAADpiZPpdOoOwFbXf37aB4ktYs1gdW X-Google-Smtp-Source: AGHT+IEV3KowVPjzJWmCHo1bQ/FjHxN1Gl/pYJug6wewyALpqDX8+RHv9FJMdXEKJCcLm9GhlgEqhJJAcezL X-Received: by 2002:a05:622a:1892:b0:4a7:a905:d5b1 with SMTP id d75a77b69052e-4a9fb8872ddmr136137921cf.15.1752396638900; Sun, 13 Jul 2025 01:50:38 -0700 (PDT) Received: from postal.iol.unh.edu (postal.iol.unh.edu. [132.177.123.84]) by smtp-relay.gmail.com with ESMTPS id d75a77b69052e-4ab687b3bd5sm219961cf.20.2025.07.13.01.50.38 (version=TLS1_2 cipher=ECDHE-ECDSA-AES128-GCM-SHA256 bits=128/128); Sun, 13 Jul 2025 01:50:38 -0700 (PDT) X-Relaying-Domain: iol.unh.edu Date: Sun, 13 Jul 2025 01:50:38 -0700 (PDT) Message-ID: <6873735e.c80a0220.35f43e.1073SMTPIN_ADDED_MISSING@mx.google.com> Received: from [172.21.0.5] (unknown [172.18.0.240]) by postal.iol.unh.edu (Postfix) with ESMTP id 9E1D46051830; Sun, 13 Jul 2025 04:50:38 -0400 (EDT) Subject: |SUCCESS| pw155181 [PATCH] [v9,1/1] app/testpmd: canonicalize short From: dpdklab@iol.unh.edu To: Test Report Cc: dpdk-test-reports@iol.unh.edu In-Reply-To: <20250713063417.10998-2-shperetz@nvidia.com> References: <20250713063417.10998-2-shperetz@nvidia.com> Content-Type: text/plain X-BeenThere: test-report@dpdk.org X-Mailman-Version: 2.1.29 Precedence: list List-Id: automatic DPDK test reports List-Unsubscribe: , List-Archive: List-Post: List-Help: List-Subscribe: , Errors-To: test-report-bounces@dpdk.org Test-Label: iol-unit-amd64-testing Test-Status: SUCCESS http://dpdk.org/patch/155181 _Testing PASS_ Submitter: Shani Peretz Date: Sunday, July 13 2025 06:34:17 DPDK git baseline: Repo:dpdk Branch: master CommitID:9fe9c0b231c8da5435bfccb1963121b4277f961c 155181 --> testing pass Upstream job id: Generic-Unit-Test-DPDK#355051 Test environment and result as below: +-------------------------------+----------------+ | Environment | dpdk_unit_test | +===============================+================+ | Debian GNU/Linux 12 | PASS | +-------------------------------+----------------+ | Red Hat Enterprise Linux 9.5 | PASS | +-------------------------------+----------------+ | CentOS Stream 10 | PASS | +-------------------------------+----------------+ | CentOS Stream 9 | PASS | +-------------------------------+----------------+ | Fedora Linux 40 | PASS | +-------------------------------+----------------+ | Ubuntu 22.04 | PASS | +-------------------------------+----------------+ | Ubuntu 20.04 | PASS | +-------------------------------+----------------+ | Red Hat Enterprise Linux 8.10 | PASS | +-------------------------------+----------------+ | Fedora Linux 41 | PASS | +-------------------------------+----------------+ | Ubuntu 24.04 | PASS | +-------------------------------+----------------+ | Windows Server 2022 | PASS | +-------------------------------+----------------+ Debian GNU/Linux 12 Kernel: 5.15 Compiler: gcc gcc (Debian 12.2.0-14+deb12u1) 12.2.0 Red Hat Enterprise Linux 9.5 Kernel: 5.15 Compiler: gcc gcc (GCC) 11.5.0 20240719 (Red Hat 11.5.0-2) CentOS Stream 10 Kernel: 5.15 Compiler: gcc gcc (GCC) 14.2.1 20250110 (Red Hat 14.2.1-8) CentOS Stream 9 Kernel: 5.15 Compiler: gcc gcc (GCC) 11.5.0 20240719 (Red Hat 11.5.0-7) Fedora Linux 40 Kernel: 5.15 Compiler: gcc gcc (GCC) 14.2.1 20240912 (Red Hat 14.2.1-3) Ubuntu 22.04 Kernel: 5.15 Compiler: gcc gcc (Ubuntu 11.4.0-1ubuntu1~22.04) 11.4.0 Ubuntu 20.04 Kernel: 5.15 Compiler: gcc gcc (Ubuntu 9.4.0-1ubuntu1~20.04.2) 9.4.0 Red Hat Enterprise Linux 8.10 Kernel: 5.15 Compiler: gcc gcc (GCC) 8.5.0 20210514 (Red Hat 8.5.0-22) Fedora Linux 41 Kernel: 5.15 Compiler: gcc gcc (GCC) 14.3.1 20250523 (Red Hat 14.3.1-1) Ubuntu 24.04 Kernel: 5.15 Compiler: gcc gcc (Ubuntu 13.3.0-6ubuntu2~24.04) 13.3.0 Windows Server 2022 Kernel: 10.0.20348.2031 Compiler: clang 15.0.7, gcc 14.1.0 (MinGW), and MSVC VS 19.39.33521 To view detailed results, visit: https://lab.dpdk.org/results/dashboard/patchsets/33641/ UNH-IOL DPDK Community Lab To manage your email subscriptions, visit: https://lab.dpdk.org/results/dashboard/preferences/subscriptions/