automatic DPDK test reports
 help / color / mirror / Atom feed
From: dpdklab@iol.unh.edu
To: Test Report <test-report@dpdk.org>
Cc: dpdk-test-reports@iol.unh.edu
Subject: |SUCCESS| pw155181 [PATCH] [v9,1/1] app/testpmd: canonicalize short
Date: Sun, 13 Jul 2025 02:16:44 -0700 (PDT)	[thread overview]
Message-ID: <6873797c.050a0220.3bb608.c27fSMTPIN_ADDED_MISSING@mx.google.com> (raw)
In-Reply-To: <20250713063417.10998-2-shperetz@nvidia.com>

Test-Label: iol-compile-amd64-testing
Test-Status: SUCCESS
http://dpdk.org/patch/155181

_Testing PASS_

Submitter: Shani Peretz <shperetz@nvidia.com>
Date: Sunday, July 13 2025 06:34:17 
DPDK git baseline: Repo:dpdk
  Branch: master
  CommitID:9fe9c0b231c8da5435bfccb1963121b4277f961c

155181 --> testing pass

Upstream job id: Generic-DPDK-Compile-Meson#408309

Test environment and result as below:

+-------------------------------+--------------------+-------------------------+-------------------+-------------------+------------------+----------------------+
|          Environment          | dpdk_meson_compile | dpdk_llvm_clang_compile | dpdk_msvc_compile | dpdk_compile_spdk | dpdk_compile_ovs | dpdk_mingw64_compile |
+===============================+====================+=========================+===================+===================+==================+======================+
| Ubuntu 20.04                  | PASS               | SKIPPED                 | SKIPPED           | SKIPPED           | SKIPPED          | SKIPPED              |
+-------------------------------+--------------------+-------------------------+-------------------+-------------------+------------------+----------------------+
| FreeBSD 14.2                  | PASS               | SKIPPED                 | SKIPPED           | SKIPPED           | SKIPPED          | SKIPPED              |
+-------------------------------+--------------------+-------------------------+-------------------+-------------------+------------------+----------------------+
| CentOS Stream 9               | PASS               | SKIPPED                 | SKIPPED           | PASS              | SKIPPED          | SKIPPED              |
+-------------------------------+--------------------+-------------------------+-------------------+-------------------+------------------+----------------------+
| CentOS Stream 10              | PASS               | SKIPPED                 | SKIPPED           | SKIPPED           | SKIPPED          | SKIPPED              |
+-------------------------------+--------------------+-------------------------+-------------------+-------------------+------------------+----------------------+
| Debian GNU/Linux 12           | PASS               | SKIPPED                 | SKIPPED           | PASS              | SKIPPED          | SKIPPED              |
+-------------------------------+--------------------+-------------------------+-------------------+-------------------+------------------+----------------------+
| Fedora Linux 40               | PASS               | SKIPPED                 | SKIPPED           | PASS              | SKIPPED          | SKIPPED              |
+-------------------------------+--------------------+-------------------------+-------------------+-------------------+------------------+----------------------+
| Fedora Linux 41               | PASS               | SKIPPED                 | SKIPPED           | PASS              | PASS             | SKIPPED              |
+-------------------------------+--------------------+-------------------------+-------------------+-------------------+------------------+----------------------+
| openSUSE Leap 15.6            | PASS               | SKIPPED                 | SKIPPED           | SKIPPED           | SKIPPED          | SKIPPED              |
+-------------------------------+--------------------+-------------------------+-------------------+-------------------+------------------+----------------------+
| Red Hat Enterprise Linux 8.10 | PASS               | SKIPPED                 | SKIPPED           | SKIPPED           | SKIPPED          | SKIPPED              |
+-------------------------------+--------------------+-------------------------+-------------------+-------------------+------------------+----------------------+
| Red Hat Enterprise Linux 9.5  | PASS               | SKIPPED                 | SKIPPED           | SKIPPED           | SKIPPED          | SKIPPED              |
+-------------------------------+--------------------+-------------------------+-------------------+-------------------+------------------+----------------------+
| Ubuntu 22.04                  | PASS               | SKIPPED                 | SKIPPED           | PASS              | SKIPPED          | SKIPPED              |
+-------------------------------+--------------------+-------------------------+-------------------+-------------------+------------------+----------------------+
| Ubuntu 24.04                  | PASS               | SKIPPED                 | SKIPPED           | PASS              | PASS             | SKIPPED              |
+-------------------------------+--------------------+-------------------------+-------------------+-------------------+------------------+----------------------+
| Alpine Linux 3.22.0           | PASS               | SKIPPED                 | SKIPPED           | SKIPPED           | SKIPPED          | SKIPPED              |
+-------------------------------+--------------------+-------------------------+-------------------+-------------------+------------------+----------------------+
| Windows Server 2022           | SKIPPED            | PASS                    | PASS              | SKIPPED           | SKIPPED          | PASS                 |
+-------------------------------+--------------------+-------------------------+-------------------+-------------------+------------------+----------------------+


Ubuntu 20.04
	Kernel: 4.19
	Compiler: gcc gcc (Ubuntu 9.4.0-1ubuntu1~20.04.2) 9.4.0

FreeBSD 14.2
	Kernel: 14.2-RELEASE
	Compiler: clang 18.1.6

CentOS Stream 9
	Kernel: 5.15
	Compiler: gcc gcc (GCC) 11.5.0 20240719 (Red Hat 11.5.0-7)

CentOS Stream 10
	Kernel: 5.15
	Compiler: gcc gcc (GCC) 14.2.1 20250110 (Red Hat 14.2.1-8)

Debian GNU/Linux 12
	Kernel: 5.15
	Compiler: gcc gcc (Debian 12.2.0-14+deb12u1) 12.2.0

Fedora Linux 40
	Kernel: 5.15
	Compiler: clang gcc (GCC) 14.2.1 20240912 (Red Hat 14.2.1-3)

Fedora Linux 41
	Kernel: 5.15
	Compiler: clang gcc (GCC) 14.3.1 20250523 (Red Hat 14.3.1-1)

openSUSE Leap 15.6
	Kernel: 5.15
	Compiler: gcc gcc (SUSE Linux) 7.5.0

Red Hat Enterprise Linux 8.10
	Kernel: 5.15
	Compiler: gcc gcc (GCC) 8.5.0 20210514 (Red Hat 8.5.0-22)

Red Hat Enterprise Linux 9.5
	Kernel: 5.15
	Compiler: gcc gcc (GCC) 11.5.0 20240719 (Red Hat 11.5.0-2)

Ubuntu 22.04
	Kernel: 5.15
	Compiler: gcc gcc (Ubuntu 11.4.0-1ubuntu1~22.04) 11.4.0

Ubuntu 24.04
	Kernel: 5.15
	Compiler: gcc gcc (Ubuntu 13.3.0-6ubuntu2~24.04) 13.3.0

Alpine Linux 3.22.0
	Kernel: 5.15
	Compiler: gcc gcc (Alpine 14.2.0) 14.2.0

Windows Server 2022
	Kernel: 10.0.20348.2031
	Compiler: clang 15.0.7, gcc 14.1.0 (MinGW), and MSVC VS 19.39.33521

To view detailed results, visit:
https://lab.dpdk.org/results/dashboard/patchsets/33641/

UNH-IOL DPDK Community Lab

To manage your email subscriptions, visit: 
https://lab.dpdk.org/results/dashboard/preferences/subscriptions/

  parent reply	other threads:[~2025-07-13  9:16 UTC|newest]

Thread overview: 17+ messages / expand[flat|nested]  mbox.gz  Atom feed  top
     [not found] <20250713063417.10998-2-shperetz@nvidia.com>
2025-07-13  6:01 ` |SUCCESS| pw155181 [PATCH v9 1/1] app/testpmd: canonicalize short PCI name format qemudev
2025-07-13  6:06 ` qemudev
2025-07-13  6:33 ` checkpatch
2025-07-13  7:18 ` |SUCCESS| pw155181 [PATCH] [v9,1/1] app/testpmd: canonicalize short dpdklab
2025-07-13  7:23 ` |SUCCESS| pw155181 [PATCH v9 1/1] app/testpmd: canonicalize short PCI name format 0-day Robot
2025-07-13  7:24 ` |PENDING| pw155181 [PATCH] [v9,1/1] app/testpmd: canonicalize short dpdklab
2025-07-13  7:33 ` dpdklab
2025-07-13  7:40 ` |SUCCESS| " dpdklab
2025-07-13  7:50 ` dpdklab
2025-07-13  7:52 ` |PENDING| " dpdklab
2025-07-13  8:41 ` |SUCCESS| " dpdklab
2025-07-13  8:49 ` dpdklab
2025-07-13  8:50 ` dpdklab
2025-07-13  8:50 ` dpdklab
2025-07-13  9:16 ` dpdklab [this message]
2025-07-13  9:57 ` dpdklab
2025-07-13 10:50 ` dpdklab

Reply instructions:

You may reply publicly to this message via plain-text email
using any one of the following methods:

* Save the following mbox file, import it into your mail client,
  and reply-to-all from there: mbox

  Avoid top-posting and favor interleaved quoting:
  https://en.wikipedia.org/wiki/Posting_style#Interleaved_style

* Reply using the --to, --cc, and --in-reply-to
  switches of git-send-email(1):

  git send-email \
    --in-reply-to=6873797c.050a0220.3bb608.c27fSMTPIN_ADDED_MISSING@mx.google.com \
    --to=dpdklab@iol.unh.edu \
    --cc=dpdk-test-reports@iol.unh.edu \
    --cc=test-report@dpdk.org \
    /path/to/YOUR_REPLY

  https://kernel.org/pub/software/scm/git/docs/git-send-email.html

* If your mail client supports setting the In-Reply-To header
  via mailto: links, try the mailto: link
Be sure your reply has a Subject: header at the top and a blank line before the message body.
This is a public inbox, see mirroring instructions
for how to clone and mirror all data and code used for this inbox;
as well as URLs for NNTP newsgroup(s).