From mboxrd@z Thu Jan 1 00:00:00 1970 Return-Path: Received: from mails.dpdk.org (mails.dpdk.org [217.70.189.124]) by inbox.dpdk.org (Postfix) with ESMTP id A559E46B64 for ; Sun, 13 Jul 2025 12:51:01 +0200 (CEST) Received: from mails.dpdk.org (localhost [127.0.0.1]) by mails.dpdk.org (Postfix) with ESMTP id 7C1CD4028F; Sun, 13 Jul 2025 12:51:01 +0200 (CEST) Received: from mail-pj1-f100.google.com (mail-pj1-f100.google.com [209.85.216.100]) by mails.dpdk.org (Postfix) with ESMTP id 3A3B54028F for ; Sun, 13 Jul 2025 12:51:00 +0200 (CEST) Received: by mail-pj1-f100.google.com with SMTP id 98e67ed59e1d1-3138e64b42aso3981747a91.0 for ; Sun, 13 Jul 2025 03:51:00 -0700 (PDT) DKIM-Signature: v=1; a=rsa-sha256; c=relaxed/relaxed; d=iol.unh.edu; s=unh-iol; t=1752403859; x=1753008659; darn=dpdk.org; h=references:in-reply-to:cc:to:from:subject:message-id:date:from:to :cc:subject:date:message-id:reply-to; bh=CQ4491rEQT8k7lNRUMG1Nx3CG02UBwPSzNDXkXcRZL0=; b=ULNXYOO256IT7FCUPTGMiALWXAxO6QNMazW6SNCAPu0BM3wYnMAeuYQ74FTs2l1brS keSDO6AIp1BYGYrA1lXWnTB5OWg2LTvxpdHp30AklNuGZkajtjMDhF/36d0CRHP2IbxJ e9ghg7uTUXMNWZnPDaaGXhsafBBtAi9dCwXpQ= X-Google-DKIM-Signature: v=1; a=rsa-sha256; c=relaxed/relaxed; d=1e100.net; s=20230601; t=1752403859; x=1753008659; h=references:in-reply-to:cc:to:from:subject:message-id:date :x-gm-message-state:from:to:cc:subject:date:message-id:reply-to; bh=CQ4491rEQT8k7lNRUMG1Nx3CG02UBwPSzNDXkXcRZL0=; b=qN96mcnbDhsLxRNlKSoZU8K94b0tX1exLep1uSVKZZiUoTweoa4t3wb3qIsk+e07X2 wXoMuVTN4bIdcQ8EU+IbhQQrx5GFPgpadb5sTQcH3UAxfgkwBTiNrN2WGOTTROiX/gIa b5Z1X4jkhm5Jh4SaudSPPVifcHvwggtoabcuevRKPaQUexzMR3s25K9i3fReL8b5lGut ABz86cBHP9fv1qsSLkZVkz2SDgc0uxNPkgPI78LSo7SufHVwab4i8CniP9HfhFd+N5Fm 7KUyVHhNK++ddfhMGJuP6exQWnBm2EYSAJXRd46F+/2JQ9sQxtdwLz7W23XiN7HbnRQh Zc2A== X-Gm-Message-State: AOJu0YzGbDwY4dZ0cB+KMXhN2L/ILxAOfwEAxdpCdjCanA4bBhihFn6o nvU2MmohNEagwp/XCIosmMD3ZZelq41DMkL9EKaQhMZ/PC6NFAUULoVB8H/dinWhqmNtc1epTRW OIcBrAkXnzFLdBsXMvw08P39c1BRtgDeR77mSu50tDJbx X-Gm-Gg: ASbGnct8rjtGNX/tGrxVTXjxmoCoSEAtpAow1nqfncVOnxOQJmp0jYUO9Pj08fXiOvF sFgDE+4DFxnVbfsH/zk6FT4jkypHa6PpaxT6DMItZs6bAM/19ZvjnmTu5/rf3KhXnAyUs+fzPAp TTrPwJZkraA+Bq6KUXK1g4n4r1ri14Z12lFC8tJ0xpr9MNs3IUBJhicBoNCRid6Rz8e9WaFHI7a v377QuxE7dcsBjWapf/5AFXKXAiKFjYWmmncP9HYVWS5wqNjImdK70/Rt8yZxITkABbLgKWHMTo 9vbGmqv4Fc7nIETf9VPHmB15ubqvSAei+0fB5G/jAuE0YVgmlXn6FQdbw5Z2hRohwtnVW4ij X-Google-Smtp-Source: AGHT+IEfJ3TLaMqHuQDMv3FkF7Cqyeo8Ikt5LB6+MZXOCTdo7j5TkIswpM5aguWaWQEW5DIKq6VkAIGEfhD9 X-Received: by 2002:a17:90b:1b08:b0:311:c970:c9ce with SMTP id 98e67ed59e1d1-31c4cd09945mr15385219a91.28.1752403859095; Sun, 13 Jul 2025 03:50:59 -0700 (PDT) Received: from postal.iol.unh.edu (postal.iol.unh.edu. [132.177.123.84]) by smtp-relay.gmail.com with ESMTPS id 98e67ed59e1d1-31c3e9ab143sm576470a91.7.2025.07.13.03.50.58 (version=TLS1_2 cipher=ECDHE-ECDSA-AES128-GCM-SHA256 bits=128/128); Sun, 13 Jul 2025 03:50:59 -0700 (PDT) X-Relaying-Domain: iol.unh.edu Date: Sun, 13 Jul 2025 03:50:59 -0700 (PDT) Message-ID: <68738f93.170a0220.21bf06.f5a8SMTPIN_ADDED_MISSING@mx.google.com> Received: from [172.21.0.5] (unknown [172.18.0.240]) by postal.iol.unh.edu (Postfix) with ESMTP id 5FED76051830; Sun, 13 Jul 2025 06:50:58 -0400 (EDT) Subject: |SUCCESS| pw155181 [PATCH] [v9,1/1] app/testpmd: canonicalize short From: dpdklab@iol.unh.edu To: Test Report Cc: dpdk-test-reports@iol.unh.edu In-Reply-To: <20250713063417.10998-2-shperetz@nvidia.com> References: <20250713063417.10998-2-shperetz@nvidia.com> Content-Type: text/plain X-BeenThere: test-report@dpdk.org X-Mailman-Version: 2.1.29 Precedence: list List-Id: automatic DPDK test reports List-Unsubscribe: , List-Archive: List-Post: List-Help: List-Subscribe: , Errors-To: test-report-bounces@dpdk.org Test-Label: iol-compile-arm64-testing Test-Status: SUCCESS http://dpdk.org/patch/155181 _Testing PASS_ Submitter: Shani Peretz Date: Sunday, July 13 2025 06:34:17 DPDK git baseline: Repo:dpdk Branch: master CommitID:9fe9c0b231c8da5435bfccb1963121b4277f961c 155181 --> testing pass Upstream job id: Generic-DPDK-Compile-Meson#408317 Test environment and result as below: +------------------------------+--------------------+ | Environment | dpdk_meson_compile | +==============================+====================+ | Red Hat Enterprise Linux 9.5 | PASS | +------------------------------+--------------------+ | Ubuntu 20.04 | PASS | +------------------------------+--------------------+ | Debian GNU/Linux 12 | PASS | +------------------------------+--------------------+ | Fedora Linux 40 | PASS | +------------------------------+--------------------+ | Fedora Linux 41 | PASS | +------------------------------+--------------------+ | Ubuntu 24.04 | PASS | +------------------------------+--------------------+ | CentOS Stream 9 | PASS | +------------------------------+--------------------+ | CentOS Stream 10 | PASS | +------------------------------+--------------------+ | Ubuntu 22.04 | PASS | +------------------------------+--------------------+ Red Hat Enterprise Linux 9.5 Kernel: 5.4 Compiler: gcc gcc (GCC) 11.5.0 20240719 (Red Hat 11.5.0-2) Ubuntu 20.04 Kernel: 5.15 Compiler: aarch64-linux-gnu-gcc gcc (Ubuntu 9.4.0-1ubuntu1~20.04.2) 9.4.0 Debian GNU/Linux 12 Kernel: 5.4 Compiler: gcc gcc (Debian 12.2.0-14+deb12u1) 12.2.0 Fedora Linux 40 Kernel: 5.4 Compiler: gcc gcc (GCC) 14.2.1 20240912 (Red Hat 14.2.1-3) Fedora Linux 41 Kernel: 5.4 Compiler: gcc gcc (GCC) 14.3.1 20250523 (Red Hat 14.3.1-1) Ubuntu 24.04 Kernel: 5.4 Compiler: gcc gcc (Ubuntu 13.3.0-6ubuntu2~24.04) 13.3.0 CentOS Stream 9 Kernel: 5.4 Compiler: gcc gcc (GCC) 11.5.0 20240719 (Red Hat 11.5.0-7) CentOS Stream 10 Kernel: 5.4 Compiler: gcc gcc (GCC) 14.2.1 20250110 (Red Hat 14.2.1-8) Ubuntu 22.04 Kernel: 5.4 Compiler: gcc gcc (Ubuntu 11.4.0-1ubuntu1~22.04) 11.4.0 To view detailed results, visit: https://lab.dpdk.org/results/dashboard/patchsets/33641/ UNH-IOL DPDK Community Lab To manage your email subscriptions, visit: https://lab.dpdk.org/results/dashboard/preferences/subscriptions/