From mboxrd@z Thu Jan 1 00:00:00 1970 Return-Path: Received: from mails.dpdk.org (mails.dpdk.org [217.70.189.124]) by inbox.dpdk.org (Postfix) with ESMTP id 77A7146B6A for ; Mon, 14 Jul 2025 03:23:37 +0200 (CEST) Received: from mails.dpdk.org (localhost [127.0.0.1]) by mails.dpdk.org (Postfix) with ESMTP id 5786940041; Mon, 14 Jul 2025 03:23:37 +0200 (CEST) Received: from mail-oa1-f100.google.com (mail-oa1-f100.google.com [209.85.160.100]) by mails.dpdk.org (Postfix) with ESMTP id 0AD6740041 for ; Mon, 14 Jul 2025 03:23:36 +0200 (CEST) Received: by mail-oa1-f100.google.com with SMTP id 586e51a60fabf-2f3dab2a2a9so2189547fac.2 for ; Sun, 13 Jul 2025 18:23:35 -0700 (PDT) DKIM-Signature: v=1; a=rsa-sha256; c=relaxed/relaxed; d=iol.unh.edu; s=unh-iol; t=1752456215; x=1753061015; darn=dpdk.org; h=cc:to:from:subject:message-id:date:from:to:cc:subject:date :message-id:reply-to; bh=m3TaCfzjKzFtpIVgBICZMo8xYYBnzXmBSXnXrlIBx3A=; b=QcbxjEfJd97r8scalebLPEWsY8fRy3Txij9nibpUo2NjDkJCnvyw0YFDXX24rbNPOm JDKFFELWQ7wQMaus3IQusdJVU9isscrnqWY51XwN5KkYPzzLrDVyS9rcrbih1UbtRlHB Lx1cBJRBpUb/N1vIek0zNqklIAEOX9rib98+M= X-Google-DKIM-Signature: v=1; a=rsa-sha256; c=relaxed/relaxed; d=1e100.net; s=20230601; t=1752456215; x=1753061015; h=cc:to:from:subject:message-id:date:x-gm-message-state:from:to:cc :subject:date:message-id:reply-to; bh=m3TaCfzjKzFtpIVgBICZMo8xYYBnzXmBSXnXrlIBx3A=; b=WD2tY4kqTu+t4xSeLPCZ6RrQ1XnQ8F/LY/i434OwFRaCOIwhVOjPJ7tXqAsbd52lAI aYu/qGPgcydsbiPrwp9xNr+rK1Yv7SlTNeTg5eu4VlzNt5HW38t7GvRsJn+gb/+2aXai PGw9fJ2Dz4FUhGsrmIRxthe3ZpO8+OA0l5Ec/1+7rrSW+WNBu7GR3JjhEmoM1vGyTZln SEDTuKtRDhiSWSWys6qBLNG/OhgaLNyZ4rjcxtPLTw79FKNWhcJrIYRcEZCfWQ2NHYxc 9tem+tG/4ff6rLdXP01eaPv9UIs+4CHt0otUmGX+7MYRJcEIPwnWA5EaujWagV+qSKwv ajTQ== X-Gm-Message-State: AOJu0Yw6nPTRUrfiIcSBcDh/BDFpywxcpBYJgkklsYzhMCTo9z5fUhuy ZhkK4ctbft0MhlcIcQC7ylm1DpS4ivyDVSj6Kp2RwNWsnU/F1USGvqCLcjmrfYLkYrLx4WLIkdI uxJdPm/Hu/KFsLYI8v/hGxG6FwnPSWC6AEOEouXj/pRgR X-Gm-Gg: ASbGncskzwHsGOcaLmUwHkPiy9T7KJt3tM/y0eJX6AK2vYoDFNrQE7njeZ1HP2vbrlw D0gC1sV2/BOL9yLPMO4CaQ5kDmw2qtfOCd2LmoMlhbP79j2XgtyzCgSp3bgk913up4kBWNHAk0p xiw4uwEu++TQOJ0Wsyd95P51PIVc2K9EMqQzX3xdH+d4lzCJR6zzRTabs8w9R0uDNl13d3z8AS/ thwXASwHMpVEBpDg5W8jbTRUN0j+vgZM0U1Uk/8roHvSlu7CHWwF38ygG30JQDBsHNPlyRoQ9oU OMqzj0unExGiMuL5zNWyQYwxTLNz0sLaiLdjkOUX0W1L5kgacVCF8Iutc7NNkDKq8/SEaEv0 X-Google-Smtp-Source: AGHT+IGf0kAIUJZh6OlNH3YZtaT10QQflQQr57i9p/eWu/9tHPjg6ZZm5h9N4nq0u3GTqqX55RJyFXlk7dbJ X-Received: by 2002:a05:6870:6e0d:b0:29e:3c8d:61a0 with SMTP id 586e51a60fabf-2ff2670e0a4mr7801300fac.8.1752456215112; Sun, 13 Jul 2025 18:23:35 -0700 (PDT) Received: from postal.iol.unh.edu (postal.iol.unh.edu. [132.177.123.84]) by smtp-relay.gmail.com with ESMTPS id 586e51a60fabf-2ff116ce7c2sm589517fac.24.2025.07.13.18.23.35 (version=TLS1_2 cipher=ECDHE-ECDSA-AES128-GCM-SHA256 bits=128/128); Sun, 13 Jul 2025 18:23:35 -0700 (PDT) X-Relaying-Domain: iol.unh.edu Date: Sun, 13 Jul 2025 18:23:35 -0700 (PDT) Message-ID: <68745c17.050a0220.27bb17.1b38SMTPIN_ADDED_MISSING@mx.google.com> Received: from [172.21.0.6] (unknown [172.18.0.240]) by postal.iol.unh.edu (Postfix) with ESMTP id 907546051830; Sun, 13 Jul 2025 21:23:34 -0400 (EDT) Subject: |SUCCESS| [GIT MASTER] 9fe9c0b231c8da5435bfccb1963121b4277f961c From: dpdklab@iol.unh.edu To: Test Report Cc: dpdk-test-reports@iol.unh.edu Content-Type: text/plain X-BeenThere: test-report@dpdk.org X-Mailman-Version: 2.1.29 Precedence: list List-Id: automatic DPDK test reports List-Unsubscribe: , List-Archive: List-Post: List-Help: List-Subscribe: , Errors-To: test-report-bounces@dpdk.org _Testing PASS_ Branch: dpdk 9fe9c0b231c8da5435bfccb1963121b4277f961c --> testing pass Upstream job id: Generic-Unit-Test-DPDK#355078 Test environment and result as below: +------------------------------+------------------------------+--------------+---------------------------+----------------+ | Environment | cryptodev_sw_snow3g_autotest | lpm_autotest | cryptodev_sw_zuc_autotest | dpdk_unit_test | +==============================+==============================+==============+===========================+================+ | Debian 12 (arm) | PASS | SKIPPED | PASS | SKIPPED | +------------------------------+------------------------------+--------------+---------------------------+----------------+ | Ubuntu 20.04 | SKIPPED | PASS | SKIPPED | PASS | +------------------------------+------------------------------+--------------+---------------------------+----------------+ | CentOS Stream 9 | SKIPPED | SKIPPED | SKIPPED | PASS | +------------------------------+------------------------------+--------------+---------------------------+----------------+ | CentOS Stream 10 | SKIPPED | SKIPPED | SKIPPED | PASS | +------------------------------+------------------------------+--------------+---------------------------+----------------+ | Fedora Linux 40 | SKIPPED | SKIPPED | SKIPPED | PASS | +------------------------------+------------------------------+--------------+---------------------------+----------------+ | Fedora Linux 41 | SKIPPED | SKIPPED | SKIPPED | PASS | +------------------------------+------------------------------+--------------+---------------------------+----------------+ | Debian GNU/Linux 12 | SKIPPED | SKIPPED | SKIPPED | PASS | +------------------------------+------------------------------+--------------+---------------------------+----------------+ | Ubuntu 22.04 | SKIPPED | SKIPPED | SKIPPED | PASS | +------------------------------+------------------------------+--------------+---------------------------+----------------+ | Red Hat Enterprise Linux 9.5 | SKIPPED | SKIPPED | SKIPPED | PASS | +------------------------------+------------------------------+--------------+---------------------------+----------------+ | Ubuntu 24.04 | SKIPPED | SKIPPED | SKIPPED | PASS | +------------------------------+------------------------------+--------------+---------------------------+----------------+ Debian 12 (arm) Kernel: Depends on container host Compiler: gcc (Debian 12.2.0-14) 12.2.0 Ubuntu 20.04 Kernel: 5.4 Compiler: gcc gcc (Ubuntu 9.4.0-1ubuntu1~20.04.2) 9.4.0 CentOS Stream 9 Kernel: 5.4 Compiler: gcc gcc (GCC) 11.5.0 20240719 (Red Hat 11.5.0-7) CentOS Stream 10 Kernel: 5.4 Compiler: gcc gcc (GCC) 14.2.1 20250110 (Red Hat 14.2.1-8) Fedora Linux 40 Kernel: 5.4 Compiler: gcc gcc (GCC) 14.2.1 20240912 (Red Hat 14.2.1-3) Fedora Linux 41 Kernel: 5.4 Compiler: gcc gcc (GCC) 14.3.1 20250523 (Red Hat 14.3.1-1) Debian GNU/Linux 12 Kernel: 5.4 Compiler: gcc gcc (Debian 12.2.0-14+deb12u1) 12.2.0 Ubuntu 22.04 Kernel: 5.4 Compiler: gcc gcc (Ubuntu 11.4.0-1ubuntu1~22.04) 11.4.0 Red Hat Enterprise Linux 9.5 Kernel: 5.4 Compiler: gcc gcc (GCC) 11.5.0 20240719 (Red Hat 11.5.0-2) Ubuntu 24.04 Kernel: 5.4 Compiler: gcc gcc (Ubuntu 13.3.0-6ubuntu2~24.04) 13.3.0 To view detailed results, visit: https://lab.dpdk.org/results/dashboard/tarballs/34252/ UNH-IOL DPDK Community Lab To manage your email subscriptions, visit: https://lab.dpdk.org/results/dashboard/preferences/subscriptions/