From mboxrd@z Thu Jan 1 00:00:00 1970 Return-Path: Received: from mails.dpdk.org (mails.dpdk.org [217.70.189.124]) by inbox.dpdk.org (Postfix) with ESMTP id 13EBA46B6A for ; Mon, 14 Jul 2025 03:30:38 +0200 (CEST) Received: from mails.dpdk.org (localhost [127.0.0.1]) by mails.dpdk.org (Postfix) with ESMTP id E864640041; Mon, 14 Jul 2025 03:30:37 +0200 (CEST) Received: from mail-qt1-f228.google.com (mail-qt1-f228.google.com [209.85.160.228]) by mails.dpdk.org (Postfix) with ESMTP id D26BF40041 for ; Mon, 14 Jul 2025 03:30:36 +0200 (CEST) Received: by mail-qt1-f228.google.com with SMTP id d75a77b69052e-4ab5aec969eso21213331cf.3 for ; Sun, 13 Jul 2025 18:30:36 -0700 (PDT) DKIM-Signature: v=1; a=rsa-sha256; c=relaxed/relaxed; d=iol.unh.edu; s=unh-iol; t=1752456636; x=1753061436; darn=dpdk.org; h=cc:to:from:subject:message-id:date:from:to:cc:subject:date :message-id:reply-to; bh=dYdfnuy89gZAM28G7ulhssGbpgaLO9a6yD4b7HKQ1IQ=; b=BJIufGbaDwozwwbCcOxnSPZiHVKj3HgCCxZxTiA81LTO38SZbxVYgINCJl/geP4Dni CF1gxFzVRgdYRcH/U6gpcCcAoh0FgI+MI/u2pSkq4lYpK3NseEzEyUsE6Pnvq5PBALPH 54NA2SMrJxEg/8E0I2IsrxPhgmR6SxZJBbtWk= X-Google-DKIM-Signature: v=1; a=rsa-sha256; c=relaxed/relaxed; d=1e100.net; s=20230601; t=1752456636; x=1753061436; h=cc:to:from:subject:message-id:date:x-gm-message-state:from:to:cc :subject:date:message-id:reply-to; bh=dYdfnuy89gZAM28G7ulhssGbpgaLO9a6yD4b7HKQ1IQ=; b=qxEPfVHZGbvZiWJnJ9xztP7hLXcDtg4Ru46s1AC8mHMAzmFqDpSq1N87qTgsGNuo11 CCkwi5gkN6ZyfkjSwtvu4U7qvkKNWsN3jQHzweM9GWxB8hqrNzm3y0ayjNCpPX4NemP0 4lMRj/dg9Zx/Qzu5yBhGgG9ETBlYFuPE7nC1XAZuzsw2QnZd9DSAL37/cuDFgmllJBa6 Kt3pTZo1vqcAmO4d8yJo+a3DNCSK8VB4nbF0OxvlgS3gW7/a1GV02ilt8foXeKgsvYG6 alhfDmcfdME1JZdRFiFeztiWR+A9GunTyZ/luq0xxG5nWbcXPa60vtkDo5rPo77UTt+1 Gcmw== X-Gm-Message-State: AOJu0Yx/ZaNkP2semYQ38bx1hQZhhtDArE6moWLxX1gkhaqJE3MWAqAd mwdvs7KuWxM7Z/iq47Mhk78rNNd1YGsY0ZqDtHmFisAsd7Eno1sqxBhHNg6YSWS3NzWwbU0eH9P mh5ByMYt+Zw3TauHdZHXsLkB5L431BU7ZLlDqqyd3Q39oggm9sTDbsiu+kxrB X-Gm-Gg: ASbGncv04ncGJyhpnayxKbBhLBxyC53prpAcc0DErV87tX+x1VUoMns6fwNyHEVTtjO gYx5DXBJFncexJ1cOC5nY7gstretUdJwYIdN9joEmys4k2U43yiYMgY1BE8v7Wog5RmU2rR6Xdz iypmwpvYi5z+QJPSsFVsijvva7+kQpDYLRAMFK4BubGRIactKFnfzNJBbPAZW4KWxpOKJGHeYir 5UTJXCy+m7WtJ2B4CViD2J/xsTlSK930Y2Sejd7oGfbnkH+A8o2jOQMG1hwpfc5sopGC7CfVAgO x/j/x4K7vXG/rsvIL4IEOl5Q4i4jZAptdF8wd8ZezSepWmUN5A== X-Google-Smtp-Source: AGHT+IHAdaAnFUPZdeLvk4VGVSrcD+7xVTEKIPyf/x29QQsK3wO7LDy5EK/HjLcFYFFzY8JFXnjH7HhuvCdV X-Received: by 2002:a05:622a:1345:b0:4a9:cdc9:c169 with SMTP id d75a77b69052e-4a9fb9831a0mr176252821cf.44.1752456636040; Sun, 13 Jul 2025 18:30:36 -0700 (PDT) Received: from postal.iol.unh.edu (postal.iol.unh.edu. [2606:4100:3880:1234::84]) by smtp-relay.gmail.com with ESMTPS id d75a77b69052e-4a9ede90c7asm3816671cf.19.2025.07.13.18.30.35 (version=TLS1_2 cipher=ECDHE-ECDSA-AES128-GCM-SHA256 bits=128/128); Sun, 13 Jul 2025 18:30:36 -0700 (PDT) X-Relaying-Domain: iol.unh.edu Date: Sun, 13 Jul 2025 18:30:36 -0700 (PDT) Message-ID: <68745dbc.050a0220.2d6275.522aSMTPIN_ADDED_MISSING@mx.google.com> Received: from [172.21.0.5] (unknown [172.18.0.240]) by postal.iol.unh.edu (Postfix) with ESMTP id 946F36051830; Sun, 13 Jul 2025 21:30:35 -0400 (EDT) Subject: |SUCCESS| [GIT MASTER] 9fe9c0b231c8da5435bfccb1963121b4277f961c From: dpdklab@iol.unh.edu To: Test Report Cc: dpdk-test-reports@iol.unh.edu Content-Type: text/plain X-BeenThere: test-report@dpdk.org X-Mailman-Version: 2.1.29 Precedence: list List-Id: automatic DPDK test reports List-Unsubscribe: , List-Archive: List-Post: List-Help: List-Subscribe: , Errors-To: test-report-bounces@dpdk.org _Testing PASS_ Branch: dpdk 9fe9c0b231c8da5435bfccb1963121b4277f961c --> testing pass Upstream job id: Generic-Unit-Test-DPDK#355088 Test environment and result as below: +-------------------------------+----------------+ | Environment | dpdk_unit_test | +===============================+================+ | Arch Linux 20250613.0.365270 | PASS | +-------------------------------+----------------+ | CentOS Stream 10 | PASS | +-------------------------------+----------------+ | CentOS Stream 9 | PASS | +-------------------------------+----------------+ | Fedora Linux 40 | PASS | +-------------------------------+----------------+ | Debian GNU/Linux 12 | PASS | +-------------------------------+----------------+ | Fedora Linux 41 | PASS | +-------------------------------+----------------+ | Red Hat Enterprise Linux 8.10 | PASS | +-------------------------------+----------------+ | Red Hat Enterprise Linux 9.5 | PASS | +-------------------------------+----------------+ | Ubuntu 20.04 | PASS | +-------------------------------+----------------+ | Ubuntu 24.04 | PASS | +-------------------------------+----------------+ | Ubuntu 22.04 | PASS | +-------------------------------+----------------+ | Windows Server 2022 | PASS | +-------------------------------+----------------+ Arch Linux 20250613.0.365270 Kernel: 5.15 Compiler: gcc gcc (GCC) 15.1.1 20250425 CentOS Stream 10 Kernel: 5.15 Compiler: gcc gcc (GCC) 14.2.1 20250110 (Red Hat 14.2.1-8) CentOS Stream 9 Kernel: 5.15 Compiler: gcc gcc (GCC) 11.5.0 20240719 (Red Hat 11.5.0-7) Fedora Linux 40 Kernel: 5.15 Compiler: gcc gcc (GCC) 14.2.1 20240912 (Red Hat 14.2.1-3) Debian GNU/Linux 12 Kernel: 5.15 Compiler: gcc gcc (Debian 12.2.0-14+deb12u1) 12.2.0 Fedora Linux 41 Kernel: 5.15 Compiler: gcc gcc (GCC) 14.3.1 20250523 (Red Hat 14.3.1-1) Red Hat Enterprise Linux 8.10 Kernel: 5.15 Compiler: gcc gcc (GCC) 8.5.0 20210514 (Red Hat 8.5.0-22) Red Hat Enterprise Linux 9.5 Kernel: 5.15 Compiler: gcc gcc (GCC) 11.5.0 20240719 (Red Hat 11.5.0-2) Ubuntu 20.04 Kernel: 5.15 Compiler: gcc gcc (Ubuntu 9.4.0-1ubuntu1~20.04.2) 9.4.0 Ubuntu 24.04 Kernel: 5.15 Compiler: gcc gcc (Ubuntu 13.3.0-6ubuntu2~24.04) 13.3.0 Ubuntu 22.04 Kernel: 5.15 Compiler: gcc gcc (Ubuntu 11.4.0-1ubuntu1~22.04) 11.4.0 Windows Server 2022 Kernel: 10.0.20348.2031 Compiler: clang 15.0.7, gcc 14.1.0 (MinGW), and MSVC VS 19.39.33521 To view detailed results, visit: https://lab.dpdk.org/results/dashboard/tarballs/34252/ UNH-IOL DPDK Community Lab To manage your email subscriptions, visit: https://lab.dpdk.org/results/dashboard/preferences/subscriptions/