From mboxrd@z Thu Jan 1 00:00:00 1970 Return-Path: Received: from mails.dpdk.org (mails.dpdk.org [217.70.189.124]) by inbox.dpdk.org (Postfix) with ESMTP id 81B5F46B6A for ; Mon, 14 Jul 2025 03:35:15 +0200 (CEST) Received: from mails.dpdk.org (localhost [127.0.0.1]) by mails.dpdk.org (Postfix) with ESMTP id 5A3B840041; Mon, 14 Jul 2025 03:35:15 +0200 (CEST) Received: from mail-oa1-f99.google.com (mail-oa1-f99.google.com [209.85.160.99]) by mails.dpdk.org (Postfix) with ESMTP id 392B940041 for ; Mon, 14 Jul 2025 03:35:14 +0200 (CEST) Received: by mail-oa1-f99.google.com with SMTP id 586e51a60fabf-2ff1ed124deso1206978fac.0 for ; Sun, 13 Jul 2025 18:35:14 -0700 (PDT) DKIM-Signature: v=1; a=rsa-sha256; c=relaxed/relaxed; d=iol.unh.edu; s=unh-iol; t=1752456913; x=1753061713; darn=dpdk.org; h=cc:to:from:subject:message-id:date:from:to:cc:subject:date :message-id:reply-to; bh=Ul4fIMQftmOiEGuOQyyiua5Be5a4+MvWNHPFfhgi8Ow=; b=HXyWsnXy5xJyk+uu8bwI6XN90xUKDD+LVbVWddGlQd1qwWJzkoyGt4KshKpv1z0Nro BFixnidiouAo+ala3CsgzPZWy7Wb2HiUwP3QpCCYUAl54sfcUjpS6pitiBNue4zLSvs9 1cegpFGo0epdxK6IYfnM8zzthv0QxEQzuXPU0= X-Google-DKIM-Signature: v=1; a=rsa-sha256; c=relaxed/relaxed; d=1e100.net; s=20230601; t=1752456913; x=1753061713; h=cc:to:from:subject:message-id:date:x-gm-message-state:from:to:cc :subject:date:message-id:reply-to; bh=Ul4fIMQftmOiEGuOQyyiua5Be5a4+MvWNHPFfhgi8Ow=; b=a+Nt+oK5Z+CMgg+LKSiaCKQWjLtchz+ydNl8Y1dksER0xSw0rrxFWg5KT4A/lILL2o M/UTtjZEQqEcOmtIlRmU6g2fUsqXWsQiewWporDGh2fTvVtMFa3m9XcpGB64k+nG6oih y6T4ANjHiuUDu3PZkFtqrpXdOguCdsAcr9KQk5eEMzwc5+xJu22zgC5OqKL3I0v2JEe5 q/rv9Zn9GmUXGCBUZag3cdj2/NcM18wk8RI6KuUAmLdHNbY0O/Ut5+KjTRLOmDc4QW1s rIgB4TZH6iTIijREl3I50Z2WYVObOEq9NlueMQAjOiU1BWayF9OxvAWUuY7CG1UK4SOM jiCw== X-Gm-Message-State: AOJu0Yy5VyNcKVBg/YXgf/wEfke2IxAi98CMhY04hPf3TTzN40tbWIq6 fDaRsVeBaS3n6dqsU/QjAdFdaiVaMw6G3OHVCwoRrE6HXcjwNKl3edGm8KqrqVtL55ZZvmR6tfK K5HuiuiFxej62shIjnj1YI92BI+974dAMG9kRpJJZ1I/fogcw0Vobki5jDT3r X-Gm-Gg: ASbGnctcw7L1McjSi7TcUkNsj5kUNYi9ijvRSteW13e+SHucfWdj3cPjsHRIHXPy5wp O2dop4NDiwwtxJXABF9Fwr6a3xRr1U8PiD7rjAjT6KAXbyHPYlzfs7OfF/53bZBH1J+jw/tQ/rz 4Vu375oYaowOkqGzcy/yV2q9qe76pqSvekW1j7kkJL1r2C9SxwqKI7yLw7dLVCtBsdev773BUth fvFUG+YVvV37BVU6vm5Y5SME0W+Gq6Jof2Zc40r57qsChJJ6WqpGwUyTgUQSir0JdxvJIxRdl8n 7ayLteORsKFr2r/FhPVHob8bfjx5dwqNRZ5IJiHTXIlx6RnQsw== X-Google-Smtp-Source: AGHT+IH4baiGluGnnZFGkupgdBdutByRExBabTko52rqyGnTV4kJvsubb0SlZHH/KjAxacAgtGj5+2VkC6N7 X-Received: by 2002:a05:6870:bb16:b0:2c1:6948:d57c with SMTP id 586e51a60fabf-2ff270740a5mr8168542fac.28.1752456913295; Sun, 13 Jul 2025 18:35:13 -0700 (PDT) Received: from postal.iol.unh.edu (postal.iol.unh.edu. [2606:4100:3880:1234::84]) by smtp-relay.gmail.com with ESMTPS id 586e51a60fabf-2ff111c371esm571862fac.7.2025.07.13.18.35.13 (version=TLS1_2 cipher=ECDHE-ECDSA-AES128-GCM-SHA256 bits=128/128); Sun, 13 Jul 2025 18:35:13 -0700 (PDT) X-Relaying-Domain: iol.unh.edu Date: Sun, 13 Jul 2025 18:35:13 -0700 (PDT) Message-ID: <68745ed1.050a0220.4fd2b.ee79SMTPIN_ADDED_MISSING@mx.google.com> Received: from [172.21.0.5] (unknown [172.18.0.240]) by postal.iol.unh.edu (Postfix) with ESMTP id C560B6051830; Sun, 13 Jul 2025 21:35:12 -0400 (EDT) Subject: |SUCCESS| [GIT MASTER] 9fe9c0b231c8da5435bfccb1963121b4277f961c From: dpdklab@iol.unh.edu To: Test Report Cc: dpdk-test-reports@iol.unh.edu Content-Type: text/plain X-BeenThere: test-report@dpdk.org X-Mailman-Version: 2.1.29 Precedence: list List-Id: automatic DPDK test reports List-Unsubscribe: , List-Archive: List-Post: List-Help: List-Subscribe: , Errors-To: test-report-bounces@dpdk.org _Testing PASS_ Branch: dpdk 9fe9c0b231c8da5435bfccb1963121b4277f961c --> testing pass Upstream job id: Generic-DPDK-Compile-ABI#134199 Test environment and result as below: +-------------------------------+----------+ | Environment | abi_test | +===============================+==========+ | CentOS Stream 9 | PASS | +-------------------------------+----------+ | Fedora Linux 41 | PASS | +-------------------------------+----------+ | Debian GNU/Linux 12 | PASS | +-------------------------------+----------+ | Red Hat Enterprise Linux 9.5 | PASS | +-------------------------------+----------+ | CentOS Stream 10 | PASS | +-------------------------------+----------+ | Red Hat Enterprise Linux 8.10 | PASS | +-------------------------------+----------+ | Ubuntu 24.04 | PASS | +-------------------------------+----------+ | Ubuntu 22.04 | PASS | +-------------------------------+----------+ | openSUSE Leap 15.6 | PASS | +-------------------------------+----------+ | Fedora Linux 40 | PASS | +-------------------------------+----------+ | Arch Linux 20250613.0.365270 | PASS | +-------------------------------+----------+ CentOS Stream 9 Kernel: 5.15 Compiler: gcc gcc (GCC) 11.5.0 20240719 (Red Hat 11.5.0-7) Fedora Linux 41 Kernel: 5.15 Compiler: gcc gcc (GCC) 14.3.1 20250523 (Red Hat 14.3.1-1) Debian GNU/Linux 12 Kernel: 5.15 Compiler: gcc gcc (Debian 12.2.0-14+deb12u1) 12.2.0 Red Hat Enterprise Linux 9.5 Kernel: 5.15 Compiler: gcc gcc (GCC) 11.5.0 20240719 (Red Hat 11.5.0-2) CentOS Stream 10 Kernel: 5.15 Compiler: gcc gcc (GCC) 14.2.1 20250110 (Red Hat 14.2.1-8) Red Hat Enterprise Linux 8.10 Kernel: 5.15 Compiler: gcc gcc (GCC) 8.5.0 20210514 (Red Hat 8.5.0-22) Ubuntu 24.04 Kernel: 5.15 Compiler: gcc gcc (Ubuntu 13.3.0-6ubuntu2~24.04) 13.3.0 Ubuntu 22.04 Kernel: 5.15 Compiler: gcc gcc (Ubuntu 11.4.0-1ubuntu1~22.04) 11.4.0 openSUSE Leap 15.6 Kernel: 5.15 Compiler: gcc gcc (SUSE Linux) 7.5.0 Fedora Linux 40 Kernel: 5.15 Compiler: clang gcc (GCC) 14.2.1 20240912 (Red Hat 14.2.1-3) Arch Linux 20250613.0.365270 Kernel: 5.15 Compiler: gcc gcc (GCC) 15.1.1 20250425 To view detailed results, visit: https://lab.dpdk.org/results/dashboard/tarballs/34252/ UNH-IOL DPDK Community Lab To manage your email subscriptions, visit: https://lab.dpdk.org/results/dashboard/preferences/subscriptions/