From mboxrd@z Thu Jan 1 00:00:00 1970 Return-Path: Received: from mails.dpdk.org (mails.dpdk.org [217.70.189.124]) by inbox.dpdk.org (Postfix) with ESMTP id D314C46B6A for ; Mon, 14 Jul 2025 03:50:38 +0200 (CEST) Received: from mails.dpdk.org (localhost [127.0.0.1]) by mails.dpdk.org (Postfix) with ESMTP id CF4B540041; Mon, 14 Jul 2025 03:50:38 +0200 (CEST) Received: from mail-qk1-f225.google.com (mail-qk1-f225.google.com [209.85.222.225]) by mails.dpdk.org (Postfix) with ESMTP id C74B240041 for ; Mon, 14 Jul 2025 03:50:37 +0200 (CEST) Received: by mail-qk1-f225.google.com with SMTP id af79cd13be357-7d20f79a00dso525016685a.0 for ; Sun, 13 Jul 2025 18:50:37 -0700 (PDT) DKIM-Signature: v=1; a=rsa-sha256; c=relaxed/relaxed; d=iol.unh.edu; s=unh-iol; t=1752457837; x=1753062637; darn=dpdk.org; h=cc:to:from:subject:message-id:date:from:to:cc:subject:date :message-id:reply-to; bh=djLXfAZ+mpvzEHEWgHK3eYyL3I6tj0/Tn+oIOg4g3NA=; b=bt1qpMXmmmLMis6ermGa0qUJ4MClUycFVvdJD4rton13Tx2/eH3Y4jOzcIMtW1vSlk mYhzXa0ZVFtSzWw0zz2wJa/DzboJmhZI1KnDUWe9gDF1rzFfWzQkv2aUET84SplVB3oU biUWJYe655QKtl24F/BpPp7Q1JvvQ97HRuJiQ= X-Google-DKIM-Signature: v=1; a=rsa-sha256; c=relaxed/relaxed; d=1e100.net; s=20230601; t=1752457837; x=1753062637; h=cc:to:from:subject:message-id:date:x-gm-message-state:from:to:cc :subject:date:message-id:reply-to; bh=djLXfAZ+mpvzEHEWgHK3eYyL3I6tj0/Tn+oIOg4g3NA=; b=uVR597mVdgaNmuDPx1ge1+IW83lgmLnk8k23/lW5bNEd2EE11ofPUaAhMMK0RSqJtj BNsn/3LEbCS2H8qzx1TxJJm37/MS5qrcNViepajyjYKxu40DqMw07InYu03wpk3BTb3X CWtN77+yi/su2THgcKN3n+l/DOLPqhXatof6n5gqbFRHI5hsuyQgZKzKughGEW3WSJVb 06yInkEmpYqNXUh9226HyeeJmsGEkNDiVvOti1u2cdfkUwScPPVmXiOZZAEFaA33GDUr qHNKOfoUIXoQoOdhTade1o0X8P6ztZ2m38Qz5zEC/mzrjEzX85srrPXB+B3/udz6YxUQ HoHw== X-Gm-Message-State: AOJu0YyLBP1HivUYNDfZu+P+tX2eTGNJN9p8vCEzY6DcZBGhDt0UyAip YIZmtByZp7F0KAQs08mZur1bG8VHTHCm5f/+xk5ERe659nHb5GT3rGwKe/esCrsMmLYGiTE2t4o eWqJ+7YjhyBLgaZHEX80NEWlm7+sY7omrhs3kVhSE/tW/ X-Gm-Gg: ASbGnct/Hk8Qe6GV3nnAJNZa8CQIz7U2+zacAoTZ4sp7rFUILuOcKqazXe3l/yN7DEW 90dE0ddKu3VFGTHRFTY0vqHrA4ID6VFysUhwpQkFa663BfkR84Aos/jVN57uRGnyKcMl5sjw+nP XuqFIO8A239+WFemFVyL6dyMFPdWa6+c5yiuaYKITy8o0wbU+ebh/HI6qI6b8dSHvUzCm9uANtp +UElZur8drXb3TZ+coGCvSpmTmf2nX3a7aOjJm4h1GnjCMUJ8/5LMG0cIxwwH+/6VNwz9IL6GbG eaOFLkSgqmAVZdcFEQ5uoDD0xGsfrjtKCW03MU4KdzNYeNlTYkLa274UqKBRA+j/pXtrwdzj X-Google-Smtp-Source: AGHT+IEbQzuWbVtVCkxCi+pyhcqUnegO6up2HKOatMW/flr/rQV9gxyvyZj2qkggbuOLvkwdNGL92S28ceTQ X-Received: by 2002:a05:620a:8016:b0:7e2:9c28:c308 with SMTP id af79cd13be357-7e29c28c679mr364483985a.18.1752457837024; Sun, 13 Jul 2025 18:50:37 -0700 (PDT) Received: from postal.iol.unh.edu (postal.iol.unh.edu. [132.177.123.84]) by smtp-relay.gmail.com with ESMTPS id af79cd13be357-7dcde7072b3sm11904785a.8.2025.07.13.18.50.36 (version=TLS1_2 cipher=ECDHE-ECDSA-AES128-GCM-SHA256 bits=128/128); Sun, 13 Jul 2025 18:50:36 -0700 (PDT) X-Relaying-Domain: iol.unh.edu Date: Sun, 13 Jul 2025 18:50:36 -0700 (PDT) Message-ID: <6874626c.050a0220.98344.5bddSMTPIN_ADDED_MISSING@mx.google.com> Received: from [172.21.0.5] (unknown [172.18.0.240]) by postal.iol.unh.edu (Postfix) with ESMTP id 986C26051830; Sun, 13 Jul 2025 21:50:36 -0400 (EDT) Subject: |SUCCESS| [GIT MASTER] 9fe9c0b231c8da5435bfccb1963121b4277f961c From: dpdklab@iol.unh.edu To: Test Report Cc: dpdk-test-reports@iol.unh.edu Content-Type: text/plain X-BeenThere: test-report@dpdk.org X-Mailman-Version: 2.1.29 Precedence: list List-Id: automatic DPDK test reports List-Unsubscribe: , List-Archive: List-Post: List-Help: List-Subscribe: , Errors-To: test-report-bounces@dpdk.org _Testing PASS_ Branch: dpdk 9fe9c0b231c8da5435bfccb1963121b4277f961c --> testing pass Upstream job id: Generic-DPDK-Compile-Meson#408341 Test environment and result as below: +-------------------------------+--------------------+-------------------+------------------+-------------------------+-------------------+----------------------+ | Environment | dpdk_meson_compile | dpdk_compile_spdk | dpdk_compile_ovs | dpdk_llvm_clang_compile | dpdk_msvc_compile | dpdk_mingw64_compile | +===============================+====================+===================+==================+=========================+===================+======================+ | CentOS Stream 9 | PASS | PASS | SKIPPED | SKIPPED | SKIPPED | SKIPPED | +-------------------------------+--------------------+-------------------+------------------+-------------------------+-------------------+----------------------+ | CentOS Stream 10 | PASS | SKIPPED | SKIPPED | SKIPPED | SKIPPED | SKIPPED | +-------------------------------+--------------------+-------------------+------------------+-------------------------+-------------------+----------------------+ | Fedora Linux 40 | PASS | PASS | SKIPPED | SKIPPED | SKIPPED | SKIPPED | +-------------------------------+--------------------+-------------------+------------------+-------------------------+-------------------+----------------------+ | Debian GNU/Linux 12 | PASS | PASS | SKIPPED | SKIPPED | SKIPPED | SKIPPED | +-------------------------------+--------------------+-------------------+------------------+-------------------------+-------------------+----------------------+ | Fedora Linux 41 | PASS | PASS | PASS | SKIPPED | SKIPPED | SKIPPED | +-------------------------------+--------------------+-------------------+------------------+-------------------------+-------------------+----------------------+ | Red Hat Enterprise Linux 8.10 | PASS | SKIPPED | SKIPPED | SKIPPED | SKIPPED | SKIPPED | +-------------------------------+--------------------+-------------------+------------------+-------------------------+-------------------+----------------------+ | openSUSE Leap 15.6 | PASS | SKIPPED | SKIPPED | SKIPPED | SKIPPED | SKIPPED | +-------------------------------+--------------------+-------------------+------------------+-------------------------+-------------------+----------------------+ | Red Hat Enterprise Linux 9.5 | PASS | SKIPPED | SKIPPED | SKIPPED | SKIPPED | SKIPPED | +-------------------------------+--------------------+-------------------+------------------+-------------------------+-------------------+----------------------+ | Ubuntu 20.04 | PASS | SKIPPED | SKIPPED | SKIPPED | SKIPPED | SKIPPED | +-------------------------------+--------------------+-------------------+------------------+-------------------------+-------------------+----------------------+ | Ubuntu 24.04 | PASS | PASS | PASS | SKIPPED | SKIPPED | SKIPPED | +-------------------------------+--------------------+-------------------+------------------+-------------------------+-------------------+----------------------+ | Ubuntu 22.04 | PASS | PASS | SKIPPED | SKIPPED | SKIPPED | SKIPPED | +-------------------------------+--------------------+-------------------+------------------+-------------------------+-------------------+----------------------+ | Arch Linux 20250613.0.365270 | PASS | SKIPPED | SKIPPED | SKIPPED | SKIPPED | SKIPPED | +-------------------------------+--------------------+-------------------+------------------+-------------------------+-------------------+----------------------+ | Alpine Linux 3.22.0 | PASS | SKIPPED | SKIPPED | SKIPPED | SKIPPED | SKIPPED | +-------------------------------+--------------------+-------------------+------------------+-------------------------+-------------------+----------------------+ | FreeBSD 14.2 | PASS | SKIPPED | SKIPPED | SKIPPED | SKIPPED | SKIPPED | +-------------------------------+--------------------+-------------------+------------------+-------------------------+-------------------+----------------------+ | Windows Server 2022 | SKIPPED | SKIPPED | SKIPPED | PASS | PASS | PASS | +-------------------------------+--------------------+-------------------+------------------+-------------------------+-------------------+----------------------+ CentOS Stream 9 Kernel: 5.15 Compiler: gcc gcc (GCC) 11.5.0 20240719 (Red Hat 11.5.0-7) CentOS Stream 10 Kernel: 5.15 Compiler: gcc gcc (GCC) 14.2.1 20250110 (Red Hat 14.2.1-8) Fedora Linux 40 Kernel: 5.15 Compiler: clang gcc (GCC) 14.2.1 20240912 (Red Hat 14.2.1-3) Debian GNU/Linux 12 Kernel: 5.15 Compiler: gcc gcc (Debian 12.2.0-14+deb12u1) 12.2.0 Fedora Linux 41 Kernel: 5.15 Compiler: clang gcc (GCC) 14.3.1 20250523 (Red Hat 14.3.1-1) Red Hat Enterprise Linux 8.10 Kernel: 5.15 Compiler: gcc gcc (GCC) 8.5.0 20210514 (Red Hat 8.5.0-22) openSUSE Leap 15.6 Kernel: 5.15 Compiler: gcc gcc (SUSE Linux) 7.5.0 Red Hat Enterprise Linux 9.5 Kernel: 5.15 Compiler: gcc gcc (GCC) 11.5.0 20240719 (Red Hat 11.5.0-2) Ubuntu 20.04 Kernel: 5.15 Compiler: gcc gcc (Ubuntu 9.4.0-1ubuntu1~20.04.2) 9.4.0 Ubuntu 24.04 Kernel: 5.15 Compiler: gcc gcc (Ubuntu 13.3.0-6ubuntu2~24.04) 13.3.0 Ubuntu 22.04 Kernel: 5.15 Compiler: gcc gcc (Ubuntu 11.4.0-1ubuntu1~22.04) 11.4.0 Arch Linux 20250613.0.365270 Kernel: 5.15 Compiler: gcc gcc (GCC) 15.1.1 20250425 Alpine Linux 3.22.0 Kernel: 5.15 Compiler: gcc gcc (Alpine 14.2.0) 14.2.0 FreeBSD 14.2 Kernel: 14.2-RELEASE Compiler: clang 18.1.6 Windows Server 2022 Kernel: 10.0.20348.2031 Compiler: clang 15.0.7, gcc 14.1.0 (MinGW), and MSVC VS 19.39.33521 To view detailed results, visit: https://lab.dpdk.org/results/dashboard/tarballs/34252/ UNH-IOL DPDK Community Lab To manage your email subscriptions, visit: https://lab.dpdk.org/results/dashboard/preferences/subscriptions/