From mboxrd@z Thu Jan 1 00:00:00 1970 Return-Path: Received: from mails.dpdk.org (mails.dpdk.org [217.70.189.124]) by inbox.dpdk.org (Postfix) with ESMTP id 13EAD46B6B for ; Mon, 14 Jul 2025 05:34:15 +0200 (CEST) Received: from mails.dpdk.org (localhost [127.0.0.1]) by mails.dpdk.org (Postfix) with ESMTP id E041140041; Mon, 14 Jul 2025 05:34:14 +0200 (CEST) Received: from mail-oa1-f99.google.com (mail-oa1-f99.google.com [209.85.160.99]) by mails.dpdk.org (Postfix) with ESMTP id 078D440041 for ; Mon, 14 Jul 2025 05:34:14 +0200 (CEST) Received: by mail-oa1-f99.google.com with SMTP id 586e51a60fabf-2ebb72384dbso1155763fac.1 for ; Sun, 13 Jul 2025 20:34:13 -0700 (PDT) DKIM-Signature: v=1; a=rsa-sha256; c=relaxed/relaxed; d=iol.unh.edu; s=unh-iol; t=1752464053; x=1753068853; darn=dpdk.org; h=cc:to:from:subject:message-id:date:from:to:cc:subject:date :message-id:reply-to; bh=EwsPSbb0qSO5at5jWSi/nlbeAi7GAtomJnPoRL5S/qk=; b=AiLV93a7mcugqjrUp4lDV74kXc/RN113aarAFgO7HJXvdNcb75EzK5eu27FO/oBN5d SU54nNm81QLcPGGRyuJllosrUy8Q7K+fs5BObCUdd7KqjMMdD8n23HubTMpJsyXTMsZ1 Ehv/WvW7RKgnoT0BTW+Gt7VBbFni6FxzItUuU= X-Google-DKIM-Signature: v=1; a=rsa-sha256; c=relaxed/relaxed; d=1e100.net; s=20230601; t=1752464053; x=1753068853; h=cc:to:from:subject:message-id:date:x-gm-message-state:from:to:cc :subject:date:message-id:reply-to; bh=EwsPSbb0qSO5at5jWSi/nlbeAi7GAtomJnPoRL5S/qk=; b=O+6efdENkHtPd7Z2j6uppKVnOixI3galXos3sNgA0Vdum71L2xYYYJyKMCCq5pDupD dSAQ4mkvEOxzOt+zDqtZ2UswO6uelFyAsuSKoPtb5w9p+h+JyxDxnK0UIZuRE7No8mur e2/witQt1BVrDLJh31ZVP8Gc5VEY/7Zajr7XeF/a7wBqA3V8GWhAIRajFxKEXbw0ZKt+ Y67DMQUGNJxiF2EeUys++LZ2wy7aAriVlDiQfne94N6nggEZuX3jlfCmqiE4OMyeiH31 ryDyrGiZEpRggNGygGTagnaqZatpNmI5U9M0pMJVLGxzILHWhwPP4VLCrD9NvkhOyUxE VT/A== X-Gm-Message-State: AOJu0YwLT/bYrGk1klQ49Nr2rIppwhM+GNRQwCsqyLxcoTbZZTFRF98S SLUTGSaNcLYdyWhUj0m8sPbc4bo1zwYuAOXTE133b6KoA5XEfNk3w5X3bxfF3gsEgGLRua++IWt AXwikD4lOFTYDBqffrTyUdfdomXhR5HWqaLnGPWxXD21Tyqan5qXgFoJMkmxo X-Gm-Gg: ASbGncsnDWSDfXB/FNFKwiHRKLmB3gHMV46dSYhfaPtbqsqaq3UEPMYGeePKEOOHFt2 6sLmnqPVYKOdthbcPYT6WhEp4nsakkV1avNn583pwFfo/ze3RKDRcWG4BmmgU6EIfAVCwi/zgMx GSiKgPdfFmOZ6SaVW0zjlRQyhDXQgmx/HQii0/2OEmhS5EjXMu7v1a5jOCxgBncHP3w5kjiIbIF joIaWt/LoYbemw3afZVzHmaPs5GuC/C+tLCGreoC/84WoVSfBuGTmRiEHZQvtHJOEziuEtLA9LT 6jc/J1QABOE4pUAhv/s/H2Y2+qUpmDFfTO2YcSf0W+LV1penxQ== X-Google-Smtp-Source: AGHT+IGiDgej9DW2wJh4XtRVVacta5HkvW5CyLwEHSAAmzo9XVRxpRmAaFZgNa2L1m0QaOatRYHzHeQFzN9b X-Received: by 2002:a05:6871:360a:b0:2d6:6633:463a with SMTP id 586e51a60fabf-2ff267487e9mr7375146fac.8.1752464053121; Sun, 13 Jul 2025 20:34:13 -0700 (PDT) Received: from postal.iol.unh.edu (postal.iol.unh.edu. [2606:4100:3880:1234::84]) by smtp-relay.gmail.com with ESMTPS id 006d021491bc7-613d9f251fasm136374eaf.24.2025.07.13.20.34.13 (version=TLS1_2 cipher=ECDHE-ECDSA-AES128-GCM-SHA256 bits=128/128); Sun, 13 Jul 2025 20:34:13 -0700 (PDT) X-Relaying-Domain: iol.unh.edu Date: Sun, 13 Jul 2025 20:34:13 -0700 (PDT) Message-ID: <68747ab5.050a0220.9495f.6f96SMTPIN_ADDED_MISSING@mx.google.com> Received: from [172.21.0.5] (unknown [172.18.0.240]) by postal.iol.unh.edu (Postfix) with ESMTP id 96B2C6051830; Sun, 13 Jul 2025 23:34:12 -0400 (EDT) Subject: |SUCCESS| [GIT MASTER] 9fe9c0b231c8da5435bfccb1963121b4277f961c From: dpdklab@iol.unh.edu To: Test Report Cc: dpdk-test-reports@iol.unh.edu Content-Type: text/plain X-BeenThere: test-report@dpdk.org X-Mailman-Version: 2.1.29 Precedence: list List-Id: automatic DPDK test reports List-Unsubscribe: , List-Archive: List-Post: List-Help: List-Subscribe: , Errors-To: test-report-bounces@dpdk.org _Testing PASS_ Branch: dpdk 9fe9c0b231c8da5435bfccb1963121b4277f961c --> testing pass Upstream job id: Generic-DPDK-Compile-Meson#408351 Test environment and result as below: +------------------------------+--------------------+ | Environment | dpdk_meson_compile | +==============================+====================+ | Red Hat Enterprise Linux 9.5 | PASS | +------------------------------+--------------------+ | Ubuntu 20.04 | PASS | +------------------------------+--------------------+ | Debian GNU/Linux 12 | PASS | +------------------------------+--------------------+ | Fedora Linux 40 | PASS | +------------------------------+--------------------+ | Fedora Linux 41 | PASS | +------------------------------+--------------------+ | Ubuntu 22.04 | PASS | +------------------------------+--------------------+ | CentOS Stream 9 | PASS | +------------------------------+--------------------+ | Ubuntu 24.04 | PASS | +------------------------------+--------------------+ | CentOS Stream 10 | PASS | +------------------------------+--------------------+ Red Hat Enterprise Linux 9.5 Kernel: 5.4 Compiler: gcc gcc (GCC) 11.5.0 20240719 (Red Hat 11.5.0-2) Ubuntu 20.04 Kernel: 5.15 Compiler: aarch64-linux-gnu-gcc gcc (Ubuntu 9.4.0-1ubuntu1~20.04.2) 9.4.0 Debian GNU/Linux 12 Kernel: 5.4 Compiler: gcc gcc (Debian 12.2.0-14+deb12u1) 12.2.0 Fedora Linux 40 Kernel: 5.4 Compiler: gcc gcc (GCC) 14.2.1 20240912 (Red Hat 14.2.1-3) Fedora Linux 41 Kernel: 5.4 Compiler: gcc gcc (GCC) 14.3.1 20250523 (Red Hat 14.3.1-1) Ubuntu 22.04 Kernel: 5.4 Compiler: gcc gcc (Ubuntu 11.4.0-1ubuntu1~22.04) 11.4.0 CentOS Stream 9 Kernel: 5.4 Compiler: gcc gcc (GCC) 11.5.0 20240719 (Red Hat 11.5.0-7) Ubuntu 24.04 Kernel: 5.4 Compiler: gcc gcc (Ubuntu 13.3.0-6ubuntu2~24.04) 13.3.0 CentOS Stream 10 Kernel: 5.4 Compiler: gcc gcc (GCC) 14.2.1 20250110 (Red Hat 14.2.1-8) To view detailed results, visit: https://lab.dpdk.org/results/dashboard/tarballs/34252/ UNH-IOL DPDK Community Lab To manage your email subscriptions, visit: https://lab.dpdk.org/results/dashboard/preferences/subscriptions/