From mboxrd@z Thu Jan 1 00:00:00 1970 Return-Path: Received: from mails.dpdk.org (mails.dpdk.org [217.70.189.124]) by inbox.dpdk.org (Postfix) with ESMTP id 5288046B5A for ; Mon, 14 Jul 2025 09:02:31 +0200 (CEST) Received: from mails.dpdk.org (localhost [127.0.0.1]) by mails.dpdk.org (Postfix) with ESMTP id 4C989400D5; Mon, 14 Jul 2025 09:02:31 +0200 (CEST) Received: from mail-qk1-f228.google.com (mail-qk1-f228.google.com [209.85.222.228]) by mails.dpdk.org (Postfix) with ESMTP id E62EF400D5 for ; Mon, 14 Jul 2025 09:02:29 +0200 (CEST) Received: by mail-qk1-f228.google.com with SMTP id af79cd13be357-7dfe2339eccso231657685a.0 for ; Mon, 14 Jul 2025 00:02:29 -0700 (PDT) DKIM-Signature: v=1; a=rsa-sha256; c=relaxed/relaxed; d=iol.unh.edu; s=unh-iol; t=1752476549; x=1753081349; darn=dpdk.org; h=references:in-reply-to:cc:to:from:subject:message-id:date:from:to :cc:subject:date:message-id:reply-to; bh=b3I3dv8tyj77UXZny4iE6R8pqswL6umdXkGfXM96QbU=; b=UUlMa1D99mSZQpdOdCzM7N7wA58jMBsHLx4ElPf0XLquNxlGQnrBfBfrjeAdHGAbp7 W8O1NvmsTOWX5PwADFvry3MoRO2ydIQisRc0AGteqPHuRpL20ajXbKVItyftoFdauXxQ r5wp53RKKJlW2SEEopY9aUMFbj46EktK9He9g= X-Google-DKIM-Signature: v=1; a=rsa-sha256; c=relaxed/relaxed; d=1e100.net; s=20230601; t=1752476549; x=1753081349; h=references:in-reply-to:cc:to:from:subject:message-id:date :x-gm-message-state:from:to:cc:subject:date:message-id:reply-to; bh=b3I3dv8tyj77UXZny4iE6R8pqswL6umdXkGfXM96QbU=; b=XAV32oc8GJLDYH8em32csGYN9T4SAZe08sSWonO3XVE+Yol1gBdIYj1TogyZRRmCjF Q2incH4Kpt74dKElaIaI1l/RfHZnvR1LrMv2jRu6nrMmN70lrvEt451lrRU+geRSKCJx Afxac/v3YKhoK1Gf12fjGf5pYI3oX0SJkbT/6Rf+APURN/QSzgl6FlHdBRNTUbd/Npuu Rj6oUpbBybHCA9B0aabT/qf1gdkijPrGTOvCR4E0+9HG/CfA+H3w3EZ6Jl5/9q+zud1A JokF9krF5ByQ7vKFQygRfJyQyj8lIeQmX61KhFgNWzxQXpdR/5uVWeeSxtyDZBmWcS+j Hrug== X-Gm-Message-State: AOJu0YwcczYxG26grttUWstDsQVhj3cT+CKvgqDnpfD7ua2EzT+Q4XdL PBD6fKySg190wQkoij3S08Ne6OUruI5aIApmKi1PpJZkY9jYeVZhq5yqaQONPwFVVWyZgpaLCkv 9n96ZOCZQkwTKlfCf91nMbtcVS357L3FaCL+t9vkNXeY6MOjbfRTwYVShQ7lB X-Gm-Gg: ASbGnctQjij4x55nqlqmSo2UJtbiJlu0BVAh76jEIUPcsAHpUCfUAkZOUIZqQJAwplF TS8cNEryvnvZwLB99OSofQ6LUb4Af8YHe716azeiv6F/XUhdXqNVeDJJqXSIK7S+EIYNOKOk1f4 aQPAHWX1hFDhw72ocxVOlLqB/JXKT9SNAtTOK6yr1SNJWtnSm6H/F6Vm7kOvniaVkLEBpZK6ow/ k13CwaxFdjFjuDALRC9y/g633ara8wW6E82MzPHKZC5bcmXgjmclGUCgGExsF2QpDpvyO2PPkD0 7HOqbyGJaohheX8ieVxyUs+a/JzO+mdGiwYmrBQqC/ES3XJ81w== X-Google-Smtp-Source: AGHT+IFKpvB9Ct2/Jfh52bu2URNL9FOmUfnkS8HPw5bHW+D7pi2kuF6yc2WbX1oTJo1KeBZcTqL6XdrHKnHc X-Received: by 2002:a05:620a:45a2:b0:7d5:db77:da81 with SMTP id af79cd13be357-7dc977d9068mr2123194785a.1.1752476549283; Mon, 14 Jul 2025 00:02:29 -0700 (PDT) Received: from postal.iol.unh.edu (postal.iol.unh.edu. [2606:4100:3880:1234::84]) by smtp-relay.gmail.com with ESMTPS id 6a1803df08f44-70497d59c21sm4759886d6.46.2025.07.14.00.02.29 (version=TLS1_2 cipher=ECDHE-ECDSA-AES128-GCM-SHA256 bits=128/128); Mon, 14 Jul 2025 00:02:29 -0700 (PDT) X-Relaying-Domain: iol.unh.edu Date: Mon, 14 Jul 2025 00:02:29 -0700 (PDT) Message-ID: <6874ab85.d40a0220.15e19e.99dbSMTPIN_ADDED_MISSING@mx.google.com> Received: from [172.21.0.6] (unknown [172.18.0.240]) by postal.iol.unh.edu (Postfix) with ESMTP id 06F956050A61; Mon, 14 Jul 2025 03:02:29 -0400 (EDT) Subject: |SUCCESS| pw155197 [PATCH] [v0,1/1] net/octeon_ep: handle interrupt From: dpdklab@iol.unh.edu To: Test Report Cc: dpdk-test-reports@iol.unh.edu In-Reply-To: <20250714053150.2229683-1-vattunuru@marvell.com> References: <20250714053150.2229683-1-vattunuru@marvell.com> Content-Type: text/plain X-BeenThere: test-report@dpdk.org X-Mailman-Version: 2.1.29 Precedence: list List-Id: automatic DPDK test reports List-Unsubscribe: , List-Archive: List-Post: List-Help: List-Subscribe: , Errors-To: test-report-bounces@dpdk.org Test-Label: iol-compile-amd64-testing Test-Status: SUCCESS http://dpdk.org/patch/155197 _Testing PASS_ Submitter: Vamsi Krishna Date: Monday, July 14 2025 05:31:50 DPDK git baseline: Repo:dpdk Branch: master CommitID:3761152ec7f99c9b60c9cc933102d35fa663393a 155197 --> testing pass Upstream job id: Windows-Compile-DPDK-Native#29769 Test environment and result as below: +---------------------+-------------------------+-------------------+--------------------+----------------------+ | Environment | dpdk_llvm_clang_compile | dpdk_msvc_compile | dpdk_meson_compile | dpdk_mingw64_compile | +=====================+=========================+===================+====================+======================+ | Windows Server 2022 | PASS | PASS | SKIPPED | PASS | +---------------------+-------------------------+-------------------+--------------------+----------------------+ | Ubuntu 20.04 | SKIPPED | SKIPPED | PASS | SKIPPED | +---------------------+-------------------------+-------------------+--------------------+----------------------+ | FreeBSD 14.2 | SKIPPED | SKIPPED | PASS | SKIPPED | +---------------------+-------------------------+-------------------+--------------------+----------------------+ Windows Server 2022 Kernel: 10.0.20348.2031 Compiler: clang 15.0.7, gcc 14.1.0 (MinGW), and MSVC VS 19.39.33521 Ubuntu 20.04 Kernel: 4.19 Compiler: gcc gcc (Ubuntu 9.4.0-1ubuntu1~20.04.2) 9.4.0 FreeBSD 14.2 Kernel: 14.2-RELEASE Compiler: clang 18.1.6 To view detailed results, visit: https://lab.dpdk.org/results/dashboard/patchsets/33644/ UNH-IOL DPDK Community Lab To manage your email subscriptions, visit: https://lab.dpdk.org/results/dashboard/preferences/subscriptions/