From mboxrd@z Thu Jan 1 00:00:00 1970 Return-Path: Received: from mails.dpdk.org (mails.dpdk.org [217.70.189.124]) by inbox.dpdk.org (Postfix) with ESMTP id 869B146B5A for ; Mon, 14 Jul 2025 09:26:20 +0200 (CEST) Received: from mails.dpdk.org (localhost [127.0.0.1]) by mails.dpdk.org (Postfix) with ESMTP id 7F845400D5; Mon, 14 Jul 2025 09:26:20 +0200 (CEST) Received: from mail-pg1-f228.google.com (mail-pg1-f228.google.com [209.85.215.228]) by mails.dpdk.org (Postfix) with ESMTP id 59C0B400D5 for ; Mon, 14 Jul 2025 09:26:19 +0200 (CEST) Received: by mail-pg1-f228.google.com with SMTP id 41be03b00d2f7-b321bd36a41so3545047a12.2 for ; Mon, 14 Jul 2025 00:26:19 -0700 (PDT) DKIM-Signature: v=1; a=rsa-sha256; c=relaxed/relaxed; d=iol.unh.edu; s=unh-iol; t=1752477978; x=1753082778; darn=dpdk.org; h=references:in-reply-to:cc:to:from:subject:message-id:date:from:to :cc:subject:date:message-id:reply-to; bh=e9SIJcBuowWFp09HG5GNpYqSOFGbFEiY2G/QQuLo9Kc=; b=dXfcIGdXjzjlRQ13bIwkFOFjol7RDo2O4q6hHgRxuI1/ckvI+/XpoyuPQzQfuBNOyS OkxGokYiwKLbuiTfG8bGg5D9U8Xvwt3qWOE7RDxCW+M4/r/lu370dYwuAuIE6XwQQIqP JpMCn2TXDKSAwW0aRw8oeUd7Ct6DOIiEafvU4= X-Google-DKIM-Signature: v=1; a=rsa-sha256; c=relaxed/relaxed; d=1e100.net; s=20230601; t=1752477978; x=1753082778; h=references:in-reply-to:cc:to:from:subject:message-id:date :x-gm-message-state:from:to:cc:subject:date:message-id:reply-to; bh=e9SIJcBuowWFp09HG5GNpYqSOFGbFEiY2G/QQuLo9Kc=; b=b7SC5q82OX70QcF+ZU0Zdka+XCkyw2F5UFkB+8VHeCHpDKOpygGQY7SVzQ3zhHmkGh yc9rZfUm5ZP2NmtLgnz6RiAr0/nzU2JCrFpH1ZvSGMTk6QLj8Vt3WJ8CS7XqMyDBzgED mZVYkWI7iY3xfNRl2nUNMsoJNOmZtHIABkBP+tvf6kooJmJaG6GIdCoZS7EsuFmnzDBh xFrxs2u23JhUkmuck0cavdFpKhJbr+qTBS0v6xjKBlLwn8anVtKvsJxZZYUm4TiU/o4U EhrX95l4sMkbN1AbjK68/NxER5+9nTa5rvKVBYlJctCWuDCtnzG9gVj27jRpt7/b0Zou V7gw== X-Gm-Message-State: AOJu0YxxekcV1SaaLvvCom4j8gBWsJg756/Z4jjJlmBceFN0EQaJOVzk r3U7IvOzsRGWgqYVVjBKadn+h/WmlDpORohtrFb+izuHN8cElc0xs5JuquFYOVhOMGX1VhN06ob hT1lPAxJ3h7SzMUARumAub22W3Nz84c8bL9zEHqx/kPAA4QT+6HzoocWu05jp X-Gm-Gg: ASbGncuy1ZidfF/ckjXFI6zHmquZdOtfYdx0rX6VDcuj+vxMfegsrMH66X0Goq8obTz k82WMrr14DendK5iCsCwbnwSBY8orNbP/pHJg8erg/OSmgcpZt8Ud2qC/px/4yyc0N6TVti44jT q8VkKZrG/FG7LCn1HsUe6S7KC25zrTAj+iUREZmrFn8NpLgxanfXUyFvnc3SVxIdwuY7lLEsI0a Qm3i5B6es3CI69YRIwmmQyurENwVaQO31B3hlqjcdeOJrMKQTmLA/33jQBpy5bt8iYFlhpZR2dA c2Gg+8NyoQUv2ZroBs8Rme21jGSuLziYr6/VBJsFLKMKHDHD3w== X-Google-Smtp-Source: AGHT+IG+B4Dwz/vXAHCvNWUvkAlyKrnPbZ9lM/mCjG9XTUSiMIOJZ6mjPr+1KW0dMa3ay9stJXECQ9mGZLFp X-Received: by 2002:a17:90b:54c8:b0:311:e731:523a with SMTP id 98e67ed59e1d1-31c4f4ae190mr18645277a91.11.1752477978317; Mon, 14 Jul 2025 00:26:18 -0700 (PDT) Received: from postal.iol.unh.edu (postal.iol.unh.edu. [2606:4100:3880:1234::84]) by smtp-relay.gmail.com with ESMTPS id 98e67ed59e1d1-31c3eb63c14sm703477a91.12.2025.07.14.00.26.18 (version=TLS1_2 cipher=ECDHE-ECDSA-AES128-GCM-SHA256 bits=128/128); Mon, 14 Jul 2025 00:26:18 -0700 (PDT) X-Relaying-Domain: iol.unh.edu Date: Mon, 14 Jul 2025 00:26:18 -0700 (PDT) Message-ID: <6874b11a.170a0220.dd170.6f2eSMTPIN_ADDED_MISSING@mx.google.com> Received: from [172.21.0.5] (unknown [172.18.0.240]) by postal.iol.unh.edu (Postfix) with ESMTP id 755C66050A61; Mon, 14 Jul 2025 03:26:17 -0400 (EDT) Subject: |SUCCESS| pw155198 [PATCH] [v0,1/1] net/octeon_ep: fix mbuf data off From: dpdklab@iol.unh.edu To: Test Report Cc: dpdk-test-reports@iol.unh.edu In-Reply-To: <20250714054041.2257589-1-vattunuru@marvell.com> References: <20250714054041.2257589-1-vattunuru@marvell.com> Content-Type: text/plain X-BeenThere: test-report@dpdk.org X-Mailman-Version: 2.1.29 Precedence: list List-Id: automatic DPDK test reports List-Unsubscribe: , List-Archive: List-Post: List-Help: List-Subscribe: , Errors-To: test-report-bounces@dpdk.org Test-Label: iol-compile-amd64-testing Test-Status: SUCCESS http://dpdk.org/patch/155198 _Testing PASS_ Submitter: Vamsi Krishna Date: Monday, July 14 2025 05:40:41 DPDK git baseline: Repo:dpdk Branch: master CommitID:3761152ec7f99c9b60c9cc933102d35fa663393a 155198 --> testing pass Upstream job id: Windows-Compile-DPDK-Native#29770 Test environment and result as below: +---------------------+--------------------+-------------------+-------------------------+ | Environment | dpdk_meson_compile | dpdk_msvc_compile | dpdk_llvm_clang_compile | +=====================+====================+===================+=========================+ | Ubuntu 20.04 | PASS | SKIPPED | SKIPPED | +---------------------+--------------------+-------------------+-------------------------+ | FreeBSD 14.2 | PASS | SKIPPED | SKIPPED | +---------------------+--------------------+-------------------+-------------------------+ | Windows Server 2022 | SKIPPED | PASS | PASS | +---------------------+--------------------+-------------------+-------------------------+ Ubuntu 20.04 Kernel: 4.19 Compiler: gcc gcc (Ubuntu 9.4.0-1ubuntu1~20.04.2) 9.4.0 FreeBSD 14.2 Kernel: 14.2-RELEASE Compiler: clang 18.1.6 Windows Server 2022 Kernel: 10.0.20348.2031 Compiler: clang 15.0.7, gcc 14.1.0 (MinGW), and MSVC VS 19.39.33521 To view detailed results, visit: https://lab.dpdk.org/results/dashboard/patchsets/33645/ UNH-IOL DPDK Community Lab To manage your email subscriptions, visit: https://lab.dpdk.org/results/dashboard/preferences/subscriptions/