From mboxrd@z Thu Jan 1 00:00:00 1970 Return-Path: Received: from mails.dpdk.org (mails.dpdk.org [217.70.189.124]) by inbox.dpdk.org (Postfix) with ESMTP id 4640346B5A for ; Mon, 14 Jul 2025 09:54:38 +0200 (CEST) Received: from mails.dpdk.org (localhost [127.0.0.1]) by mails.dpdk.org (Postfix) with ESMTP id 3F754400D5; Mon, 14 Jul 2025 09:54:38 +0200 (CEST) Received: from mail-pl1-f226.google.com (mail-pl1-f226.google.com [209.85.214.226]) by mails.dpdk.org (Postfix) with ESMTP id E15D7400D5 for ; Mon, 14 Jul 2025 09:54:36 +0200 (CEST) Received: by mail-pl1-f226.google.com with SMTP id d9443c01a7336-234c5b57557so38355135ad.3 for ; Mon, 14 Jul 2025 00:54:36 -0700 (PDT) DKIM-Signature: v=1; a=rsa-sha256; c=relaxed/relaxed; d=iol.unh.edu; s=unh-iol; t=1752479676; x=1753084476; darn=dpdk.org; h=references:in-reply-to:cc:to:from:subject:message-id:date:from:to :cc:subject:date:message-id:reply-to; bh=/n17KTwxrNBfvyAVtnvZIbR3L2QD1dNgR6zHReYxxso=; b=QcU9NZd2er3KW3VvroW7BzBZBgHcBT7D5kCgFvNl/Y2UcIdPdVHOT4LGNH+t91seAR LQmEYQAG12zb7nISYA82JNm5D8ddVtwFpIBnQltoa6iDVfjzatnCOoHtDQunUpm61JYb UL+EOIGFm05VtUdDUqG1T1yBnPkPoWxof6cqk= X-Google-DKIM-Signature: v=1; a=rsa-sha256; c=relaxed/relaxed; d=1e100.net; s=20230601; t=1752479676; x=1753084476; h=references:in-reply-to:cc:to:from:subject:message-id:date :x-gm-message-state:from:to:cc:subject:date:message-id:reply-to; bh=/n17KTwxrNBfvyAVtnvZIbR3L2QD1dNgR6zHReYxxso=; b=eXymLhA/pSCMyc/+cbdwp0kRKuhy8fCG5XDwpIOT+IOnyDg8GUKz8MYHg5337RC3Yb eqk9Zw91Yx0IlMpOfkj8X6M6VSLIAXuOQTLajd1DWjr0t09lngmbLrKeMTJ5d8CaXfyt WPmt9eEVtpUDvdpLkbTp/IvA0FmpCGKAkHTURTZKyN+h3dxCFjEPsk6o5kSlV3pdHErW QNZS+GwWvtwOjPtrP0vTILiNPvJm8IkCTvl+0Mze1EbBkT22FcjN2Lh8xYT4nM5JMPnf T7ZN6hCv77o1LNs34WtECTkbg+Js10ZaoXzu5SWMvcilots6fHQcVHQjjQJEVHPEUs00 29CQ== X-Gm-Message-State: AOJu0YwrKIgIbDhp6LDGslGa05dLZLXFRFKTNl7v39IxLjH31ys/0onu 8+ASxYJnboVPy4zXerv3CDDYWqnltvuY/dwzBdCok3y+a4LbFNJtmWMNJ3FBBDvPwTf8GWqRyZH uySeTkYvpqPkdwy2p4s+SbR+mw4ssg6hqOfyo2aI9Q2Q7hDI6NxXd5rh9tKJe X-Gm-Gg: ASbGncs/goi8gGCbBanMKIeU59Zdk1pA/78hETMtQwide2n5FIlVCp8A1ghgclA8b6c Wz4mZBAgIW8f3HfEB6+jHqMyvZAa6ukPRuuSlghfUcrcWRp/E+aX0J+Z94Q2NqN27zWREt/BoF1 5E/icYYCnvY/aqsJhGrKwAv42xFt5d4SKYKecaua9cVzd75Jc+XqZ7qbx+kaUzAuV6fG9nzQGZ8 4a090eTWA0eYKCA1gR/j3VSRJ7bTIegFQIUXiT6dTQNSfdWpqWy9ttJYasnZyab86ZTE6QLfvTr PnpoUItvbbKz2ts1XxgxeG2jNDBIAj1VX04R5lFOJMcrWjSnhg== X-Google-Smtp-Source: AGHT+IHsgc/NQHJ9FO/3k5X+53BupevUNSaXcja1TSsAUq+QEAOkB0khjC5SGLU1pe9aV3m6BcJ/m6AhJK6x X-Received: by 2002:a17:902:ed8b:b0:237:c8de:f289 with SMTP id d9443c01a7336-23dee0c62efmr117256205ad.36.1752479675966; Mon, 14 Jul 2025 00:54:35 -0700 (PDT) Received: from postal.iol.unh.edu (postal.iol.unh.edu. [2606:4100:3880:1234::84]) by smtp-relay.gmail.com with ESMTPS id d9443c01a7336-23de4332d61sm4754245ad.95.2025.07.14.00.54.35 (version=TLS1_2 cipher=ECDHE-ECDSA-AES128-GCM-SHA256 bits=128/128); Mon, 14 Jul 2025 00:54:35 -0700 (PDT) X-Relaying-Domain: iol.unh.edu Date: Mon, 14 Jul 2025 00:54:35 -0700 (PDT) Message-ID: <6874b7bb.170a0220.2e1214.9728SMTPIN_ADDED_MISSING@mx.google.com> Received: from [172.21.0.6] (unknown [172.18.0.240]) by postal.iol.unh.edu (Postfix) with ESMTP id 763A06051830; Mon, 14 Jul 2025 03:54:35 -0400 (EDT) Subject: |SUCCESS| pw155199 [PATCH] [v0,1/1] net/octeon_ep: fix device start From: dpdklab@iol.unh.edu To: Test Report Cc: dpdk-test-reports@iol.unh.edu In-Reply-To: <20250714055849.2258453-1-vattunuru@marvell.com> References: <20250714055849.2258453-1-vattunuru@marvell.com> Content-Type: text/plain X-BeenThere: test-report@dpdk.org X-Mailman-Version: 2.1.29 Precedence: list List-Id: automatic DPDK test reports List-Unsubscribe: , List-Archive: List-Post: List-Help: List-Subscribe: , Errors-To: test-report-bounces@dpdk.org Test-Label: iol-compile-amd64-testing Test-Status: SUCCESS http://dpdk.org/patch/155199 _Testing PASS_ Submitter: Vamsi Krishna Date: Monday, July 14 2025 05:58:49 DPDK git baseline: Repo:dpdk Branch: master CommitID:3761152ec7f99c9b60c9cc933102d35fa663393a 155199 --> testing pass Upstream job id: Windows-Compile-DPDK-VS#6353 Test environment and result as below: +---------------------+--------------------+-------------------+ | Environment | dpdk_meson_compile | dpdk_msvc_compile | +=====================+====================+===================+ | Ubuntu 20.04 | PASS | SKIPPED | +---------------------+--------------------+-------------------+ | FreeBSD 14.2 | PASS | SKIPPED | +---------------------+--------------------+-------------------+ | Windows Server 2022 | SKIPPED | PASS | +---------------------+--------------------+-------------------+ Ubuntu 20.04 Kernel: 4.19 Compiler: gcc gcc (Ubuntu 9.4.0-1ubuntu1~20.04.2) 9.4.0 FreeBSD 14.2 Kernel: 14.2-RELEASE Compiler: clang 18.1.6 Windows Server 2022 Kernel: 10.0.20348.2031 Compiler: clang 15.0.7, gcc 14.1.0 (MinGW), and MSVC VS 19.39.33521 To view detailed results, visit: https://lab.dpdk.org/results/dashboard/patchsets/33646/ UNH-IOL DPDK Community Lab To manage your email subscriptions, visit: https://lab.dpdk.org/results/dashboard/preferences/subscriptions/