From mboxrd@z Thu Jan 1 00:00:00 1970 Return-Path: Received: from mails.dpdk.org (mails.dpdk.org [217.70.189.124]) by inbox.dpdk.org (Postfix) with ESMTP id 9B99646B5A for ; Mon, 14 Jul 2025 09:56:31 +0200 (CEST) Received: from mails.dpdk.org (localhost [127.0.0.1]) by mails.dpdk.org (Postfix) with ESMTP id 93E02400D5; Mon, 14 Jul 2025 09:56:31 +0200 (CEST) Received: from mail-pf1-f226.google.com (mail-pf1-f226.google.com [209.85.210.226]) by mails.dpdk.org (Postfix) with ESMTP id 6CFA8400D5 for ; Mon, 14 Jul 2025 09:56:29 +0200 (CEST) Received: by mail-pf1-f226.google.com with SMTP id d2e1a72fcca58-74b50c71b0aso2224691b3a.0 for ; Mon, 14 Jul 2025 00:56:29 -0700 (PDT) DKIM-Signature: v=1; a=rsa-sha256; c=relaxed/relaxed; d=iol.unh.edu; s=unh-iol; t=1752479788; x=1753084588; darn=dpdk.org; h=references:in-reply-to:cc:to:from:subject:message-id:date:from:to :cc:subject:date:message-id:reply-to; bh=6v6CtvVMJv4vG97jsFgzGNypDjHLyxuQkdTr6fFeams=; b=AxaI5bQ5y4XvJ0qzmnnV2U56eoEJ78xlKAxoJ8I0DxncHGfqVhuuszFnIIZy4VkU60 8zoTp/fiRLAAJCiN+sgOsR14wiczHZR7fkP8TFyUs+1c7Vz6hv05lzbyf4MPwshe/gGX Wh4Y1cNCdcG13o2nv78JKOR77RcAYr3Bx1onc= X-Google-DKIM-Signature: v=1; a=rsa-sha256; c=relaxed/relaxed; d=1e100.net; s=20230601; t=1752479788; x=1753084588; h=references:in-reply-to:cc:to:from:subject:message-id:date :x-gm-message-state:from:to:cc:subject:date:message-id:reply-to; bh=6v6CtvVMJv4vG97jsFgzGNypDjHLyxuQkdTr6fFeams=; b=dbNs/lANbsCtBOPElcqN/eKBpAsg5s+hXMSBbUd/z8rNqUOTXtefGO3tY/MVa2l5Ds r5gl5qx26MDb08U8wZ2R70OJfQu/BvzFirfYxaOd7olmSIjN81xCsKv1ATtEuWdOQR9+ 24BjwuuwDOSEZfBVQvtDp2vpQL6DgcMio1TDPTUL2yfr3VOz3b8K6AmyOr/wLbOpZ8zR soQZ2an+elCd3gLlmQyzNSbrRdyeHPC2rD6RHZpQ/n2kvBYbWGx+URRqAf8XhEEzcWHp j2O57P4ekwOe434wNJiFmg9qaWTafRrbg7mjbO5a8DF6udXM2HC7nx3w9UE6f/0H0IqO X1VA== X-Gm-Message-State: AOJu0YxVmj9BvetJVJV273WTNVBKpDmV0SPRVeIHandQEf4S8HO40fJy akk/EjT9MIq4N8Zk6XhjKOR+DXnx6e/D8wO1hGhJcsfyXjbyuOYWHohZ0LaZO4IfJqtudpJ+gc0 +vFI+X996jsDjHNLbV8Xq5WwiC+XZA3axcKWyWgluzxfTOxBx9iSU+9Yp8WOg X-Gm-Gg: ASbGnctdqYqOGRXz3ibVC1zxIZhHksT0SEtP3s4UpP58z/0/4q6vGe4oE5RKbxZtLKE 9OkZg55B3YLJqudPhnBQnYG1HlkPj6A74bL0NChls72SZrEo/PqoUFWNWgJJf3eZJYqVXdZL+mD ZwRcsx5gOlBwomsBsOoPrd/KGK/NH7cD2MfZNwLspjkJw/O2/TxYzzxS/w9vDQG+7BHQE6oVWjc tq9ufBrf2ym+0PZ8s5bG7buHwzRinLjCPgc7omyCoOL47cJXf7F2aqO59Yz4t+2dpNQdG90eF/+ 69hXdi9B43VSaaxcGxhwz/XD+jp1C4cwB2u7jyokWVbyO/6HPQ== X-Google-Smtp-Source: AGHT+IGqxAPLKKZPc5MpYF8ysFEnHmSca/zoKY6olU5nYjpiTCxFMRHHPaU+7vS7b4hKB9CAjRuN2ep+m+QT X-Received: by 2002:a05:6a20:43a2:b0:220:2d0f:f8e1 with SMTP id adf61e73a8af0-23134c5569fmr22917515637.3.1752479788560; Mon, 14 Jul 2025 00:56:28 -0700 (PDT) Received: from postal.iol.unh.edu (postal.iol.unh.edu. [2606:4100:3880:1234::84]) by smtp-relay.gmail.com with ESMTPS id d2e1a72fcca58-74eb9f901e4sm564383b3a.21.2025.07.14.00.56.28 (version=TLS1_2 cipher=ECDHE-ECDSA-AES128-GCM-SHA256 bits=128/128); Mon, 14 Jul 2025 00:56:28 -0700 (PDT) X-Relaying-Domain: iol.unh.edu Date: Mon, 14 Jul 2025 00:56:28 -0700 (PDT) Message-ID: <6874b82c.050a0220.10f8b5.eb60SMTPIN_ADDED_MISSING@mx.google.com> Received: from [172.21.0.7] (unknown [172.18.0.240]) by postal.iol.unh.edu (Postfix) with ESMTP id B0DF16051830; Mon, 14 Jul 2025 03:56:27 -0400 (EDT) Subject: |SUCCESS| pw155198 [PATCH] [v0,1/1] net/octeon_ep: fix mbuf data off From: dpdklab@iol.unh.edu To: Test Report Cc: dpdk-test-reports@iol.unh.edu In-Reply-To: <20250714054041.2257589-1-vattunuru@marvell.com> References: <20250714054041.2257589-1-vattunuru@marvell.com> Content-Type: text/plain X-BeenThere: test-report@dpdk.org X-Mailman-Version: 2.1.29 Precedence: list List-Id: automatic DPDK test reports List-Unsubscribe: , List-Archive: List-Post: List-Help: List-Subscribe: , Errors-To: test-report-bounces@dpdk.org Test-Label: iol-compile-amd64-testing Test-Status: SUCCESS http://dpdk.org/patch/155198 _Testing PASS_ Submitter: Vamsi Krishna Date: Monday, July 14 2025 05:40:41 DPDK git baseline: Repo:dpdk Branch: master CommitID:3761152ec7f99c9b60c9cc933102d35fa663393a 155198 --> testing pass Upstream job id: Windows-Compile-DPDK-Native#29771 Test environment and result as below: +---------------------+--------------------+-------------------+-------------------------+----------------------+ | Environment | dpdk_meson_compile | dpdk_msvc_compile | dpdk_llvm_clang_compile | dpdk_mingw64_compile | +=====================+====================+===================+=========================+======================+ | Ubuntu 20.04 | PASS | SKIPPED | SKIPPED | SKIPPED | +---------------------+--------------------+-------------------+-------------------------+----------------------+ | FreeBSD 14.2 | PASS | SKIPPED | SKIPPED | SKIPPED | +---------------------+--------------------+-------------------+-------------------------+----------------------+ | Windows Server 2022 | SKIPPED | PASS | PASS | PASS | +---------------------+--------------------+-------------------+-------------------------+----------------------+ Ubuntu 20.04 Kernel: 4.19 Compiler: gcc gcc (Ubuntu 9.4.0-1ubuntu1~20.04.2) 9.4.0 FreeBSD 14.2 Kernel: 14.2-RELEASE Compiler: clang 18.1.6 Windows Server 2022 Kernel: 10.0.20348.2031 Compiler: clang 15.0.7, gcc 14.1.0 (MinGW), and MSVC VS 19.39.33521 To view detailed results, visit: https://lab.dpdk.org/results/dashboard/patchsets/33645/ UNH-IOL DPDK Community Lab To manage your email subscriptions, visit: https://lab.dpdk.org/results/dashboard/preferences/subscriptions/