From mboxrd@z Thu Jan 1 00:00:00 1970 Return-Path: Received: from mails.dpdk.org (mails.dpdk.org [217.70.189.124]) by inbox.dpdk.org (Postfix) with ESMTP id DBC7146B6F for ; Mon, 14 Jul 2025 10:10:19 +0200 (CEST) Received: from mails.dpdk.org (localhost [127.0.0.1]) by mails.dpdk.org (Postfix) with ESMTP id BC842400D5; Mon, 14 Jul 2025 10:10:19 +0200 (CEST) Received: from mail-io1-f100.google.com (mail-io1-f100.google.com [209.85.166.100]) by mails.dpdk.org (Postfix) with ESMTP id AE737400D5 for ; Mon, 14 Jul 2025 10:10:17 +0200 (CEST) Received: by mail-io1-f100.google.com with SMTP id ca18e2360f4ac-8797652b1f2so258820639f.1 for ; Mon, 14 Jul 2025 01:10:17 -0700 (PDT) DKIM-Signature: v=1; a=rsa-sha256; c=relaxed/relaxed; d=iol.unh.edu; s=unh-iol; t=1752480617; x=1753085417; darn=dpdk.org; h=references:in-reply-to:cc:to:from:subject:message-id:date:from:to :cc:subject:date:message-id:reply-to; bh=4DWh6XIhJmDTN6oEad9r4bMvL1H/Wdk0HZpVlMsPUT8=; b=BMmj78fa93Q4B4f4J/RGJl85qUMY008XcJSxH/MT9XtzEUmQFqpifGscjIivFkgKpA OvRHn190MicKBKv/PzWcTZ987qTNmjcu0BVr0bJ+z8GXuaQnXy3A2Yl3CLD0WLNh3kZR 8P1A00GHzo1BpqqF27Fx7gGqP8Ca/bIviq9Co= X-Google-DKIM-Signature: v=1; a=rsa-sha256; c=relaxed/relaxed; d=1e100.net; s=20230601; t=1752480617; x=1753085417; h=references:in-reply-to:cc:to:from:subject:message-id:date :x-gm-message-state:from:to:cc:subject:date:message-id:reply-to; bh=4DWh6XIhJmDTN6oEad9r4bMvL1H/Wdk0HZpVlMsPUT8=; b=uxpSjNKU1Diu/Xvjg0gc/LfuiFqqAptqOKkFTj5NSEqlaWbY+t/bLOXjG/9oIxwP+p mM0z4c3xEoerCjZmFbqV97vySMv+jM4Zwv3++iqr71K5DBUcIdwPk6A/4Egk5YBipwxM 6laoYOGOEYEfpg98aKFyYquBOr59FlB6vpal8nFbyDwaUFa5z3fFLUJuBxghN8GqVZph tB0SFhmarl8Q+NwTy4lfPXR8SafogYQuFGxB529DPuL6rkXa8RwcNFNKY0dGJZNLKr3e iCiXJN8+UYUhSHy696O/VxTszev+RQHXdABG0ZhoXAaSFuzzAstHTgOUAUGxFim3i3xQ yL4Q== X-Gm-Message-State: AOJu0Yy7/pl4i5cUmXLutoBzedkjGwf2ZP8t3P6nUetU+NdOIvL2Mr1G 6BZdotUG0r/98YDVQmmLkE5x1OxUk32QAe+kKHiw8SvvdHFKhaPVxgOadikirH6eH5tePLCQjUk okS6FqAwasH6WuLJ1eZ3oHwkbBxitjhfYDLgXjpLoE6/MfRjd8MC4pTulaPsK X-Gm-Gg: ASbGncsW2dwoZZZiLFHAIsNS57I83yH9pKY/NYs45BATO5Z1Ixw6QFd5xHC+bRVtpD1 zunFvkB8wNTbGFtBAAc8NH/jqENq8aWAsAVVFgPnA2e1v+m6pJndnBW2WtuTF9xtOXR6UjDJ4IE DGK13pMImjczXmcDGCFOM/TBXyLQ2c2OmW8B8XIyU2r1qI2UuXWNASpzWbUelJCsrHg3vh78n65 L4CC1h38Njv4GNrgz9q7tvemJ7UOoF/HcAC0p84etKB1OaD574Pn8BPjtk2dULFr+RmzDT7940t NvxScW9eDwlzYkvO69Dbyslxhp3cw6jLs1Uempjt1Ak3tP3T/w== X-Google-Smtp-Source: AGHT+IEcGgAu7EIWqiXWatQCdylL/Wy/VFfQG7f2tq9tG63JBSlAes3yIQbHzwTewSxiVb4I51qyUTwFzNFe X-Received: by 2002:a05:6e02:b42:b0:3dd:bb64:d850 with SMTP id e9e14a558f8ab-3e2533237d8mr121653735ab.11.1752480616824; Mon, 14 Jul 2025 01:10:16 -0700 (PDT) Received: from postal.iol.unh.edu (postal.iol.unh.edu. [2606:4100:3880:1234::84]) by smtp-relay.gmail.com with ESMTPS id e9e14a558f8ab-3e24621d620sm5496685ab.54.2025.07.14.01.10.16 (version=TLS1_2 cipher=ECDHE-ECDSA-AES128-GCM-SHA256 bits=128/128); Mon, 14 Jul 2025 01:10:16 -0700 (PDT) X-Relaying-Domain: iol.unh.edu Date: Mon, 14 Jul 2025 01:10:16 -0700 (PDT) Message-ID: <6874bb68.050a0220.313de0.d303SMTPIN_ADDED_MISSING@mx.google.com> Received: from [172.21.0.7] (unknown [172.18.0.240]) by postal.iol.unh.edu (Postfix) with ESMTP id 4C9236051830; Mon, 14 Jul 2025 04:10:16 -0400 (EDT) Subject: |SUCCESS| pw155199 [PATCH] [v0,1/1] net/octeon_ep: fix device start From: dpdklab@iol.unh.edu To: Test Report Cc: dpdk-test-reports@iol.unh.edu In-Reply-To: <20250714055849.2258453-1-vattunuru@marvell.com> References: <20250714055849.2258453-1-vattunuru@marvell.com> Content-Type: text/plain X-BeenThere: test-report@dpdk.org X-Mailman-Version: 2.1.29 Precedence: list List-Id: automatic DPDK test reports List-Unsubscribe: , List-Archive: List-Post: List-Help: List-Subscribe: , Errors-To: test-report-bounces@dpdk.org Test-Label: iol-compile-amd64-testing Test-Status: SUCCESS http://dpdk.org/patch/155199 _Testing PASS_ Submitter: Vamsi Krishna Date: Monday, July 14 2025 05:58:49 DPDK git baseline: Repo:dpdk Branch: master CommitID:3761152ec7f99c9b60c9cc933102d35fa663393a 155199 --> testing pass Upstream job id: Windows-Compile-DPDK-Native#29772 Test environment and result as below: +---------------------+--------------------+-------------------+-------------------------+ | Environment | dpdk_meson_compile | dpdk_msvc_compile | dpdk_llvm_clang_compile | +=====================+====================+===================+=========================+ | Ubuntu 20.04 | PASS | SKIPPED | SKIPPED | +---------------------+--------------------+-------------------+-------------------------+ | FreeBSD 14.2 | PASS | SKIPPED | SKIPPED | +---------------------+--------------------+-------------------+-------------------------+ | Windows Server 2022 | SKIPPED | PASS | PASS | +---------------------+--------------------+-------------------+-------------------------+ Ubuntu 20.04 Kernel: 4.19 Compiler: gcc gcc (Ubuntu 9.4.0-1ubuntu1~20.04.2) 9.4.0 FreeBSD 14.2 Kernel: 14.2-RELEASE Compiler: clang 18.1.6 Windows Server 2022 Kernel: 10.0.20348.2031 Compiler: clang 15.0.7, gcc 14.1.0 (MinGW), and MSVC VS 19.39.33521 To view detailed results, visit: https://lab.dpdk.org/results/dashboard/patchsets/33646/ UNH-IOL DPDK Community Lab To manage your email subscriptions, visit: https://lab.dpdk.org/results/dashboard/preferences/subscriptions/