From mboxrd@z Thu Jan 1 00:00:00 1970 Return-Path: Received: from mails.dpdk.org (mails.dpdk.org [217.70.189.124]) by inbox.dpdk.org (Postfix) with ESMTP id A108C46B6F for ; Mon, 14 Jul 2025 10:20:05 +0200 (CEST) Received: from mails.dpdk.org (localhost [127.0.0.1]) by mails.dpdk.org (Postfix) with ESMTP id 97544400D5; Mon, 14 Jul 2025 10:20:05 +0200 (CEST) Received: from mail-pl1-f226.google.com (mail-pl1-f226.google.com [209.85.214.226]) by mails.dpdk.org (Postfix) with ESMTP id 01B91400D5 for ; Mon, 14 Jul 2025 10:20:04 +0200 (CEST) Received: by mail-pl1-f226.google.com with SMTP id d9443c01a7336-234b9dfb842so35272545ad.1 for ; Mon, 14 Jul 2025 01:20:03 -0700 (PDT) DKIM-Signature: v=1; a=rsa-sha256; c=relaxed/relaxed; d=iol.unh.edu; s=unh-iol; t=1752481203; x=1753086003; darn=dpdk.org; h=references:in-reply-to:cc:to:from:subject:message-id:date:from:to :cc:subject:date:message-id:reply-to; bh=J0+hPG5WYkZcbzMAjvZsOZVGwF3HrCbLn9CvxNzB1r4=; b=eLx7AlXgBz5Di2yI8lX0Jhk1R2NSLAgge2D7HxJdydiP4XXIr/TZO04R2W9OXwAi1v QAV3Jzhp4LK9/0IAPaNfLyqemaWCA6OfNdDnsKv/w0c4WrfkG0TSE4nfFbOtvvm/FSgM Icsmlm1R4NCqiCImTdX/25W6qsNnEtXM5mdL4= X-Google-DKIM-Signature: v=1; a=rsa-sha256; c=relaxed/relaxed; d=1e100.net; s=20230601; t=1752481203; x=1753086003; h=references:in-reply-to:cc:to:from:subject:message-id:date :x-gm-message-state:from:to:cc:subject:date:message-id:reply-to; bh=J0+hPG5WYkZcbzMAjvZsOZVGwF3HrCbLn9CvxNzB1r4=; b=WjFXpDHrtuC6DEGNwXSuJDHmHxEB2eFu2csUziqiQg/tqr/QNDkAEAnV0xODD11FmQ P3dlQIpQr9GszSrf8emhVSllOlyqes3i/Xa0oRB3hC4oa+6DqC4L+7trtd9+Gnp0jOH+ yInFjkfAoqVyXONC91SmdXvkEhj5mkGQpvhOW8lVEjhGvGIMFvRvn29ep8tK6wCmj/oN fYGAW0FuG7eCG9YyYzf/gzy4Wi0qdVC63Ed2BqetApEWe7K19+ffY5gN3GEx9KloKR9A XZlO/qbFx/mNUMSREL8abVBorqrm4OwiyoPFtp0vEwzkpSU9rzhVxinSlMpwyJwS7QgU gdAw== X-Gm-Message-State: AOJu0Yzx6VX+WcHEE5Qqof9xrm4japrHq/V0rANRCntigoN8aQAOtRbH T0e8GVCmETTttIdvUf+u9TpJJD3gjaJRGnRHHJn62okcx9HEee36gxmAljw5vhxBLkHJWkEUx5/ F+qVPz6GU5cAdmTT01gfNbp7gfV8i0pPSoRHrAVMqCJDjqO9/tysecr/FSRVQ X-Gm-Gg: ASbGncu4ViTMMWYjISLrYegpSfS9LMrLUm9Mw2uf2/wjQuSxTNX0QUL3TjE0Uk6nO6b 8U7KY2rpGE3xPIWxKVExzAdK99G1/to4kOV7+up8zenm9cNtgngl+q6LY/FpdDx0UO7Phw/Tcxv lygCEKnfsgPULZiGl3806eUGm249kuhGPH56y5CcNJcuzva5mFrFh6Rx4Zt4ZszZa98Muh7/WBA hjKY46OYjkkMQ7be+Aa0MSqb5Aphhv7K53QsZE6YTuF6Tnw/NMlNmp4yaDB2aElrV9Crx5R9g5U 8NEHicUvdsyMi3piuv14RVeR0IHWfzC+pFRN5+3zFBQ3Uijk2w== X-Google-Smtp-Source: AGHT+IF9MI4bLp29CL0A8r5Qz+32iTNLihpToYriTRNKumL/3ASVs50JTsQaSMfeGwpJ1rYlWzb52N66AlEB X-Received: by 2002:a17:903:11c3:b0:234:98eb:8eda with SMTP id d9443c01a7336-23dee26dd48mr190064205ad.28.1752481203087; Mon, 14 Jul 2025 01:20:03 -0700 (PDT) Received: from postal.iol.unh.edu (postal.iol.unh.edu. [2606:4100:3880:1234::84]) by smtp-relay.gmail.com with ESMTPS id d9443c01a7336-23de4320b64sm4574475ad.64.2025.07.14.01.20.02 (version=TLS1_2 cipher=ECDHE-ECDSA-AES128-GCM-SHA256 bits=128/128); Mon, 14 Jul 2025 01:20:03 -0700 (PDT) X-Relaying-Domain: iol.unh.edu Date: Mon, 14 Jul 2025 01:20:03 -0700 (PDT) Message-ID: <6874bdb3.170a0220.288161.8fe6SMTPIN_ADDED_MISSING@mx.google.com> Received: from [172.21.0.5] (unknown [172.18.0.240]) by postal.iol.unh.edu (Postfix) with ESMTP id 337CF6051830; Mon, 14 Jul 2025 04:20:02 -0400 (EDT) Subject: |SUCCESS| pw155199 [PATCH] [v0,1/1] net/octeon_ep: fix device start From: dpdklab@iol.unh.edu To: Test Report Cc: dpdk-test-reports@iol.unh.edu In-Reply-To: <20250714055849.2258453-1-vattunuru@marvell.com> References: <20250714055849.2258453-1-vattunuru@marvell.com> Content-Type: text/plain X-BeenThere: test-report@dpdk.org X-Mailman-Version: 2.1.29 Precedence: list List-Id: automatic DPDK test reports List-Unsubscribe: , List-Archive: List-Post: List-Help: List-Subscribe: , Errors-To: test-report-bounces@dpdk.org Test-Label: iol-compile-amd64-testing Test-Status: SUCCESS http://dpdk.org/patch/155199 _Testing PASS_ Submitter: Vamsi Krishna Date: Monday, July 14 2025 05:58:49 DPDK git baseline: Repo:dpdk Branch: master CommitID:3761152ec7f99c9b60c9cc933102d35fa663393a 155199 --> testing pass Upstream job id: Windows-Compile-DPDK-Native#29773 Test environment and result as below: +---------------------+--------------------+-------------------+-------------------------+----------------------+ | Environment | dpdk_meson_compile | dpdk_msvc_compile | dpdk_llvm_clang_compile | dpdk_mingw64_compile | +=====================+====================+===================+=========================+======================+ | Ubuntu 20.04 | PASS | SKIPPED | SKIPPED | SKIPPED | +---------------------+--------------------+-------------------+-------------------------+----------------------+ | FreeBSD 14.2 | PASS | SKIPPED | SKIPPED | SKIPPED | +---------------------+--------------------+-------------------+-------------------------+----------------------+ | Windows Server 2022 | SKIPPED | PASS | PASS | PASS | +---------------------+--------------------+-------------------+-------------------------+----------------------+ Ubuntu 20.04 Kernel: 4.19 Compiler: gcc gcc (Ubuntu 9.4.0-1ubuntu1~20.04.2) 9.4.0 FreeBSD 14.2 Kernel: 14.2-RELEASE Compiler: clang 18.1.6 Windows Server 2022 Kernel: 10.0.20348.2031 Compiler: clang 15.0.7, gcc 14.1.0 (MinGW), and MSVC VS 19.39.33521 To view detailed results, visit: https://lab.dpdk.org/results/dashboard/patchsets/33646/ UNH-IOL DPDK Community Lab To manage your email subscriptions, visit: https://lab.dpdk.org/results/dashboard/preferences/subscriptions/