From mboxrd@z Thu Jan 1 00:00:00 1970 Return-Path: Received: from mails.dpdk.org (mails.dpdk.org [217.70.189.124]) by inbox.dpdk.org (Postfix) with ESMTP id D1FD746B6F for ; Mon, 14 Jul 2025 10:42:05 +0200 (CEST) Received: from mails.dpdk.org (localhost [127.0.0.1]) by mails.dpdk.org (Postfix) with ESMTP id A77CC400D5; Mon, 14 Jul 2025 10:42:05 +0200 (CEST) Received: from mail-io1-f98.google.com (mail-io1-f98.google.com [209.85.166.98]) by mails.dpdk.org (Postfix) with ESMTP id C7256400D5 for ; Mon, 14 Jul 2025 10:42:04 +0200 (CEST) Received: by mail-io1-f98.google.com with SMTP id ca18e2360f4ac-8723a232750so373134139f.1 for ; Mon, 14 Jul 2025 01:42:04 -0700 (PDT) DKIM-Signature: v=1; a=rsa-sha256; c=relaxed/relaxed; d=iol.unh.edu; s=unh-iol; t=1752482524; x=1753087324; darn=dpdk.org; h=references:in-reply-to:cc:to:from:subject:message-id:date:from:to :cc:subject:date:message-id:reply-to; bh=9l1U42RS09JMAdWTEEav6ScJo81XrBo5kSwbX32oNw8=; b=eVqnzbw0v3o/cbt2M6u1XBEubKPEeCLlNXeiNpRD72P8EG90/566o8XpbmDvUQotlr vmD2eHVETqWG9NRp4IGYGwPfvSFvBejE0V2I73HCZ5usEyp2BsHrGgG5iqGTEOEjiD1O yDOJuzUpwYZpZ8pBtVgJ49uuZAf4yWd0KyKGg= X-Google-DKIM-Signature: v=1; a=rsa-sha256; c=relaxed/relaxed; d=1e100.net; s=20230601; t=1752482524; x=1753087324; h=references:in-reply-to:cc:to:from:subject:message-id:date :x-gm-message-state:from:to:cc:subject:date:message-id:reply-to; bh=9l1U42RS09JMAdWTEEav6ScJo81XrBo5kSwbX32oNw8=; b=Vm+NoQduRTXLKIdiChSQFdmZCSuXok7Qg2jbXf8QdRYVhRsWKW43OFfGMoKhzEdQTO tJIE3k3l1xQRgQiA+C/nldCM5gJ+um4Gs32dAPSMLcWlSoQw4Fs4Mej+HgSrkuAnsifE XZ0F3nzWafUzN2yN4wNj57YQm4aSrD58ZDY6SkNOM4iXUN/fTX28lHT6cXYY6vWDDv6/ AKuj1URxsYRtf380dsDj7btz7BkxJqkgWOG26pIwF3ESLLZfDCAmBOgEZHDzJVlrbjin gEoNJMEyv0O4hB3gY2HupB3B1SpfpJUSiY+6VKFWXwDt1rGmrNKj4WfqwiTUBHcQrlcw ubSw== X-Gm-Message-State: AOJu0YybwAT/rANoOT0QHI0qvS7HL6HEd+1IYX0wJ8GqWWaI1K71gkAi O/uCBWSUXDq/co4nm76OyGM+DWUWrOL8QGeq2RwkiNIJlfHrfO75fcm+2TZmCaEgJ58pXirTZi+ MaXJWoVFcQ5QEPfz77ABuDPZlqHQy9NeD0/LIfv3sFfS+ X-Gm-Gg: ASbGnctRF2W4WD1KlvGzjNU098CccqrG/9gL1E8B9lkYOUFrgsuB+FJv19wo+K/bMSB vkE8GDHiviqsrSgUB5h8XMrCHU7m6uhn9VqMIt1FlaTUfuSZaiby6oORylDnXatcDIp/3gUnTh0 2730RRCkHU3Og5418SCIhvQ52bXE0kuXJPRkTb0DIaLStFKPAzd6dgN+9dO9yWlAtbO6pRMFMQo YTeUKsbPR0P/jczx00YuDhhwaPZ3T8EOOk5XXtRRfsOzRAGDjb4g6L504oKte5rfSxhwx0LQ9oP dK+3vBOI0J4pb4VSycFMu/aGRiZVAbEj+U6IXoBPNZS5UfBHI921IFAM3clgLU/PEbSkIat1 X-Google-Smtp-Source: AGHT+IFpPLKcqRbM8/lzlMFPeMN/7UOLi5Ig1wm15OzDwFs7LwuMpyNba4xFSHecCFMkHS3qMlPg5BRIvVEf X-Received: by 2002:a05:6602:7504:b0:864:a228:92b4 with SMTP id ca18e2360f4ac-87977f85cf1mr1284709139f.7.1752482524003; Mon, 14 Jul 2025 01:42:04 -0700 (PDT) Received: from postal.iol.unh.edu (postal.iol.unh.edu. [132.177.123.84]) by smtp-relay.gmail.com with ESMTPS id 8926c6da1cb9f-5055652f4bdsm460406173.9.2025.07.14.01.42.03 (version=TLS1_2 cipher=ECDHE-ECDSA-AES128-GCM-SHA256 bits=128/128); Mon, 14 Jul 2025 01:42:03 -0700 (PDT) X-Relaying-Domain: iol.unh.edu Date: Mon, 14 Jul 2025 01:42:03 -0700 (PDT) Message-ID: <6874c2db.050a0220.31c9de.92dbSMTPIN_ADDED_MISSING@mx.google.com> Received: from [172.21.0.5] (unknown [172.18.0.240]) by postal.iol.unh.edu (Postfix) with ESMTP id 9921A6051830; Mon, 14 Jul 2025 04:42:03 -0400 (EDT) Subject: |SUCCESS| pw155197 [PATCH] [v0,1/1] net/octeon_ep: handle interrupt From: dpdklab@iol.unh.edu To: Test Report Cc: dpdk-test-reports@iol.unh.edu In-Reply-To: <20250714053150.2229683-1-vattunuru@marvell.com> References: <20250714053150.2229683-1-vattunuru@marvell.com> Content-Type: text/plain X-BeenThere: test-report@dpdk.org X-Mailman-Version: 2.1.29 Precedence: list List-Id: automatic DPDK test reports List-Unsubscribe: , List-Archive: List-Post: List-Help: List-Subscribe: , Errors-To: test-report-bounces@dpdk.org Test-Label: iol-unit-arm64-testing Test-Status: SUCCESS http://dpdk.org/patch/155197 _Testing PASS_ Submitter: Vamsi Krishna Date: Monday, July 14 2025 05:31:50 DPDK git baseline: Repo:dpdk Branch: master CommitID:3761152ec7f99c9b60c9cc933102d35fa663393a 155197 --> testing pass Upstream job id: Generic-Unit-Test-DPDK#355167 Test environment and result as below: +------------------------------+----------------+--------------+------------------------------+---------------------------+ | Environment | dpdk_unit_test | lpm_autotest | cryptodev_sw_snow3g_autotest | cryptodev_sw_zuc_autotest | +==============================+================+==============+==============================+===========================+ | CentOS Stream 10 | PASS | SKIPPED | SKIPPED | SKIPPED | +------------------------------+----------------+--------------+------------------------------+---------------------------+ | Fedora Linux 40 | PASS | SKIPPED | SKIPPED | SKIPPED | +------------------------------+----------------+--------------+------------------------------+---------------------------+ | Fedora Linux 41 | PASS | SKIPPED | SKIPPED | SKIPPED | +------------------------------+----------------+--------------+------------------------------+---------------------------+ | CentOS Stream 9 | PASS | SKIPPED | SKIPPED | SKIPPED | +------------------------------+----------------+--------------+------------------------------+---------------------------+ | Debian GNU/Linux 12 | PASS | SKIPPED | SKIPPED | SKIPPED | +------------------------------+----------------+--------------+------------------------------+---------------------------+ | Red Hat Enterprise Linux 9.5 | PASS | SKIPPED | SKIPPED | SKIPPED | +------------------------------+----------------+--------------+------------------------------+---------------------------+ | Ubuntu 24.04 | PASS | SKIPPED | SKIPPED | SKIPPED | +------------------------------+----------------+--------------+------------------------------+---------------------------+ | Ubuntu 22.04 | PASS | SKIPPED | SKIPPED | SKIPPED | +------------------------------+----------------+--------------+------------------------------+---------------------------+ | Ubuntu 20.04 | PASS | PASS | SKIPPED | SKIPPED | +------------------------------+----------------+--------------+------------------------------+---------------------------+ | Debian 12 (arm) | SKIPPED | SKIPPED | PASS | PASS | +------------------------------+----------------+--------------+------------------------------+---------------------------+ CentOS Stream 10 Kernel: 5.4 Compiler: gcc gcc (GCC) 14.2.1 20250110 (Red Hat 14.2.1-8) Fedora Linux 40 Kernel: 5.4 Compiler: clang gcc (GCC) 14.2.1 20240912 (Red Hat 14.2.1-3) Fedora Linux 41 Kernel: 5.4 Compiler: gcc gcc (GCC) 14.3.1 20250523 (Red Hat 14.3.1-1) CentOS Stream 9 Kernel: 5.4 Compiler: gcc gcc (GCC) 11.5.0 20240719 (Red Hat 11.5.0-7) Debian GNU/Linux 12 Kernel: 5.4 Compiler: gcc gcc (Debian 12.2.0-14+deb12u1) 12.2.0 Red Hat Enterprise Linux 9.5 Kernel: 5.4 Compiler: gcc gcc (GCC) 11.5.0 20240719 (Red Hat 11.5.0-2) Ubuntu 24.04 Kernel: 5.4 Compiler: gcc gcc (Ubuntu 13.3.0-6ubuntu2~24.04) 13.3.0 Ubuntu 22.04 Kernel: 5.4 Compiler: gcc gcc (Ubuntu 11.4.0-1ubuntu1~22.04) 11.4.0 Ubuntu 20.04 Kernel: 5.4 Compiler: gcc gcc (Ubuntu 9.4.0-1ubuntu1~20.04.2) 9.4.0 Debian 12 (arm) Kernel: Depends on container host Compiler: gcc (Debian 12.2.0-14) 12.2.0 To view detailed results, visit: https://lab.dpdk.org/results/dashboard/patchsets/33644/ UNH-IOL DPDK Community Lab To manage your email subscriptions, visit: https://lab.dpdk.org/results/dashboard/preferences/subscriptions/