From mboxrd@z Thu Jan 1 00:00:00 1970 Return-Path: Received: from mails.dpdk.org (mails.dpdk.org [217.70.189.124]) by inbox.dpdk.org (Postfix) with ESMTP id D3B9746B6F for ; Mon, 14 Jul 2025 11:21:44 +0200 (CEST) Received: from mails.dpdk.org (localhost [127.0.0.1]) by mails.dpdk.org (Postfix) with ESMTP id ABB42400D5; Mon, 14 Jul 2025 11:21:44 +0200 (CEST) Received: from mail-pl1-f228.google.com (mail-pl1-f228.google.com [209.85.214.228]) by mails.dpdk.org (Postfix) with ESMTP id E97CE400D5 for ; Mon, 14 Jul 2025 11:21:42 +0200 (CEST) Received: by mail-pl1-f228.google.com with SMTP id d9443c01a7336-23c703c471dso42020485ad.0 for ; Mon, 14 Jul 2025 02:21:42 -0700 (PDT) DKIM-Signature: v=1; a=rsa-sha256; c=relaxed/relaxed; d=iol.unh.edu; s=unh-iol; t=1752484902; x=1753089702; darn=dpdk.org; h=references:in-reply-to:cc:to:from:subject:message-id:date:from:to :cc:subject:date:message-id:reply-to; bh=aXfiDRaKwtLtUDcihCxIsn1N1qsKxkaGUQnBuzvgUTQ=; b=dbpAgSTyYX6ek7I5I+0/R6HBBl8IX0hUjMk7u9C5sS/CIfHjg21FlMhiPlWp5nq0nw T1PMnzVr61tCUjcqvqRGmwKlGOFJPq+ufT3RkzESCA/3wqTpmkcuB1Uw05ynvW8fv57n oovjvFr7Uru+EqntBGEtE8+VhI38T26dOTTDc= X-Google-DKIM-Signature: v=1; a=rsa-sha256; c=relaxed/relaxed; d=1e100.net; s=20230601; t=1752484902; x=1753089702; h=references:in-reply-to:cc:to:from:subject:message-id:date :x-gm-message-state:from:to:cc:subject:date:message-id:reply-to; bh=aXfiDRaKwtLtUDcihCxIsn1N1qsKxkaGUQnBuzvgUTQ=; b=aXXBPIaZa8Y6tdwvevF10Sw9qzKhRJfPIdRGzzt8tXR+B9JutcePQuHkTDSaB06F7L BA9bp2PvKs33CBBrzSRxR9LPqIQ3xP3Ugu6oj/cXIQ0+cRhuu2Zu+uuwciiQOOJmYaTC AUvaQdFWE7pD1u4qoLQacrrAYzpdMuVm6KMvT9QgDJrYDKViWQRPQHJyRGjBPY/lJOi+ RL/lVm1C+XUW4hnmjkcwBdPD0Stt025qZmur53PrVbJ6oLN28lKRNOGjuzbWnTXpgSgl 7bs7E+NSSsS7iCHcmjmGw2C9jhJH2b26kUKKoQdUcZhhPeDOGdrSq3Tme9XRbJvqwWDD 1A4g== X-Gm-Message-State: AOJu0YxCv5q1sDCoo2f1UCPXRulgcYkIp4LyldBSKdJtDgN6xBo6nQD6 Mkj8RV8iSjDmNuKvxxvDja3x9/FCycuNwZmTGffW5ly74uSCqGsJLC5yoc3bo4YbntZqpKUo2C1 qI52Da2lOzulgryCpcMpmU+03E48loZgx0f8K+fJXKvXa X-Gm-Gg: ASbGncuWDZIhy4KVKnCiTMeKzzMfkZ/uyTFtC4jhE5s3J9gab+O9/iWRjn/ecAEkcvK I6SRYnzf1dESCqZ9Eec0chuwKSTjVNNAGbhwmG+dzu05jX+GK16bBvPZPgsfVRZu6KQyj3AIMXY kA3c4OuTple8skTE0b+2zwmcG6DJOtu34VXP6idl315Asah3lvl6gCZjGhPZLz3AsI+CnBtlS35 nljBiGVURRYhq/EKEiVRsjSMMv+201WxWhHh6d8J1CS32yPDMpy66bVctLqFtiK8hHrui+foTbZ v/1wkitUM6u+KdXk67N47HudGdkFo9ESR4gWAHev4T+XpR9Ee/K+9AlHiW3MJdSzkgCHgU6M X-Google-Smtp-Source: AGHT+IFJo55FMEK0wmY+NSLcoo/ha/Q+mJ1ADWYhL4maFiTjFu1xXvjWTo/e+RHlXbDZ25XhZUE/E/pCiTwH X-Received: by 2002:a17:903:2286:b0:231:9817:6ec1 with SMTP id d9443c01a7336-23dede5b1camr184137315ad.17.1752484901821; Mon, 14 Jul 2025 02:21:41 -0700 (PDT) Received: from postal.iol.unh.edu (postal.iol.unh.edu. [132.177.123.84]) by smtp-relay.gmail.com with ESMTPS id d9443c01a7336-23de429fb3csm5029965ad.35.2025.07.14.02.21.41 (version=TLS1_2 cipher=ECDHE-ECDSA-AES128-GCM-SHA256 bits=128/128); Mon, 14 Jul 2025 02:21:41 -0700 (PDT) X-Relaying-Domain: iol.unh.edu Date: Mon, 14 Jul 2025 02:21:41 -0700 (PDT) Message-ID: <6874cc25.170a0220.206920.ac0cSMTPIN_ADDED_MISSING@mx.google.com> Received: from [172.21.0.5] (unknown [172.18.0.240]) by postal.iol.unh.edu (Postfix) with ESMTP id D2F446051830; Mon, 14 Jul 2025 05:21:40 -0400 (EDT) Subject: |SUCCESS| pw155198 [PATCH] [v0,1/1] net/octeon_ep: fix mbuf data off From: dpdklab@iol.unh.edu To: Test Report Cc: dpdk-test-reports@iol.unh.edu In-Reply-To: <20250714054041.2257589-1-vattunuru@marvell.com> References: <20250714054041.2257589-1-vattunuru@marvell.com> Content-Type: text/plain X-BeenThere: test-report@dpdk.org X-Mailman-Version: 2.1.29 Precedence: list List-Id: automatic DPDK test reports List-Unsubscribe: , List-Archive: List-Post: List-Help: List-Subscribe: , Errors-To: test-report-bounces@dpdk.org Test-Label: iol-unit-arm64-testing Test-Status: SUCCESS http://dpdk.org/patch/155198 _Testing PASS_ Submitter: Vamsi Krishna Date: Monday, July 14 2025 05:40:41 DPDK git baseline: Repo:dpdk Branch: master CommitID:3761152ec7f99c9b60c9cc933102d35fa663393a 155198 --> testing pass Upstream job id: Generic-Unit-Test-DPDK#355185 Test environment and result as below: +------------------------------+--------------+------------------------------+---------------------------+----------------+ | Environment | lpm_autotest | cryptodev_sw_snow3g_autotest | cryptodev_sw_zuc_autotest | dpdk_unit_test | +==============================+==============+==============================+===========================+================+ | Ubuntu 20.04 | PASS | SKIPPED | SKIPPED | PASS | +------------------------------+--------------+------------------------------+---------------------------+----------------+ | Debian 12 (arm) | SKIPPED | PASS | PASS | SKIPPED | +------------------------------+--------------+------------------------------+---------------------------+----------------+ | CentOS Stream 10 | SKIPPED | SKIPPED | SKIPPED | PASS | +------------------------------+--------------+------------------------------+---------------------------+----------------+ | Red Hat Enterprise Linux 9.5 | SKIPPED | SKIPPED | SKIPPED | PASS | +------------------------------+--------------+------------------------------+---------------------------+----------------+ | Fedora Linux 40 | SKIPPED | SKIPPED | SKIPPED | PASS | +------------------------------+--------------+------------------------------+---------------------------+----------------+ | Fedora Linux 41 | SKIPPED | SKIPPED | SKIPPED | PASS | +------------------------------+--------------+------------------------------+---------------------------+----------------+ | Ubuntu 22.04 | SKIPPED | SKIPPED | SKIPPED | PASS | +------------------------------+--------------+------------------------------+---------------------------+----------------+ | CentOS Stream 9 | SKIPPED | SKIPPED | SKIPPED | PASS | +------------------------------+--------------+------------------------------+---------------------------+----------------+ | Debian GNU/Linux 12 | SKIPPED | SKIPPED | SKIPPED | PASS | +------------------------------+--------------+------------------------------+---------------------------+----------------+ | Ubuntu 24.04 | SKIPPED | SKIPPED | SKIPPED | PASS | +------------------------------+--------------+------------------------------+---------------------------+----------------+ Ubuntu 20.04 Kernel: 5.4 Compiler: gcc gcc (Ubuntu 9.4.0-1ubuntu1~20.04.2) 9.4.0 Debian 12 (arm) Kernel: Depends on container host Compiler: gcc (Debian 12.2.0-14) 12.2.0 CentOS Stream 10 Kernel: 5.4 Compiler: gcc gcc (GCC) 14.2.1 20250110 (Red Hat 14.2.1-8) Red Hat Enterprise Linux 9.5 Kernel: 5.4 Compiler: gcc gcc (GCC) 11.5.0 20240719 (Red Hat 11.5.0-2) Fedora Linux 40 Kernel: 5.4 Compiler: gcc gcc (GCC) 14.2.1 20240912 (Red Hat 14.2.1-3) Fedora Linux 41 Kernel: 5.4 Compiler: gcc gcc (GCC) 14.3.1 20250523 (Red Hat 14.3.1-1) Ubuntu 22.04 Kernel: 5.4 Compiler: gcc gcc (Ubuntu 11.4.0-1ubuntu1~22.04) 11.4.0 CentOS Stream 9 Kernel: 5.4 Compiler: gcc gcc (GCC) 11.5.0 20240719 (Red Hat 11.5.0-7) Debian GNU/Linux 12 Kernel: 5.4 Compiler: gcc gcc (Debian 12.2.0-14+deb12u1) 12.2.0 Ubuntu 24.04 Kernel: 5.4 Compiler: gcc gcc (Ubuntu 13.3.0-6ubuntu2~24.04) 13.3.0 To view detailed results, visit: https://lab.dpdk.org/results/dashboard/patchsets/33645/ UNH-IOL DPDK Community Lab To manage your email subscriptions, visit: https://lab.dpdk.org/results/dashboard/preferences/subscriptions/