From mboxrd@z Thu Jan 1 00:00:00 1970 Return-Path: Received: from mails.dpdk.org (mails.dpdk.org [217.70.189.124]) by inbox.dpdk.org (Postfix) with ESMTP id DB09E46B6F for ; Mon, 14 Jul 2025 11:31:58 +0200 (CEST) Received: from mails.dpdk.org (localhost [127.0.0.1]) by mails.dpdk.org (Postfix) with ESMTP id 9CF23400D5; Mon, 14 Jul 2025 11:31:58 +0200 (CEST) Received: from mail-pl1-f225.google.com (mail-pl1-f225.google.com [209.85.214.225]) by mails.dpdk.org (Postfix) with ESMTP id 7F7CD400D5 for ; Mon, 14 Jul 2025 11:31:56 +0200 (CEST) Received: by mail-pl1-f225.google.com with SMTP id d9443c01a7336-234fcadde3eso50608295ad.0 for ; Mon, 14 Jul 2025 02:31:56 -0700 (PDT) DKIM-Signature: v=1; a=rsa-sha256; c=relaxed/relaxed; d=iol.unh.edu; s=unh-iol; t=1752485515; x=1753090315; darn=dpdk.org; h=references:in-reply-to:cc:to:from:subject:message-id:date:from:to :cc:subject:date:message-id:reply-to; bh=SjcVvc3i6rahC4Z/tXRNcp73jrXbhoxgwxtrbNUSQvk=; b=SeX50WJQr8U1LHq5xUXZLz4eojNWO7k/egCFUDjztgG+ztL12hFzSI61MO9+djepkf wriHcYoZFiG06gO3Y9S6DmN0SJNoYPaJPJ76wQa/m6u8MUX3AZl909piB0Re6L2Q+OPU kBN7XgFmwlP5xJK1Jttx4zJL5IblhEx6XVKpw= X-Google-DKIM-Signature: v=1; a=rsa-sha256; c=relaxed/relaxed; d=1e100.net; s=20230601; t=1752485515; x=1753090315; h=references:in-reply-to:cc:to:from:subject:message-id:date :x-gm-message-state:from:to:cc:subject:date:message-id:reply-to; bh=SjcVvc3i6rahC4Z/tXRNcp73jrXbhoxgwxtrbNUSQvk=; b=cRCRhADZ1u4Msi0E5ec4U/TTcG6+40eD9IeBlvUwxJXL/8x3jfciPLBQOTJ3xtdOZL nruAIW1BhIzAoiK2BBoK+YhAx+4RQPqj0cg7NSO9BmJRBK4YWXm3dyXzhD+4y9RJoYrF UsdI8lzq4xEwYMHbzQAkdZMrLxVSQrmNlN3mmlw3i0YEnMj8MnfUJj0iXE9ECnKHFiCJ UxBvuV6dHOuW78Ap1RgVSXl5kHwXuYWeX3eaD2SIxtDOsIoMDbKdqbCaqLIifQkc+Uv2 T8DOxxWeNWI5kC4SXBA+ea7rrgmd/Rs3l6Zu2kHth47aS3RoavA6DqzxxVKgTp1EMq/8 Mnmw== X-Gm-Message-State: AOJu0YyJyxmjVt8M8PAE+OMz0OVA+BJAC4zVhbSSFBCEVSEKwF0JwKKV b1n6lubK1bP6KQJc2xv4xaku/0qjlLLOuLGkD5ZwmEUcTjTVB3URO5jOv3OhvZD5ST8qtqU+nLP nJLD2Ea693Iq5XvlfhWbqtyneuCydhnKveIsKqZwEG/qv X-Gm-Gg: ASbGncs8KohNnCmDjxdN+Laln/KhdjB98Ns4BzeKm3Me+MK/Wc1+FzwXDDCAQ52usZ7 PLzdfK58YWf6vsKTEkLTCxL0PaOfrDJcqoZUl8s44IssB98E9p/Fex0iFaA57GFuNbmNiKXH6+Z rddvEHDAEvQB+EKb3SGLLLin59CrmldwLBk8wZuHu4d3iEKkTRWaaAN1rNHxfa662FsGaoUnTUl F8r5ytdXHHsz1fFhiJx2iM6NACR6ADdG7pv+w25T0yQssgbRaGYSwim9P/Fh4X4yAF4v6I6LYxH TgwPMruOu8jzj0c4EoC/RTh1t/3x43qwTeOHmrcjTe3AYDPWtw4hE4A3Rqs5y6X51JlrTGSI X-Google-Smtp-Source: AGHT+IE1F3fy2GvUd9m25DBw9A0nbuf7SFws4g2EE1TsNz6PtzHm7/VYQey6Jl15aY+hIoHDsW/m4kZBP/MW X-Received: by 2002:a17:902:fccb:b0:235:ea0d:ae10 with SMTP id d9443c01a7336-23dee18a703mr135336645ad.12.1752485515451; Mon, 14 Jul 2025 02:31:55 -0700 (PDT) Received: from postal.iol.unh.edu (postal.iol.unh.edu. [132.177.123.84]) by smtp-relay.gmail.com with ESMTPS id d9443c01a7336-23de42a0909sm5024605ad.39.2025.07.14.02.31.55 (version=TLS1_2 cipher=ECDHE-ECDSA-AES128-GCM-SHA256 bits=128/128); Mon, 14 Jul 2025 02:31:55 -0700 (PDT) X-Relaying-Domain: iol.unh.edu Date: Mon, 14 Jul 2025 02:31:55 -0700 (PDT) Message-ID: <6874ce8b.170a0220.257a05.aca7SMTPIN_ADDED_MISSING@mx.google.com> Received: from [172.21.0.5] (unknown [172.18.0.240]) by postal.iol.unh.edu (Postfix) with ESMTP id 987936051830; Mon, 14 Jul 2025 05:31:54 -0400 (EDT) Subject: |SUCCESS| pw155197 [PATCH] [v0,1/1] net/octeon_ep: handle interrupt From: dpdklab@iol.unh.edu To: Test Report Cc: dpdk-test-reports@iol.unh.edu In-Reply-To: <20250714053150.2229683-1-vattunuru@marvell.com> References: <20250714053150.2229683-1-vattunuru@marvell.com> Content-Type: text/plain X-BeenThere: test-report@dpdk.org X-Mailman-Version: 2.1.29 Precedence: list List-Id: automatic DPDK test reports List-Unsubscribe: , List-Archive: List-Post: List-Help: List-Subscribe: , Errors-To: test-report-bounces@dpdk.org Test-Label: iol-unit-amd64-testing Test-Status: SUCCESS http://dpdk.org/patch/155197 _Testing PASS_ Submitter: Vamsi Krishna Date: Monday, July 14 2025 05:31:50 DPDK git baseline: Repo:dpdk Branch: master CommitID:3761152ec7f99c9b60c9cc933102d35fa663393a 155197 --> testing pass Upstream job id: Generic-Unit-Test-DPDK#355171 Test environment and result as below: +-------------------------------+----------------+ | Environment | dpdk_unit_test | +===============================+================+ | Fedora Linux 41 | PASS | +-------------------------------+----------------+ | CentOS Stream 10 | PASS | +-------------------------------+----------------+ | Fedora Linux 40 | PASS | +-------------------------------+----------------+ | Debian GNU/Linux 12 | PASS | +-------------------------------+----------------+ | Red Hat Enterprise Linux 9.5 | PASS | +-------------------------------+----------------+ | Ubuntu 22.04 | PASS | +-------------------------------+----------------+ | CentOS Stream 9 | PASS | +-------------------------------+----------------+ | Ubuntu 20.04 | PASS | +-------------------------------+----------------+ | Red Hat Enterprise Linux 8.10 | PASS | +-------------------------------+----------------+ | Ubuntu 24.04 | PASS | +-------------------------------+----------------+ | Windows Server 2022 | PASS | +-------------------------------+----------------+ Fedora Linux 41 Kernel: 5.15 Compiler: clang gcc (GCC) 14.3.1 20250523 (Red Hat 14.3.1-1) CentOS Stream 10 Kernel: 5.15 Compiler: gcc gcc (GCC) 14.2.1 20250110 (Red Hat 14.2.1-8) Fedora Linux 40 Kernel: 5.15 Compiler: gcc gcc (GCC) 14.2.1 20240912 (Red Hat 14.2.1-3) Debian GNU/Linux 12 Kernel: 5.15 Compiler: gcc gcc (Debian 12.2.0-14+deb12u1) 12.2.0 Red Hat Enterprise Linux 9.5 Kernel: 5.15 Compiler: gcc gcc (GCC) 11.5.0 20240719 (Red Hat 11.5.0-2) Ubuntu 22.04 Kernel: 5.15 Compiler: gcc gcc (Ubuntu 11.4.0-1ubuntu1~22.04) 11.4.0 CentOS Stream 9 Kernel: 5.15 Compiler: gcc gcc (GCC) 11.5.0 20240719 (Red Hat 11.5.0-7) Ubuntu 20.04 Kernel: 5.15 Compiler: gcc gcc (Ubuntu 9.4.0-1ubuntu1~20.04.2) 9.4.0 Red Hat Enterprise Linux 8.10 Kernel: 5.15 Compiler: gcc gcc (GCC) 8.5.0 20210514 (Red Hat 8.5.0-22) Ubuntu 24.04 Kernel: 5.15 Compiler: gcc gcc (Ubuntu 13.3.0-6ubuntu2~24.04) 13.3.0 Windows Server 2022 Kernel: 10.0.20348.2031 Compiler: clang 15.0.7, gcc 14.1.0 (MinGW), and MSVC VS 19.39.33521 To view detailed results, visit: https://lab.dpdk.org/results/dashboard/patchsets/33644/ UNH-IOL DPDK Community Lab To manage your email subscriptions, visit: https://lab.dpdk.org/results/dashboard/preferences/subscriptions/