From mboxrd@z Thu Jan 1 00:00:00 1970 Return-Path: Received: from mails.dpdk.org (mails.dpdk.org [217.70.189.124]) by inbox.dpdk.org (Postfix) with ESMTP id 33ED446B70 for ; Mon, 14 Jul 2025 12:16:50 +0200 (CEST) Received: from mails.dpdk.org (localhost [127.0.0.1]) by mails.dpdk.org (Postfix) with ESMTP id 109FC400D5; Mon, 14 Jul 2025 12:16:50 +0200 (CEST) Received: from mail-pl1-f226.google.com (mail-pl1-f226.google.com [209.85.214.226]) by mails.dpdk.org (Postfix) with ESMTP id 862AF400D5 for ; Mon, 14 Jul 2025 12:16:48 +0200 (CEST) Received: by mail-pl1-f226.google.com with SMTP id d9443c01a7336-236470b2dceso35010885ad.0 for ; Mon, 14 Jul 2025 03:16:48 -0700 (PDT) DKIM-Signature: v=1; a=rsa-sha256; c=relaxed/relaxed; d=iol.unh.edu; s=unh-iol; t=1752488207; x=1753093007; darn=dpdk.org; h=references:in-reply-to:cc:to:from:subject:message-id:date:from:to :cc:subject:date:message-id:reply-to; bh=TvncKiZ6Cbp6I3SIyVjiteJMAQllEtVBxneGTc29/Xo=; b=Pyo1ohqPcQtIH29u6+p831JZD0kkhO1sLvTcCau7rz//gfitbySM9ZxIMn32VmdW22 6BK0WjH5hmZcuNJlv8HO07mQPlBztpjA/9B5NX2sBbtxf53jpaF+8e7co6HEUh3QwqxE pUayDmHsSwBYMVIwR4qvd9JYzxjG9OgWtFynQ= X-Google-DKIM-Signature: v=1; a=rsa-sha256; c=relaxed/relaxed; d=1e100.net; s=20230601; t=1752488207; x=1753093007; h=references:in-reply-to:cc:to:from:subject:message-id:date :x-gm-message-state:from:to:cc:subject:date:message-id:reply-to; bh=TvncKiZ6Cbp6I3SIyVjiteJMAQllEtVBxneGTc29/Xo=; b=Nl8jVoQE4+31I0TeOx5zjcp5i0OfZgB91Lph6EU9p+XBXLMs6EUA5tNu4cio2Fg4Ev FAsg5CsrJCyGc4sBHiC9KMZDQ87oySjGkIdPwVajb9mpENagRFkfmnhGLGPtvVqZoUSB sV8zaJyQXrWKJ1z2VK86QlDTT7ZGYlTp/y4S3cvq/qCEOwwrcHofXtSfmw3ve1CjaDz9 sQy56J/WPkmAaJvsNN1xT6DTek0g4SPFr1/Apil2b3yL3uSA0O2u6RistJYGXBv01hEP kYBozsKGH+K8+KugMKSaAk4cd5MbFxYacuJ8fjNyPk39kHYYm+T1gMWQ9AVLisYAMmCO yu7A== X-Gm-Message-State: AOJu0YwJmnf2JALUwa7Y4BnSrHfh9vXw7WR0/1JnV1cZxEMKyhTiumRy XvaWcQ4Tt7ZeCQ1CDJgLYbKnP++/OJYFHPN5PkUvkHxziSRes4H7tqEV1FD7bowJxoj0Z6tWuqG 7M3VEMsZm6FPtrUjMN5+KRSOMQWVILE9ZkWSP3fvt0qnX X-Gm-Gg: ASbGncvLnylAjdkvR8m95lEMMNWh6WUkDrSaLEYu/qiheRw6TnUVa1U3r/oCRWr/jWq RV8wMsaICEppoVCTNXzbxHed2OJJrmwWWU63X9Wqo7bhKkQtn/7kYLrcnVntupdIh2Rde63FebB DRwKOi+Vh1BetXKKy5k9Hk88XBnpzOfzz315W4zlQsXn8oUi49DrnPs6ouz1t0KvhcMYmEEn+g+ q3m9dL+z3FvUzPIYdAVobSNzdDuNmwhXeNVc+N3Ct+ZOlypS8jSHH9Zi5jsj605JOE87GhCtClk QBvmkR+/+TWoC/Gk1RLWgc34pd7u80eR+7iJsJl1r8Msz89O+p6B/MJBCZOnpljmWRFQfukm X-Google-Smtp-Source: AGHT+IEdmIEYTEWReeu0Nk1ONiltTCvENThmwnz1gbRkM3UQsuVYIn/Li/f8Bsie7haDBlqa//AR/8fW5q1p X-Received: by 2002:a17:903:11d0:b0:234:c2e7:a102 with SMTP id d9443c01a7336-23dee292477mr213423645ad.43.1752488207448; Mon, 14 Jul 2025 03:16:47 -0700 (PDT) Received: from postal.iol.unh.edu (postal.iol.unh.edu. [132.177.123.84]) by smtp-relay.gmail.com with ESMTPS id d9443c01a7336-23de42636a2sm4877595ad.18.2025.07.14.03.16.47 (version=TLS1_2 cipher=ECDHE-ECDSA-AES128-GCM-SHA256 bits=128/128); Mon, 14 Jul 2025 03:16:47 -0700 (PDT) X-Relaying-Domain: iol.unh.edu Date: Mon, 14 Jul 2025 03:16:47 -0700 (PDT) Message-ID: <6874d90f.170a0220.9a337.9c77SMTPIN_ADDED_MISSING@mx.google.com> Received: from [172.21.0.5] (unknown [172.18.0.240]) by postal.iol.unh.edu (Postfix) with ESMTP id D48F16051830; Mon, 14 Jul 2025 06:16:46 -0400 (EDT) Subject: |SUCCESS| pw155199 [PATCH] [v0,1/1] net/octeon_ep: fix device start From: dpdklab@iol.unh.edu To: Test Report Cc: dpdk-test-reports@iol.unh.edu In-Reply-To: <20250714055849.2258453-1-vattunuru@marvell.com> References: <20250714055849.2258453-1-vattunuru@marvell.com> Content-Type: text/plain X-BeenThere: test-report@dpdk.org X-Mailman-Version: 2.1.29 Precedence: list List-Id: automatic DPDK test reports List-Unsubscribe: , List-Archive: List-Post: List-Help: List-Subscribe: , Errors-To: test-report-bounces@dpdk.org Test-Label: iol-unit-arm64-testing Test-Status: SUCCESS http://dpdk.org/patch/155199 _Testing PASS_ Submitter: Vamsi Krishna Date: Monday, July 14 2025 05:58:49 DPDK git baseline: Repo:dpdk Branch: master CommitID:3761152ec7f99c9b60c9cc933102d35fa663393a 155199 --> testing pass Upstream job id: Generic-Unit-Test-DPDK#355211 Test environment and result as below: +------------------------------+--------------+---------------------------+------------------------------+----------------+ | Environment | lpm_autotest | cryptodev_sw_zuc_autotest | cryptodev_sw_snow3g_autotest | dpdk_unit_test | +==============================+==============+===========================+==============================+================+ | Ubuntu 20.04 | PASS | SKIPPED | SKIPPED | PASS | +------------------------------+--------------+---------------------------+------------------------------+----------------+ | Debian 12 (arm) | SKIPPED | PASS | PASS | SKIPPED | +------------------------------+--------------+---------------------------+------------------------------+----------------+ | CentOS Stream 10 | SKIPPED | SKIPPED | SKIPPED | PASS | +------------------------------+--------------+---------------------------+------------------------------+----------------+ | Fedora Linux 41 | SKIPPED | SKIPPED | SKIPPED | PASS | +------------------------------+--------------+---------------------------+------------------------------+----------------+ | Debian GNU/Linux 12 | SKIPPED | SKIPPED | SKIPPED | PASS | +------------------------------+--------------+---------------------------+------------------------------+----------------+ | CentOS Stream 9 | SKIPPED | SKIPPED | SKIPPED | PASS | +------------------------------+--------------+---------------------------+------------------------------+----------------+ | Fedora Linux 40 | SKIPPED | SKIPPED | SKIPPED | PASS | +------------------------------+--------------+---------------------------+------------------------------+----------------+ | Red Hat Enterprise Linux 9.5 | SKIPPED | SKIPPED | SKIPPED | PASS | +------------------------------+--------------+---------------------------+------------------------------+----------------+ | Ubuntu 22.04 | SKIPPED | SKIPPED | SKIPPED | PASS | +------------------------------+--------------+---------------------------+------------------------------+----------------+ | Ubuntu 24.04 | SKIPPED | SKIPPED | SKIPPED | PASS | +------------------------------+--------------+---------------------------+------------------------------+----------------+ Ubuntu 20.04 Kernel: 5.4 Compiler: gcc gcc (Ubuntu 9.4.0-1ubuntu1~20.04.2) 9.4.0 Debian 12 (arm) Kernel: Depends on container host Compiler: gcc (Debian 12.2.0-14) 12.2.0 CentOS Stream 10 Kernel: 5.4 Compiler: gcc gcc (GCC) 14.2.1 20250110 (Red Hat 14.2.1-8) Fedora Linux 41 Kernel: 5.4 Compiler: gcc gcc (GCC) 14.3.1 20250523 (Red Hat 14.3.1-1) Debian GNU/Linux 12 Kernel: 5.4 Compiler: gcc gcc (Debian 12.2.0-14+deb12u1) 12.2.0 CentOS Stream 9 Kernel: 5.4 Compiler: gcc gcc (GCC) 11.5.0 20240719 (Red Hat 11.5.0-7) Fedora Linux 40 Kernel: 5.4 Compiler: clang gcc (GCC) 14.2.1 20240912 (Red Hat 14.2.1-3) Red Hat Enterprise Linux 9.5 Kernel: 5.4 Compiler: gcc gcc (GCC) 11.5.0 20240719 (Red Hat 11.5.0-2) Ubuntu 22.04 Kernel: 5.4 Compiler: gcc gcc (Ubuntu 11.4.0-1ubuntu1~22.04) 11.4.0 Ubuntu 24.04 Kernel: 5.4 Compiler: gcc gcc (Ubuntu 13.3.0-6ubuntu2~24.04) 13.3.0 To view detailed results, visit: https://lab.dpdk.org/results/dashboard/patchsets/33646/ UNH-IOL DPDK Community Lab To manage your email subscriptions, visit: https://lab.dpdk.org/results/dashboard/preferences/subscriptions/