From mboxrd@z Thu Jan 1 00:00:00 1970 Return-Path: Received: from mails.dpdk.org (mails.dpdk.org [217.70.189.124]) by inbox.dpdk.org (Postfix) with ESMTP id A963B46B70 for ; Mon, 14 Jul 2025 12:21:29 +0200 (CEST) Received: from mails.dpdk.org (localhost [127.0.0.1]) by mails.dpdk.org (Postfix) with ESMTP id 8B24A400D5; Mon, 14 Jul 2025 12:21:29 +0200 (CEST) Received: from mail-il1-f226.google.com (mail-il1-f226.google.com [209.85.166.226]) by mails.dpdk.org (Postfix) with ESMTP id 32F5B400D5 for ; Mon, 14 Jul 2025 12:21:28 +0200 (CEST) Received: by mail-il1-f226.google.com with SMTP id e9e14a558f8ab-3df2e7cdc64so31951535ab.1 for ; Mon, 14 Jul 2025 03:21:28 -0700 (PDT) DKIM-Signature: v=1; a=rsa-sha256; c=relaxed/relaxed; d=iol.unh.edu; s=unh-iol; t=1752488487; x=1753093287; darn=dpdk.org; h=references:in-reply-to:cc:to:from:subject:message-id:date:from:to :cc:subject:date:message-id:reply-to; bh=4XE+qjl8ZLWO8TlHFSa6Q9VXo8SfhtkCj62aPxR4Yaw=; b=dgizhjwy4h7fm1ULK7v1jwNEfeJ+rHQlU7V01tdx7sKxOQmmzSkHKxbKB8wB2O3nsg RbKr7SFd7ES9o2/PeXFroOnY0KQycAre/LplgRJ26d/qiQxo5w3oCXPZAxDM2vYfFPZz 4ppXyxG2Xp8ejGTFFxqf10BEWcfHZvsoWwxGE= X-Google-DKIM-Signature: v=1; a=rsa-sha256; c=relaxed/relaxed; d=1e100.net; s=20230601; t=1752488487; x=1753093287; h=references:in-reply-to:cc:to:from:subject:message-id:date :x-gm-message-state:from:to:cc:subject:date:message-id:reply-to; bh=4XE+qjl8ZLWO8TlHFSa6Q9VXo8SfhtkCj62aPxR4Yaw=; b=hdVEIfiO31ke4/3OMfRepYhGCE5yYIrX2ZuCNAz/iCkgLw2r+6cETozRfapKguVSBt GRp2r9E/a3ifpLZhxJQqg+I6xUKO6KpBUn1DY7O8M+Udx1PwMQFJ5ukoqc42cXLkc65E UmusjbXy+r+cf90VKJ6CBNo37WexTsAwy+HV7ordgQ+2+wNo8YlC8RBYUy/KX/YGHZRY VW7tctaFV2GCOc9lTL4jvfgxrYxSgAmW1fu82ZE+405iJdlDHlS5+xSFcxJgCK5JQZfO ZZYb1xQrfHW++pVlwVeHSikNCz4aT49WtMNQII8DcDi69+3KwaDAo4lla5nTTcTb+NOd uwiw== X-Gm-Message-State: AOJu0Yyf0j7IRZy7kRyxCGJ1bdnVA0c7ffRKNOEvqOoilnoUBtjd17V9 J3XB0/aHlcWj1V3ejna08MI5QhLBtZ8ve6fekHm0Cf0JdpFMOEA8hY41cxWh1SoYMbIIgMZj4P7 EhF7FJHj7CdYyXOPfQDBRHTIGyNIBVdxZgWhqm+9136PRPA8KvCSrVzPYV3pZ X-Gm-Gg: ASbGncvOhTNwKSSRZdFj47+GSTPP2LOy3H26hhbOFlBlsEGknhGELK8OU41ndA3nJLM 7E/EAz8Crm9pDmB2qG5hjqJPYYJnYYoiaKi4F39a/ZSu8GnREgeR/XzUFeZT0JpQ+jYoCev6jnG twt1CudcnLRkOZYgeoOD9+L0TAMhFCExS+jse6AB6lfqdilL2ZG+cieHKXoCd+QmePnzI10d/YM 7UUC3ncyO9JJShOvRAgtsWG7OFTjFv6hKE8KZfrRqFIAKMu/X/Bfn9pkweVlFncrhD/lCmQnp07 V3mJ3nDU0raHPwvut16XItyp1LXKVVyj7E/1uq2iTnzyKFjauQ== X-Google-Smtp-Source: AGHT+IFy4q4SXnyki8YhPBNC+QeqB4VbwMsO114JuL2N7yh2639wuf+xCJJN4ivoe4i3+jCtFIb3ay0N3P7G X-Received: by 2002:a05:6e02:3cc4:b0:3df:49fa:7af5 with SMTP id e9e14a558f8ab-3e253369f25mr148234785ab.21.1752488487478; Mon, 14 Jul 2025 03:21:27 -0700 (PDT) Received: from postal.iol.unh.edu (postal.iol.unh.edu. [2606:4100:3880:1234::84]) by smtp-relay.gmail.com with ESMTPS id e9e14a558f8ab-3e2460e1f6asm6038155ab.4.2025.07.14.03.21.27 (version=TLS1_2 cipher=ECDHE-ECDSA-AES128-GCM-SHA256 bits=128/128); Mon, 14 Jul 2025 03:21:27 -0700 (PDT) X-Relaying-Domain: iol.unh.edu Date: Mon, 14 Jul 2025 03:21:27 -0700 (PDT) Message-ID: <6874da27.920a0220.da045.06a6SMTPIN_ADDED_MISSING@mx.google.com> Received: from [172.21.0.5] (unknown [172.18.0.240]) by postal.iol.unh.edu (Postfix) with ESMTP id 00B536051830; Mon, 14 Jul 2025 06:21:27 -0400 (EDT) Subject: |SUCCESS| pw155198 [PATCH] [v0,1/1] net/octeon_ep: fix mbuf data off From: dpdklab@iol.unh.edu To: Test Report Cc: dpdk-test-reports@iol.unh.edu In-Reply-To: <20250714054041.2257589-1-vattunuru@marvell.com> References: <20250714054041.2257589-1-vattunuru@marvell.com> Content-Type: text/plain X-BeenThere: test-report@dpdk.org X-Mailman-Version: 2.1.29 Precedence: list List-Id: automatic DPDK test reports List-Unsubscribe: , List-Archive: List-Post: List-Help: List-Subscribe: , Errors-To: test-report-bounces@dpdk.org Test-Label: iol-unit-amd64-testing Test-Status: SUCCESS http://dpdk.org/patch/155198 _Testing PASS_ Submitter: Vamsi Krishna Date: Monday, July 14 2025 05:40:41 DPDK git baseline: Repo:dpdk Branch: master CommitID:3761152ec7f99c9b60c9cc933102d35fa663393a 155198 --> testing pass Upstream job id: Generic-Unit-Test-DPDK#355194 Test environment and result as below: +-------------------------------+----------------+ | Environment | dpdk_unit_test | +===============================+================+ | CentOS Stream 10 | PASS | +-------------------------------+----------------+ | Fedora Linux 41 | PASS | +-------------------------------+----------------+ | Red Hat Enterprise Linux 8.10 | PASS | +-------------------------------+----------------+ | Ubuntu 20.04 | PASS | +-------------------------------+----------------+ | Ubuntu 22.04 | PASS | +-------------------------------+----------------+ | CentOS Stream 9 | PASS | +-------------------------------+----------------+ | Ubuntu 24.04 | PASS | +-------------------------------+----------------+ | Red Hat Enterprise Linux 9.5 | PASS | +-------------------------------+----------------+ | Fedora Linux 40 | PASS | +-------------------------------+----------------+ | Debian GNU/Linux 12 | PASS | +-------------------------------+----------------+ | Windows Server 2022 | PASS | +-------------------------------+----------------+ CentOS Stream 10 Kernel: 5.15 Compiler: gcc gcc (GCC) 14.2.1 20250110 (Red Hat 14.2.1-8) Fedora Linux 41 Kernel: 5.15 Compiler: clang gcc (GCC) 14.3.1 20250523 (Red Hat 14.3.1-1) Red Hat Enterprise Linux 8.10 Kernel: 5.15 Compiler: gcc gcc (GCC) 8.5.0 20210514 (Red Hat 8.5.0-22) Ubuntu 20.04 Kernel: 5.15 Compiler: gcc gcc (Ubuntu 9.4.0-1ubuntu1~20.04.2) 9.4.0 Ubuntu 22.04 Kernel: 5.15 Compiler: gcc gcc (Ubuntu 11.4.0-1ubuntu1~22.04) 11.4.0 CentOS Stream 9 Kernel: 5.15 Compiler: gcc gcc (GCC) 11.5.0 20240719 (Red Hat 11.5.0-7) Ubuntu 24.04 Kernel: 5.15 Compiler: gcc gcc (Ubuntu 13.3.0-6ubuntu2~24.04) 13.3.0 Red Hat Enterprise Linux 9.5 Kernel: 5.15 Compiler: gcc gcc (GCC) 11.5.0 20240719 (Red Hat 11.5.0-2) Fedora Linux 40 Kernel: 5.15 Compiler: gcc gcc (GCC) 14.2.1 20240912 (Red Hat 14.2.1-3) Debian GNU/Linux 12 Kernel: 5.15 Compiler: gcc gcc (Debian 12.2.0-14+deb12u1) 12.2.0 Windows Server 2022 Kernel: 10.0.20348.2031 Compiler: clang 15.0.7, gcc 14.1.0 (MinGW), and MSVC VS 19.39.33521 To view detailed results, visit: https://lab.dpdk.org/results/dashboard/patchsets/33645/ UNH-IOL DPDK Community Lab To manage your email subscriptions, visit: https://lab.dpdk.org/results/dashboard/preferences/subscriptions/