From mboxrd@z Thu Jan 1 00:00:00 1970 Return-Path: Received: from mails.dpdk.org (mails.dpdk.org [217.70.189.124]) by inbox.dpdk.org (Postfix) with ESMTP id 9E17246B70 for ; Mon, 14 Jul 2025 12:38:43 +0200 (CEST) Received: from mails.dpdk.org (localhost [127.0.0.1]) by mails.dpdk.org (Postfix) with ESMTP id 86409400D5; Mon, 14 Jul 2025 12:38:43 +0200 (CEST) Received: from mail-ua1-f97.google.com (mail-ua1-f97.google.com [209.85.222.97]) by mails.dpdk.org (Postfix) with ESMTP id 2F03E400D5 for ; Mon, 14 Jul 2025 12:38:42 +0200 (CEST) Received: by mail-ua1-f97.google.com with SMTP id a1e0cc1a2514c-87ec5e1cd4aso1723187241.0 for ; Mon, 14 Jul 2025 03:38:42 -0700 (PDT) DKIM-Signature: v=1; a=rsa-sha256; c=relaxed/relaxed; d=iol.unh.edu; s=unh-iol; t=1752489521; x=1753094321; darn=dpdk.org; h=references:in-reply-to:cc:to:from:subject:message-id:date:from:to :cc:subject:date:message-id:reply-to; bh=Q5aiF+VZpxlRcNhIXmehWl+hU2C634+BwGAA/EaLsj8=; b=P9FJIWi/asTWsGAK4HJsENlwDIoSrmy2JjtAVydgjBA+UyV3gUTAk/utMGw5R5vulc u6zor42B7IQav+gn4toC53G97xpDXZFWVxEVRczUvHs2oET2lFH5Pez+Q0t5Aj7P5SBy LnaWk9SDZNBuKkeu8uN46fQf7aa3uDTzJ6iT4= X-Google-DKIM-Signature: v=1; a=rsa-sha256; c=relaxed/relaxed; d=1e100.net; s=20230601; t=1752489521; x=1753094321; h=references:in-reply-to:cc:to:from:subject:message-id:date :x-gm-message-state:from:to:cc:subject:date:message-id:reply-to; bh=Q5aiF+VZpxlRcNhIXmehWl+hU2C634+BwGAA/EaLsj8=; b=ZZpupXZ+M6A1izRLPNs6lkPU+5MbXNO2p427s5JBXvzFcTrsYCKwKne5tlBKc35Tdv 8xmnprpkyVJWd2Bifv9PC8/gyEa7vEHQoLTek7UFRHJLd4eSHdkv68nvmPlCpnHcPrRT H4Zo25RdmNeSYU2WOJIBbsN2Jqb6GYDzxFNghIxFa1gSSMN+AJiYd0gB/T1IrIFEG5Ok PFYJ3jK8m8g7/X7zffrll2evvBDlCNLMT54VaRz1KpQDFZ0irxgQnKaHT+c3fZ14T+Ri r8hLH2dHV30eX+cg2ml60nJqAsuqvz/eaROXBBaIjTIOXdwvVwem08PxTLLZCFlz8zRv 6nhA== X-Gm-Message-State: AOJu0Yzt9qr4le4bK1i6LkNfnwnd8TVmqTT9MRFtC+P4W/nDtkdtdnG8 X6UGLC1HahB+vY1DNSX++GR6mx11Cu0Dqy6lhTJcvtBwFieu8uJ2vQZF2EC8cDHEx6eNqLGstVI C6wXOU3Kq/CRyKvtmQnsF8Rn3FRAitw00Nrem43vVj3je X-Gm-Gg: ASbGnctoUdAD0L9LKaicTspOTHyXxoZCdUffpJgaVn8796RveCF+KMa2XAok4IClJ3/ viBG9ipvFeRNsauTocj2ovwzQezWd74jiZ1mv9mnzWaxHH0M6ZJSMSGA/4vJi7uO9mqTADX2RN0 bPqmDEQxZNVNOmxaM0DWvAg2v75RR6kU7CCfIZ9lvBjUsVkRSLiujda8K37iy79Hc6Fc7DgYoAq IsrqUy3IHzVClIYK639rSGY/tDQq//FArnZHc0UjgD01dj3/2CsX07/7rLAx4Wnyorqd9eopL58 TWbOMevPIkQeSStARDOdYuED8X1tWbTkfxyj27k/B6d80As3AKA062oTw7txTLm+GWNAEDyd X-Google-Smtp-Source: AGHT+IGB0aqsck7Gvxfm0/FO/OZgjXLhAdrUR25v2ryCXdphWhUSX3PyR2AyzqnNjgqmNBL5T5+HaHBgiyMk X-Received: by 2002:a67:e703:0:b0:4bc:82f:b4e0 with SMTP id ada2fe7eead31-4f64273fafamr7689728137.22.1752489521456; Mon, 14 Jul 2025 03:38:41 -0700 (PDT) Received: from postal.iol.unh.edu (postal.iol.unh.edu. [132.177.123.84]) by smtp-relay.gmail.com with ESMTPS id a1e0cc1a2514c-888ec1df21fsm62949241.2.2025.07.14.03.38.41 (version=TLS1_2 cipher=ECDHE-ECDSA-AES128-GCM-SHA256 bits=128/128); Mon, 14 Jul 2025 03:38:41 -0700 (PDT) X-Relaying-Domain: iol.unh.edu Date: Mon, 14 Jul 2025 03:38:41 -0700 (PDT) Message-ID: <6874de31.050a0220.3b0afd.2fe8SMTPIN_ADDED_MISSING@mx.google.com> Received: from [172.21.0.5] (unknown [172.18.0.240]) by postal.iol.unh.edu (Postfix) with ESMTP id B68796051830; Mon, 14 Jul 2025 06:38:40 -0400 (EDT) Subject: |SUCCESS| pw155197 [PATCH] [v0,1/1] net/octeon_ep: handle interrupt From: dpdklab@iol.unh.edu To: Test Report Cc: dpdk-test-reports@iol.unh.edu In-Reply-To: <20250714053150.2229683-1-vattunuru@marvell.com> References: <20250714053150.2229683-1-vattunuru@marvell.com> Content-Type: text/plain X-BeenThere: test-report@dpdk.org X-Mailman-Version: 2.1.29 Precedence: list List-Id: automatic DPDK test reports List-Unsubscribe: , List-Archive: List-Post: List-Help: List-Subscribe: , Errors-To: test-report-bounces@dpdk.org Test-Label: iol-abi-testing Test-Status: SUCCESS http://dpdk.org/patch/155197 _Testing PASS_ Submitter: Vamsi Krishna Attunuru Date: Monday, July 14 2025 05:31:50 DPDK git baseline: Repo:dpdk Branch: master CommitID:3761152ec7f99c9b60c9cc933102d35fa663393a 155197 --> testing pass Upstream job id: Generic-DPDK-Compile-ABI#134251 Test environment and result as below: +-------------------------------+----------+ | Environment | abi_test | +===============================+==========+ | CentOS Stream 10 | PASS | +-------------------------------+----------+ | CentOS Stream 9 | PASS | +-------------------------------+----------+ | Debian GNU/Linux 12 | PASS | +-------------------------------+----------+ | Fedora Linux 40 | PASS | +-------------------------------+----------+ | Fedora Linux 41 | PASS | +-------------------------------+----------+ | openSUSE Leap 15.6 | PASS | +-------------------------------+----------+ | Red Hat Enterprise Linux 8.10 | PASS | +-------------------------------+----------+ | Red Hat Enterprise Linux 9.5 | PASS | +-------------------------------+----------+ | Ubuntu 22.04 | PASS | +-------------------------------+----------+ | Ubuntu 24.04 | PASS | +-------------------------------+----------+ CentOS Stream 10 Kernel: 5.15 Compiler: gcc gcc (GCC) 14.2.1 20250110 (Red Hat 14.2.1-8) CentOS Stream 9 Kernel: 5.15 Compiler: gcc gcc (GCC) 11.5.0 20240719 (Red Hat 11.5.0-7) Debian GNU/Linux 12 Kernel: 5.15 Compiler: gcc gcc (Debian 12.2.0-14+deb12u1) 12.2.0 Fedora Linux 40 Kernel: 5.15 Compiler: gcc gcc (GCC) 14.2.1 20240912 (Red Hat 14.2.1-3) Fedora Linux 41 Kernel: 5.15 Compiler: gcc gcc (GCC) 14.3.1 20250523 (Red Hat 14.3.1-1) openSUSE Leap 15.6 Kernel: 5.15 Compiler: gcc gcc (SUSE Linux) 7.5.0 Red Hat Enterprise Linux 8.10 Kernel: 5.15 Compiler: gcc gcc (GCC) 8.5.0 20210514 (Red Hat 8.5.0-22) Red Hat Enterprise Linux 9.5 Kernel: 5.15 Compiler: gcc gcc (GCC) 11.5.0 20240719 (Red Hat 11.5.0-2) Ubuntu 22.04 Kernel: 5.15 Compiler: gcc gcc (Ubuntu 11.4.0-1ubuntu1~22.04) 11.4.0 Ubuntu 24.04 Kernel: 5.15 Compiler: gcc gcc (Ubuntu 13.3.0-6ubuntu2~24.04) 13.3.0 To view detailed results, visit: https://lab.dpdk.org/results/dashboard/patchsets/33644/ UNH-IOL DPDK Community Lab To manage your email subscriptions, visit: https://lab.dpdk.org/results/dashboard/preferences/subscriptions/