From mboxrd@z Thu Jan 1 00:00:00 1970 Return-Path: Received: from mails.dpdk.org (mails.dpdk.org [217.70.189.124]) by inbox.dpdk.org (Postfix) with ESMTP id B78B446B70 for ; Mon, 14 Jul 2025 12:40:03 +0200 (CEST) Received: from mails.dpdk.org (localhost [127.0.0.1]) by mails.dpdk.org (Postfix) with ESMTP id AA83C400D5; Mon, 14 Jul 2025 12:40:03 +0200 (CEST) Received: from mail-ot1-f99.google.com (mail-ot1-f99.google.com [209.85.210.99]) by mails.dpdk.org (Postfix) with ESMTP id 46CEB400D5 for ; Mon, 14 Jul 2025 12:40:02 +0200 (CEST) Received: by mail-ot1-f99.google.com with SMTP id 46e09a7af769-73a44512c8aso1083443a34.0 for ; Mon, 14 Jul 2025 03:40:02 -0700 (PDT) DKIM-Signature: v=1; a=rsa-sha256; c=relaxed/relaxed; d=iol.unh.edu; s=unh-iol; t=1752489601; x=1753094401; darn=dpdk.org; h=references:in-reply-to:cc:to:from:subject:message-id:date:from:to :cc:subject:date:message-id:reply-to; bh=hw3kUkFDUjoKaEbmulFhOPkZzUpqWC6UPVXvPr5CUYw=; b=dbNYsqZh23/Y9ymJ1/WXARsW4yJSWP8d08I92hmjxNzIgNTX4MvlTdbjW4HxPov44Q kNCQKUahlMjN5Tba0pnw+efmtmo2LVUP+U1LVuIVe6EDrgZjgroA+t5eC4L3FQGETxJm v+I1r34qlvFfxnP1nAG6HT0NBb32TVY4YlUIA= X-Google-DKIM-Signature: v=1; a=rsa-sha256; c=relaxed/relaxed; d=1e100.net; s=20230601; t=1752489601; x=1753094401; h=references:in-reply-to:cc:to:from:subject:message-id:date :x-gm-message-state:from:to:cc:subject:date:message-id:reply-to; bh=hw3kUkFDUjoKaEbmulFhOPkZzUpqWC6UPVXvPr5CUYw=; b=LHWTeG4z0KMxp1+CMDW0X2ur/qS4mrmbkt1+S03yaF6tgA28zpCIQOljhi5B17iEgd 5Vmw1EXJETPKrAltV1qtEEjpO0RiGXwx/ELRh4RS9FWeD1neOesuBvvw1+4Kk7cWe6wd ldnlOJNIg3XEaLO9jZSnF2fph0uUoLqc+XjG0+aOnsxUBhLEOYqvJkY8H+HGKD4cFja+ NzWac+S2zFIbst2FHKKce/K/WHrIyENLxp64+xH3p9XU6LNaBkdetAqPuKldmPknrVD/ ifnJ0OXhcx8PWJg3elZWLk1bRki6Vg0CvI43BbpErToSDZV6bNDWSzu3l9pChtmF55Zy bRSQ== X-Gm-Message-State: AOJu0YwGzOTekoGLgAdsKgCTp8ycQ4XXpaiEAQzoK0AfaA/xN1Ug9VDo q16yVpfPXxEOT/gYuCPeB7pyMonE4fpfTAYZ4G9KRNpV1V92tFdZOFQDBNlWAMk5Ojb8H73iOje y1+pJO0HOz6GCmuJ/uk9EC2MA8uC+N2tSs8nrndHyO1NS0P9b0OwEi9zZlDCU X-Gm-Gg: ASbGncucGSaXOQJLLDR8j5UkwUKgOPGfJ36M4v7Ojle6CguxgaPZAATgsulRQ9fXToc UbEFNVvHAXg3aJ23Vr59nOEYd9sYCkYRnjCyi8xEDtNkMMHjB7zrrFMibe90TEMjMvEYucqbG3x 9v7cIw94Qro10xsZVN+vqqUk24Jdy93syhZqQjNiauhGp8z9K14Ww4VW3LK5TeGEuhWqa+vbCog XWKhCAVWnarYuwzbQjb0CjfyoHZH31SRMqyxgm2/YD0IFpwGyiPLFX/1y3rHqR9yfmBy3y4BCmn ldEWGSVDP8txuYO+gxWfv67SeQxi03c9GY0HyQ+kGpV0AdAlpg== X-Google-Smtp-Source: AGHT+IEljNsk7gi2Do8Mhb/vRLVmcgmPMcFAJrG441DXssIGmjh/cJpGxu2khgyMBYE0Yi41kE7TtZm1GpUr X-Received: by 2002:a05:6870:fba4:b0:2d5:b2ae:2ebd with SMTP id 586e51a60fabf-2ff2697da3dmr8263866fac.34.1752489601396; Mon, 14 Jul 2025 03:40:01 -0700 (PDT) Received: from postal.iol.unh.edu (postal.iol.unh.edu. [2606:4100:3880:1234::84]) by smtp-relay.gmail.com with ESMTPS id 586e51a60fabf-2ff1123492csm652372fac.9.2025.07.14.03.40.01 (version=TLS1_2 cipher=ECDHE-ECDSA-AES128-GCM-SHA256 bits=128/128); Mon, 14 Jul 2025 03:40:01 -0700 (PDT) X-Relaying-Domain: iol.unh.edu Date: Mon, 14 Jul 2025 03:40:01 -0700 (PDT) Message-ID: <6874de81.050a0220.78653.2c1bSMTPIN_ADDED_MISSING@mx.google.com> Received: from [172.21.0.6] (unknown [172.18.0.240]) by postal.iol.unh.edu (Postfix) with ESMTP id 09E9F6051830; Mon, 14 Jul 2025 06:40:01 -0400 (EDT) Subject: |SUCCESS| pw155197 [PATCH] [v0,1/1] net/octeon_ep: handle interrupt From: dpdklab@iol.unh.edu To: Test Report Cc: dpdk-test-reports@iol.unh.edu In-Reply-To: <20250714053150.2229683-1-vattunuru@marvell.com> References: <20250714053150.2229683-1-vattunuru@marvell.com> Content-Type: text/plain X-BeenThere: test-report@dpdk.org X-Mailman-Version: 2.1.29 Precedence: list List-Id: automatic DPDK test reports List-Unsubscribe: , List-Archive: List-Post: List-Help: List-Subscribe: , Errors-To: test-report-bounces@dpdk.org Test-Label: iol-abi-testing Test-Status: SUCCESS http://dpdk.org/patch/155197 _Testing PASS_ Submitter: Vamsi Krishna Attunuru Date: Monday, July 14 2025 05:31:50 DPDK git baseline: Repo:dpdk Branch: master CommitID:3761152ec7f99c9b60c9cc933102d35fa663393a 155197 --> testing pass Upstream job id: Generic-DPDK-Compile-ABI#134253 Test environment and result as below: +-------------------------------+----------+ | Environment | abi_test | +===============================+==========+ | CentOS Stream 10 | PASS | +-------------------------------+----------+ | CentOS Stream 9 | PASS | +-------------------------------+----------+ | Debian GNU/Linux 12 | PASS | +-------------------------------+----------+ | Fedora Linux 40 | PASS | +-------------------------------+----------+ | Fedora Linux 41 | PASS | +-------------------------------+----------+ | openSUSE Leap 15.6 | PASS | +-------------------------------+----------+ | Red Hat Enterprise Linux 8.10 | PASS | +-------------------------------+----------+ | Red Hat Enterprise Linux 9.5 | PASS | +-------------------------------+----------+ | Ubuntu 22.04 | PASS | +-------------------------------+----------+ | Ubuntu 24.04 | PASS | +-------------------------------+----------+ CentOS Stream 10 Kernel: 5.15 Compiler: gcc gcc (GCC) 14.2.1 20250110 (Red Hat 14.2.1-8) CentOS Stream 9 Kernel: 5.15 Compiler: gcc gcc (GCC) 11.5.0 20240719 (Red Hat 11.5.0-7) Debian GNU/Linux 12 Kernel: 5.15 Compiler: gcc gcc (Debian 12.2.0-14+deb12u1) 12.2.0 Fedora Linux 40 Kernel: 5.15 Compiler: gcc gcc (GCC) 14.2.1 20240912 (Red Hat 14.2.1-3) Fedora Linux 41 Kernel: 5.15 Compiler: gcc gcc (GCC) 14.3.1 20250523 (Red Hat 14.3.1-1) openSUSE Leap 15.6 Kernel: 5.15 Compiler: gcc gcc (SUSE Linux) 7.5.0 Red Hat Enterprise Linux 8.10 Kernel: 5.15 Compiler: gcc gcc (GCC) 8.5.0 20210514 (Red Hat 8.5.0-22) Red Hat Enterprise Linux 9.5 Kernel: 5.15 Compiler: gcc gcc (GCC) 11.5.0 20240719 (Red Hat 11.5.0-2) Ubuntu 22.04 Kernel: 5.15 Compiler: gcc gcc (Ubuntu 11.4.0-1ubuntu1~22.04) 11.4.0 Ubuntu 24.04 Kernel: 5.15 Compiler: gcc gcc (Ubuntu 13.3.0-6ubuntu2~24.04) 13.3.0 To view detailed results, visit: https://lab.dpdk.org/results/dashboard/patchsets/33644/ UNH-IOL DPDK Community Lab To manage your email subscriptions, visit: https://lab.dpdk.org/results/dashboard/preferences/subscriptions/