From mboxrd@z Thu Jan 1 00:00:00 1970 Return-Path: Received: from mails.dpdk.org (mails.dpdk.org [217.70.189.124]) by inbox.dpdk.org (Postfix) with ESMTP id C944F46B70 for ; Mon, 14 Jul 2025 12:40:27 +0200 (CEST) Received: from mails.dpdk.org (localhost [127.0.0.1]) by mails.dpdk.org (Postfix) with ESMTP id C33D1400D5; Mon, 14 Jul 2025 12:40:27 +0200 (CEST) Received: from mail-qv1-f98.google.com (mail-qv1-f98.google.com [209.85.219.98]) by mails.dpdk.org (Postfix) with ESMTP id 4025B400D5 for ; Mon, 14 Jul 2025 12:40:26 +0200 (CEST) Received: by mail-qv1-f98.google.com with SMTP id 6a1803df08f44-702cbfe860cso40051156d6.1 for ; Mon, 14 Jul 2025 03:40:26 -0700 (PDT) DKIM-Signature: v=1; a=rsa-sha256; c=relaxed/relaxed; d=iol.unh.edu; s=unh-iol; t=1752489625; x=1753094425; darn=dpdk.org; h=references:in-reply-to:cc:to:from:subject:message-id:date:from:to :cc:subject:date:message-id:reply-to; bh=09dRMB5QwaUD7UPZt6wJJ5bh3P5f4xKfqpuHXJytlC8=; b=cHLRBdNphbP3Ev7ldEnwsfN6lnrZBYL2hIM3msxRabAvOFyBYnSs7PCjR6q+tPvTSI KKULULt9jLLrK5FVaC4YVsfwoO4m7jYFOWfSWmjH94JV4vrpohUEniWoeGWYUuk5M9/T pUd8RetrsZ2jc24Px2raKDXyTxHVEx+6ft1Z8= X-Google-DKIM-Signature: v=1; a=rsa-sha256; c=relaxed/relaxed; d=1e100.net; s=20230601; t=1752489625; x=1753094425; h=references:in-reply-to:cc:to:from:subject:message-id:date :x-gm-message-state:from:to:cc:subject:date:message-id:reply-to; bh=09dRMB5QwaUD7UPZt6wJJ5bh3P5f4xKfqpuHXJytlC8=; b=WoBZYV7BMfKp62nM98MK5a3wcxsqCQaVsuiSg5QJwfRhE4qcE2Fzk+noYMpabz1/Bz iT2VpEDklsGv8gzIlt5CrmDo0IRcy5nc+8zL4ddCK6/ukQO/hrnwJmoJVORu8p44X14y EG7tTpaZsccPR0Lrs76EJTYmSLOs2BItLQvXNwMsq6hvcNeSK5+1scoT5wNM6YibGetX /TGlQxkICZ0I2x9vvOV9mc+PgzgSYtkEkPKYIY/JxPsDwnNCZsufiU/1Jpzi2fTfEQBv ktHuuNECfk93d2hF9pNvNq/3TcWeRdPUMwvcTgUXM4UyJmIn9MPcDQmG72SfM3x/olYi CxEA== X-Gm-Message-State: AOJu0YydJXHUeGf0OsVW2lMaRufHGP3t+rm0C4KeNJt/0Mts1WPXEPq2 bzJDuIkrW6dVeNPq24CZ8sh2p7maPd5XecHr3oTkUcXDFJ0pGabUb9pLJM075Tjeu6JlQhsZETQ 8Ob3B7J/6LnEYJXarBn3UXtJhi1EOeV+7+9q5OQsM/2LTt6QVYabhAgcp00PX X-Gm-Gg: ASbGnctrJlYmxLr/6oTti3Vij/4+hq7xOlMYmK/Xxk4wzIjN5BNLm5gTnNvHPw4G5zl O03bGNK4DlzVHLD4v8lk/DDO1KXF5r8kuAGf0IzQS1bDs2J5+ziSb8km/wlGflp0VVo8rwO6HZK zxLUJrOoeMeX8Bq/yImyRRW50PtvcK91BIS+yD++l5N9HZR6Otlq2YFzCpoZCjqRR8LqvmEdPAu NhmJh4gSYGx4f4H00y0Wvo7Wri3DM6KJBbR3klBT5b4STHjREtf/ErCBEgW6RSyG2MUna5ERljr Fv7xBNXmHo9obGf4R3H+au2bgkfOYSu2RIg4BoK8HZ0tBz1uug== X-Google-Smtp-Source: AGHT+IEouI/Iwfsvo1byqnqTLNPCZhbOk1tqISwtMjAD1zAMhiIPkSwzG72po/XYmElO/d3tl2rMA0rckmeJ X-Received: by 2002:ad4:5761:0:b0:6fa:c5f0:bf57 with SMTP id 6a1803df08f44-704a7062789mr159131986d6.38.1752489625405; Mon, 14 Jul 2025 03:40:25 -0700 (PDT) Received: from postal.iol.unh.edu (postal.iol.unh.edu. [2606:4100:3880:1234::84]) by smtp-relay.gmail.com with ESMTPS id 6a1803df08f44-70497d5cf90sm4568426d6.56.2025.07.14.03.40.25 (version=TLS1_2 cipher=ECDHE-ECDSA-AES128-GCM-SHA256 bits=128/128); Mon, 14 Jul 2025 03:40:25 -0700 (PDT) X-Relaying-Domain: iol.unh.edu Date: Mon, 14 Jul 2025 03:40:25 -0700 (PDT) Message-ID: <6874de99.0c0a0220.22e18c.81e9SMTPIN_ADDED_MISSING@mx.google.com> Received: from [172.21.0.5] (unknown [172.18.0.240]) by postal.iol.unh.edu (Postfix) with ESMTP id 238986051830; Mon, 14 Jul 2025 06:40:25 -0400 (EDT) Subject: |SUCCESS| pw155197 [PATCH] [v0,1/1] net/octeon_ep: handle interrupt From: dpdklab@iol.unh.edu To: Test Report Cc: dpdk-test-reports@iol.unh.edu In-Reply-To: <20250714053150.2229683-1-vattunuru@marvell.com> References: <20250714053150.2229683-1-vattunuru@marvell.com> Content-Type: text/plain X-BeenThere: test-report@dpdk.org X-Mailman-Version: 2.1.29 Precedence: list List-Id: automatic DPDK test reports List-Unsubscribe: , List-Archive: List-Post: List-Help: List-Subscribe: , Errors-To: test-report-bounces@dpdk.org Test-Label: iol-abi-testing Test-Status: SUCCESS http://dpdk.org/patch/155197 _Testing PASS_ Submitter: Vamsi Krishna Attunuru Date: Monday, July 14 2025 05:31:50 DPDK git baseline: Repo:dpdk Branch: master CommitID:3761152ec7f99c9b60c9cc933102d35fa663393a 155197 --> testing pass Upstream job id: Generic-DPDK-Compile-ABI#134249 Test environment and result as below: +-------------------------------+----------+ | Environment | abi_test | +===============================+==========+ | CentOS Stream 10 | PASS | +-------------------------------+----------+ | CentOS Stream 9 | PASS | +-------------------------------+----------+ | Debian GNU/Linux 12 | PASS | +-------------------------------+----------+ | Fedora Linux 40 | PASS | +-------------------------------+----------+ | Fedora Linux 41 | PASS | +-------------------------------+----------+ | openSUSE Leap 15.6 | PASS | +-------------------------------+----------+ | Red Hat Enterprise Linux 8.10 | PASS | +-------------------------------+----------+ | Red Hat Enterprise Linux 9.5 | PASS | +-------------------------------+----------+ | Ubuntu 22.04 | PASS | +-------------------------------+----------+ | Ubuntu 24.04 | PASS | +-------------------------------+----------+ CentOS Stream 10 Kernel: 5.15 Compiler: gcc gcc (GCC) 14.2.1 20250110 (Red Hat 14.2.1-8) CentOS Stream 9 Kernel: 5.15 Compiler: gcc gcc (GCC) 11.5.0 20240719 (Red Hat 11.5.0-7) Debian GNU/Linux 12 Kernel: 5.15 Compiler: gcc gcc (Debian 12.2.0-14+deb12u1) 12.2.0 Fedora Linux 40 Kernel: 5.15 Compiler: gcc gcc (GCC) 14.2.1 20240912 (Red Hat 14.2.1-3) Fedora Linux 41 Kernel: 5.15 Compiler: gcc gcc (GCC) 14.3.1 20250523 (Red Hat 14.3.1-1) openSUSE Leap 15.6 Kernel: 5.15 Compiler: gcc gcc (SUSE Linux) 7.5.0 Red Hat Enterprise Linux 8.10 Kernel: 5.15 Compiler: gcc gcc (GCC) 8.5.0 20210514 (Red Hat 8.5.0-22) Red Hat Enterprise Linux 9.5 Kernel: 5.15 Compiler: gcc gcc (GCC) 11.5.0 20240719 (Red Hat 11.5.0-2) Ubuntu 22.04 Kernel: 5.15 Compiler: gcc gcc (Ubuntu 11.4.0-1ubuntu1~22.04) 11.4.0 Ubuntu 24.04 Kernel: 5.15 Compiler: gcc gcc (Ubuntu 13.3.0-6ubuntu2~24.04) 13.3.0 To view detailed results, visit: https://lab.dpdk.org/results/dashboard/patchsets/33644/ UNH-IOL DPDK Community Lab To manage your email subscriptions, visit: https://lab.dpdk.org/results/dashboard/preferences/subscriptions/