From mboxrd@z Thu Jan 1 00:00:00 1970 Return-Path: Received: from mails.dpdk.org (mails.dpdk.org [217.70.189.124]) by inbox.dpdk.org (Postfix) with ESMTP id E187E46B70 for ; Mon, 14 Jul 2025 12:41:06 +0200 (CEST) Received: from mails.dpdk.org (localhost [127.0.0.1]) by mails.dpdk.org (Postfix) with ESMTP id D80E5400D5; Mon, 14 Jul 2025 12:41:06 +0200 (CEST) Received: from mail-pf1-f225.google.com (mail-pf1-f225.google.com [209.85.210.225]) by mails.dpdk.org (Postfix) with ESMTP id 3E570400D5 for ; Mon, 14 Jul 2025 12:41:05 +0200 (CEST) Received: by mail-pf1-f225.google.com with SMTP id d2e1a72fcca58-739b3fe7ce8so3487400b3a.0 for ; Mon, 14 Jul 2025 03:41:05 -0700 (PDT) DKIM-Signature: v=1; a=rsa-sha256; c=relaxed/relaxed; d=iol.unh.edu; s=unh-iol; t=1752489664; x=1753094464; darn=dpdk.org; h=references:in-reply-to:cc:to:from:subject:message-id:date:from:to :cc:subject:date:message-id:reply-to; bh=AjLEqdJK+fbZCs9mbSLv3TqGhFPw9/jNsagARDG7H8Q=; b=h+L+7eMMMAH2FPiVjCMdZkV+qV719mn4SIjU9PwjbAGsyPaN0HbW/gUb+CK69CYPk1 qIGCyG5UkQJiohYUtVSauLp5/1nKY7v/dB5lBLN+Z0r+oiCMT1qjl173pENS/wRo5zpr otnXkRdE4XUCpsnAdgcC9BSwimki/uvcs7DN4= X-Google-DKIM-Signature: v=1; a=rsa-sha256; c=relaxed/relaxed; d=1e100.net; s=20230601; t=1752489664; x=1753094464; h=references:in-reply-to:cc:to:from:subject:message-id:date :x-gm-message-state:from:to:cc:subject:date:message-id:reply-to; bh=AjLEqdJK+fbZCs9mbSLv3TqGhFPw9/jNsagARDG7H8Q=; b=Pwro7AdMfwQTaocWTidslNL0VGRzTU4z9EBj5+UkbPCXJPf8GJTvPuEzSpuAiVrAHy LmJ71wLzdbgKoqQT+Rj+gGC7gsYbXmhYgqHkGlNblWvDm2crmXOz0trohCyPaSL9l/v+ L1BiyXhOMz1UA4k2ZHvoKITuFCzGmuDUNz9T//98aVducSxyBuCGEw41vsj/xsE/nI94 XVGx9Q6o97KQi9oeZlVpSqW5pXj4Y3pgQueY/eZpbDaA9rGPHKg5PtrfDpf4X5xUvyme nL65TF4TXX7B+3wgW+wKQ+84rnGEuLq3gFBQVyMb+EllVuaJUomo5+JvT6H/DtMqJDtw 0rXg== X-Gm-Message-State: AOJu0Yzu/ajzjBfCGCU1xl8IUrdZtHSbpZMvXd3hwhgqVPIm/vYsTLkQ kGIMadhkbAAxQnpLQ2nH4fjj3n2x/UK+EDsLKeZZP04aKQB2NtznhkfanbDuL8moeWWM9+pY+oi 7mTeZkfCAhM6YVsk3XT+ORHHXdYyuZO0WD4QiWjAdb0SB X-Gm-Gg: ASbGncsoMmiPRR1eGZlDQf8aGfdMPBA9+WLy5uvb/ytToaduF5yy/Jcum7ugiVK7YUp 5B1CMfF+lJZu/BUsg0KHssmVeSAJxrpCUVLtHvQEoPKbpKLTjO5+n/X74XE1ASl/xxhGsoTKVFf VBgz8BwfLHVj7Ogx+NxuSZcXfzgVA077Bvq4JH3W4Y/6IQN3xOMwDkU9EPJqHaUBDT5SUdMpjAb 7+SvH3gs6bpSMJ7l4ijgn/bSBoE0iLqXjU4Uma2WXAvcjzCze4+3y6arUuLs55bIK3M9C38D5Rw UZIL0WOzdS58tuWIZHtZZ3DtrYiRLovIoTccQIvpLRGnGUw7TutQ5IDjhZMt5wW8i3K3NhTq X-Google-Smtp-Source: AGHT+IFTR2UumkaGEroZCPkhzuDa+kDpdwDWfwXZx1ERxUtraRAt5Cv5wPUWxdhZpkcS7vQNnll3b6pCPPVr X-Received: by 2002:a05:6a20:9f4f:b0:21f:ef96:49ab with SMTP id adf61e73a8af0-2311fd0272fmr27117663637.27.1752489664372; Mon, 14 Jul 2025 03:41:04 -0700 (PDT) Received: from postal.iol.unh.edu (postal.iol.unh.edu. [132.177.123.84]) by smtp-relay.gmail.com with ESMTPS id 41be03b00d2f7-b3bbe57025csm499687a12.7.2025.07.14.03.41.04 (version=TLS1_2 cipher=ECDHE-ECDSA-AES128-GCM-SHA256 bits=128/128); Mon, 14 Jul 2025 03:41:04 -0700 (PDT) X-Relaying-Domain: iol.unh.edu Date: Mon, 14 Jul 2025 03:41:04 -0700 (PDT) Message-ID: <6874dec0.630a0220.1d7308.ab1bSMTPIN_ADDED_MISSING@mx.google.com> Received: from [172.21.0.8] (unknown [172.18.0.240]) by postal.iol.unh.edu (Postfix) with ESMTP id 8AD4C6051830; Mon, 14 Jul 2025 06:41:03 -0400 (EDT) Subject: |SUCCESS| pw155197 [PATCH] [v0,1/1] net/octeon_ep: handle interrupt From: dpdklab@iol.unh.edu To: Test Report Cc: dpdk-test-reports@iol.unh.edu In-Reply-To: <20250714053150.2229683-1-vattunuru@marvell.com> References: <20250714053150.2229683-1-vattunuru@marvell.com> Content-Type: text/plain X-BeenThere: test-report@dpdk.org X-Mailman-Version: 2.1.29 Precedence: list List-Id: automatic DPDK test reports List-Unsubscribe: , List-Archive: List-Post: List-Help: List-Subscribe: , Errors-To: test-report-bounces@dpdk.org Test-Label: iol-abi-testing Test-Status: SUCCESS http://dpdk.org/patch/155197 _Testing PASS_ Submitter: Vamsi Krishna Attunuru Date: Monday, July 14 2025 05:31:50 DPDK git baseline: Repo:dpdk Branch: master CommitID:3761152ec7f99c9b60c9cc933102d35fa663393a 155197 --> testing pass Upstream job id: Generic-DPDK-Compile-ABI#134246 Test environment and result as below: +-------------------------------+----------+ | Environment | abi_test | +===============================+==========+ | CentOS Stream 10 | PASS | +-------------------------------+----------+ | CentOS Stream 9 | PASS | +-------------------------------+----------+ | Debian GNU/Linux 12 | PASS | +-------------------------------+----------+ | Fedora Linux 40 | PASS | +-------------------------------+----------+ | Fedora Linux 41 | PASS | +-------------------------------+----------+ | openSUSE Leap 15.6 | PASS | +-------------------------------+----------+ | Red Hat Enterprise Linux 8.10 | PASS | +-------------------------------+----------+ | Red Hat Enterprise Linux 9.5 | PASS | +-------------------------------+----------+ | Ubuntu 22.04 | PASS | +-------------------------------+----------+ | Ubuntu 24.04 | PASS | +-------------------------------+----------+ CentOS Stream 10 Kernel: 5.15 Compiler: gcc gcc (GCC) 14.2.1 20250110 (Red Hat 14.2.1-8) CentOS Stream 9 Kernel: 5.15 Compiler: gcc gcc (GCC) 11.5.0 20240719 (Red Hat 11.5.0-7) Debian GNU/Linux 12 Kernel: 5.15 Compiler: gcc gcc (Debian 12.2.0-14+deb12u1) 12.2.0 Fedora Linux 40 Kernel: 5.15 Compiler: gcc gcc (GCC) 14.2.1 20240912 (Red Hat 14.2.1-3) Fedora Linux 41 Kernel: 5.15 Compiler: gcc gcc (GCC) 14.3.1 20250523 (Red Hat 14.3.1-1) openSUSE Leap 15.6 Kernel: 5.15 Compiler: gcc gcc (SUSE Linux) 7.5.0 Red Hat Enterprise Linux 8.10 Kernel: 5.15 Compiler: gcc gcc (GCC) 8.5.0 20210514 (Red Hat 8.5.0-22) Red Hat Enterprise Linux 9.5 Kernel: 5.15 Compiler: gcc gcc (GCC) 11.5.0 20240719 (Red Hat 11.5.0-2) Ubuntu 22.04 Kernel: 5.15 Compiler: gcc gcc (Ubuntu 11.4.0-1ubuntu1~22.04) 11.4.0 Ubuntu 24.04 Kernel: 5.15 Compiler: gcc gcc (Ubuntu 13.3.0-6ubuntu2~24.04) 13.3.0 To view detailed results, visit: https://lab.dpdk.org/results/dashboard/patchsets/33644/ UNH-IOL DPDK Community Lab To manage your email subscriptions, visit: https://lab.dpdk.org/results/dashboard/preferences/subscriptions/