From mboxrd@z Thu Jan 1 00:00:00 1970 Return-Path: Received: from mails.dpdk.org (mails.dpdk.org [217.70.189.124]) by inbox.dpdk.org (Postfix) with ESMTP id 007FB46B70 for ; Mon, 14 Jul 2025 12:41:35 +0200 (CEST) Received: from mails.dpdk.org (localhost [127.0.0.1]) by mails.dpdk.org (Postfix) with ESMTP id EF9E1400D5; Mon, 14 Jul 2025 12:41:35 +0200 (CEST) Received: from mail-qv1-f98.google.com (mail-qv1-f98.google.com [209.85.219.98]) by mails.dpdk.org (Postfix) with ESMTP id 6D789400D5 for ; Mon, 14 Jul 2025 12:41:34 +0200 (CEST) Received: by mail-qv1-f98.google.com with SMTP id 6a1803df08f44-6fad79433bbso40225906d6.0 for ; Mon, 14 Jul 2025 03:41:34 -0700 (PDT) DKIM-Signature: v=1; a=rsa-sha256; c=relaxed/relaxed; d=iol.unh.edu; s=unh-iol; t=1752489694; x=1753094494; darn=dpdk.org; h=references:in-reply-to:cc:to:from:subject:message-id:date:from:to :cc:subject:date:message-id:reply-to; bh=vzmpmaxBzHtmrmuL9hwMhmkkK0aT/niW/dq+QTo8Npw=; b=RrJbcj2kQoupHnm07GnXKCoayArF5dVRqVMw86uNBKULXaKx5lowbOMs5ZKDVRhktx 4VVkx2nxYHu28RRYWLC7dg2SHurF8iiKzli3kT1Ds2bFZ+iQssp524RWSZZ7XJ5XQ4tx 3hpAcaEex530JV+p6xsiIPjbkjdqRUnUhvEJo= X-Google-DKIM-Signature: v=1; a=rsa-sha256; c=relaxed/relaxed; d=1e100.net; s=20230601; t=1752489694; x=1753094494; h=references:in-reply-to:cc:to:from:subject:message-id:date :x-gm-message-state:from:to:cc:subject:date:message-id:reply-to; bh=vzmpmaxBzHtmrmuL9hwMhmkkK0aT/niW/dq+QTo8Npw=; b=Jvq4CONedsiZSmfvsHk7ROMTy4ag/UJsng5KH4LLeDZfTqk3WYFE63uytRyLJANQZ0 8yP4HrVV/l8prp4r0XSUohw+I1MLXdvMFb+4euLz1dWBh/aYx5HgarTAilIWDgjr5ufN YZG3lRez034ilAJ39oH/refaobHUCGkOxnRm030wyQHimIHlC7QMADrEu3nvUzFNz6Wh rLZFQj5gKa2OI/WbUCqMS32S+Lfh95LscKttN5V6u1bq6KnOrMrz0n8EezlQC9x+nONL 1GTbxvriqbakpSGtpLi3mfBmIRjwIm6bYzo8AJR+FGoALTd4x+fmAQhyVd6oFRRYRQ1U Zp1w== X-Gm-Message-State: AOJu0Yy2ZbCrFc3sw8HkR/291iYe25i9v7dWmy8w2+U0mWuTMXspFlPT t46utkpC5LcB8rH9v64iyw0806eu8FUH9BhS3q48zZHvW//NPTGQbdFbNKAyXz7zv4zp4HSmZol L9eDnqWAzGWorD/gbM3JVtKewzsHbgC5Gbfx2d702/lh/ X-Gm-Gg: ASbGncsILxGMxA8TG4B6SBjbtfwFj8R5rvG2ceUJPdeRZz05tyuUR3CNwwyL++fgEZy ce0PK/KIBDXJuCKqlPRf3uD7/JMrGCLW81xsp9UP/6U477ZVsPFpWTKFSFxlXklDdFwiHQw95bh 6w0OHL5fMLdcwuQ+GPdGqDDL0UBzU50+WE0AFt2j3GOI5+cLS50tfFsj8OD6a6FEL0k5P/CK1W6 4Ey2JU79uWswx/wpfuDNiePT74JHm0FohBI1dHXEub+10he6XpCrAB/il8JJJEb11oR59EjdBKt jx9GTSw648di0SK/i0j14IEpqXCZFIWTC7aNmP4GS7jOZhswTuUSB2TlLLvX4eNOflHJSq3K X-Google-Smtp-Source: AGHT+IGAzFdWB1R3cJkkKgcxBB7rLljZW3s2dFIYi5r7Mb4OZ3/xuXCJqZcSWdxdv1F9ES8/1TlpTvpuOpoh X-Received: by 2002:a05:6214:2e47:b0:704:8fea:9fe with SMTP id 6a1803df08f44-704a42b2069mr232528996d6.23.1752489693828; Mon, 14 Jul 2025 03:41:33 -0700 (PDT) Received: from postal.iol.unh.edu (postal.iol.unh.edu. [132.177.123.84]) by smtp-relay.gmail.com with ESMTPS id 6a1803df08f44-70497d5cf5esm4645536d6.57.2025.07.14.03.41.33 (version=TLS1_2 cipher=ECDHE-ECDSA-AES128-GCM-SHA256 bits=128/128); Mon, 14 Jul 2025 03:41:33 -0700 (PDT) X-Relaying-Domain: iol.unh.edu Date: Mon, 14 Jul 2025 03:41:33 -0700 (PDT) Message-ID: <6874dedd.050a0220.10ad82.96d0SMTPIN_ADDED_MISSING@mx.google.com> Received: from [172.21.0.7] (unknown [172.18.0.240]) by postal.iol.unh.edu (Postfix) with ESMTP id 8AC3D6051830; Mon, 14 Jul 2025 06:41:33 -0400 (EDT) Subject: |SUCCESS| pw155197 [PATCH] [v0,1/1] net/octeon_ep: handle interrupt From: dpdklab@iol.unh.edu To: Test Report Cc: dpdk-test-reports@iol.unh.edu In-Reply-To: <20250714053150.2229683-1-vattunuru@marvell.com> References: <20250714053150.2229683-1-vattunuru@marvell.com> Content-Type: text/plain X-BeenThere: test-report@dpdk.org X-Mailman-Version: 2.1.29 Precedence: list List-Id: automatic DPDK test reports List-Unsubscribe: , List-Archive: List-Post: List-Help: List-Subscribe: , Errors-To: test-report-bounces@dpdk.org Test-Label: iol-abi-testing Test-Status: SUCCESS http://dpdk.org/patch/155197 _Testing PASS_ Submitter: Vamsi Krishna Attunuru Date: Monday, July 14 2025 05:31:50 DPDK git baseline: Repo:dpdk Branch: master CommitID:3761152ec7f99c9b60c9cc933102d35fa663393a 155197 --> testing pass Upstream job id: Generic-DPDK-Compile-ABI#134254 Test environment and result as below: +-------------------------------+----------+ | Environment | abi_test | +===============================+==========+ | CentOS Stream 10 | PASS | +-------------------------------+----------+ | CentOS Stream 9 | PASS | +-------------------------------+----------+ | Debian GNU/Linux 12 | PASS | +-------------------------------+----------+ | Fedora Linux 40 | PASS | +-------------------------------+----------+ | Fedora Linux 41 | PASS | +-------------------------------+----------+ | openSUSE Leap 15.6 | PASS | +-------------------------------+----------+ | Red Hat Enterprise Linux 8.10 | PASS | +-------------------------------+----------+ | Red Hat Enterprise Linux 9.5 | PASS | +-------------------------------+----------+ | Ubuntu 22.04 | PASS | +-------------------------------+----------+ | Ubuntu 24.04 | PASS | +-------------------------------+----------+ CentOS Stream 10 Kernel: 5.15 Compiler: gcc gcc (GCC) 14.2.1 20250110 (Red Hat 14.2.1-8) CentOS Stream 9 Kernel: 5.15 Compiler: gcc gcc (GCC) 11.5.0 20240719 (Red Hat 11.5.0-7) Debian GNU/Linux 12 Kernel: 5.15 Compiler: gcc gcc (Debian 12.2.0-14+deb12u1) 12.2.0 Fedora Linux 40 Kernel: 5.15 Compiler: gcc gcc (GCC) 14.2.1 20240912 (Red Hat 14.2.1-3) Fedora Linux 41 Kernel: 5.15 Compiler: gcc gcc (GCC) 14.3.1 20250523 (Red Hat 14.3.1-1) openSUSE Leap 15.6 Kernel: 5.15 Compiler: gcc gcc (SUSE Linux) 7.5.0 Red Hat Enterprise Linux 8.10 Kernel: 5.15 Compiler: gcc gcc (GCC) 8.5.0 20210514 (Red Hat 8.5.0-22) Red Hat Enterprise Linux 9.5 Kernel: 5.15 Compiler: gcc gcc (GCC) 11.5.0 20240719 (Red Hat 11.5.0-2) Ubuntu 22.04 Kernel: 5.15 Compiler: gcc gcc (Ubuntu 11.4.0-1ubuntu1~22.04) 11.4.0 Ubuntu 24.04 Kernel: 5.15 Compiler: gcc gcc (Ubuntu 13.3.0-6ubuntu2~24.04) 13.3.0 To view detailed results, visit: https://lab.dpdk.org/results/dashboard/patchsets/33644/ UNH-IOL DPDK Community Lab To manage your email subscriptions, visit: https://lab.dpdk.org/results/dashboard/preferences/subscriptions/