From mboxrd@z Thu Jan 1 00:00:00 1970 Return-Path: Received: from mails.dpdk.org (mails.dpdk.org [217.70.189.124]) by inbox.dpdk.org (Postfix) with ESMTP id 2E14F46B70 for ; Mon, 14 Jul 2025 12:42:51 +0200 (CEST) Received: from mails.dpdk.org (localhost [127.0.0.1]) by mails.dpdk.org (Postfix) with ESMTP id 28A12400D5; Mon, 14 Jul 2025 12:42:51 +0200 (CEST) Received: from mail-qv1-f97.google.com (mail-qv1-f97.google.com [209.85.219.97]) by mails.dpdk.org (Postfix) with ESMTP id E712E400D5 for ; Mon, 14 Jul 2025 12:42:49 +0200 (CEST) Received: by mail-qv1-f97.google.com with SMTP id 6a1803df08f44-7048c49f1f1so34202166d6.0 for ; Mon, 14 Jul 2025 03:42:49 -0700 (PDT) DKIM-Signature: v=1; a=rsa-sha256; c=relaxed/relaxed; d=iol.unh.edu; s=unh-iol; t=1752489769; x=1753094569; darn=dpdk.org; h=references:in-reply-to:cc:to:from:subject:message-id:date:from:to :cc:subject:date:message-id:reply-to; bh=4VzPQIJbHoPeSoc7s3S+pV0jUJo/jrKGXkulAIvkkXs=; b=EP0MLJOt5wLG1gwbMJlCwRa/2M0dN+12ogrcVgPnPjKs9q7I03Z9Lads9pIQBL/ARF UiUPor6Nd+UPzUz5VoQoaRKfkI9eNB88sXzf8WvIkcBNtd3jyw7lwi+ep8Xea4h+vJwk QxhThgIetoWNyaMHrnEdVCpqlnrTNQsK8KAr8= X-Google-DKIM-Signature: v=1; a=rsa-sha256; c=relaxed/relaxed; d=1e100.net; s=20230601; t=1752489769; x=1753094569; h=references:in-reply-to:cc:to:from:subject:message-id:date :x-gm-message-state:from:to:cc:subject:date:message-id:reply-to; bh=4VzPQIJbHoPeSoc7s3S+pV0jUJo/jrKGXkulAIvkkXs=; b=IQYEbeIJIZtBEP4vIeuEfetiEjzrknUj3eJvcfldVrGQLvXvqjD7UhAOsIqJS4weiM qsutsfMZlhtnMO8puKWhyK+0oaJhiEbRNxE69Bpy9r4Nshkf2IwpZmk7BOIdbZSFFHOk UxQFmlw7P+0Q+gIhS9ZQbfLod0veWwtxkDyiEruaw7U9Fb6onVxaTmDpvF55eo+T3YCu m/s0AsOKdeI8eJsb3cMPAZ1Z/jgZiCW5ocvHRitp26zXIp0h9AMVta17eWNaK0Brw0VA sL2fG204/E8xK6b8Eq9DDILVnI4qu9xC1HJC0Qr24G0XjdRFdQfdw3JUkwshx6xFk/4e xCuA== X-Gm-Message-State: AOJu0Yykhd4AxgYN1Xgvepawp5VDbb+ZdfH5Q7ePqs7yNV5sOp6+hLWi VL0uetRQYzjqeGDlVWMjMpssEJQcz+WErJ6ESD6+csEE2gRrHJg13C1PemEjFlaXwxRHu3Bc7UI fbO72zBX8XcgZsf4rvpTKjnFMbPGUS1WjrBnj3nUvPkfB7XTvCUvc/sUfsDjy X-Gm-Gg: ASbGncsy0O99Af9EURxIS5Y5+c16GaLa8cL2TWGMM342Tvr84u1zx56qRoD5KYBJFd6 2G3cUkHwy9P4GQRRLFaYwf1l22g8FckMTyGLe+djbWMBDTz/W+VoxaEyqzwoGYahbOKc5Dnn1tE m33LjUYc9Q0c3SYyj8LEet0HQhDGApaXnJ7+Ww7pahS+Vr7l53Sa1KmBIPMwcQ8plLYGznR3nia BmYD1tuXd6xPEYxTatXT3BJnYSmjFhYkKS7vJOh13ils6JHz5dONFDIaHKjDFrOMss74qlq5Imy unYmcQDrRrBP7SAO9BCGxONAPJJtJ2w3KmFOasqlyq3+yC+unw== X-Google-Smtp-Source: AGHT+IHkOz+8H97GWDgnfGFOgddFVRfDmJhxiuD3rX+xyeNPjfkEx4tkU2sUFpUGP0EpQrw/K8ySdBruLYCp X-Received: by 2002:ad4:5c4d:0:b0:6fb:25f:ac8c with SMTP id 6a1803df08f44-704a3926c18mr230224396d6.31.1752489769315; Mon, 14 Jul 2025 03:42:49 -0700 (PDT) Received: from postal.iol.unh.edu (postal.iol.unh.edu. [2606:4100:3880:1234::84]) by smtp-relay.gmail.com with ESMTPS id 6a1803df08f44-70497d38284sm4581476d6.37.2025.07.14.03.42.49 (version=TLS1_2 cipher=ECDHE-ECDSA-AES128-GCM-SHA256 bits=128/128); Mon, 14 Jul 2025 03:42:49 -0700 (PDT) X-Relaying-Domain: iol.unh.edu Date: Mon, 14 Jul 2025 03:42:49 -0700 (PDT) Message-ID: <6874df29.050a0220.1b3fac.8b98SMTPIN_ADDED_MISSING@mx.google.com> Received: from [172.21.0.6] (unknown [172.18.0.240]) by postal.iol.unh.edu (Postfix) with ESMTP id 0902F6051830; Mon, 14 Jul 2025 06:42:49 -0400 (EDT) Subject: |SUCCESS| pw155197 [PATCH] [v0,1/1] net/octeon_ep: handle interrupt From: dpdklab@iol.unh.edu To: Test Report Cc: dpdk-test-reports@iol.unh.edu In-Reply-To: <20250714053150.2229683-1-vattunuru@marvell.com> References: <20250714053150.2229683-1-vattunuru@marvell.com> Content-Type: text/plain X-BeenThere: test-report@dpdk.org X-Mailman-Version: 2.1.29 Precedence: list List-Id: automatic DPDK test reports List-Unsubscribe: , List-Archive: List-Post: List-Help: List-Subscribe: , Errors-To: test-report-bounces@dpdk.org Test-Label: iol-abi-testing Test-Status: SUCCESS http://dpdk.org/patch/155197 _Testing PASS_ Submitter: Vamsi Krishna Attunuru Date: Monday, July 14 2025 05:31:50 DPDK git baseline: Repo:dpdk Branch: master CommitID:3761152ec7f99c9b60c9cc933102d35fa663393a 155197 --> testing pass Upstream job id: Generic-DPDK-Compile-ABI#134250 Test environment and result as below: +-------------------------------+----------+ | Environment | abi_test | +===============================+==========+ | CentOS Stream 10 | PASS | +-------------------------------+----------+ | CentOS Stream 9 | PASS | +-------------------------------+----------+ | Debian GNU/Linux 12 | PASS | +-------------------------------+----------+ | Fedora Linux 40 | PASS | +-------------------------------+----------+ | Fedora Linux 41 | PASS | +-------------------------------+----------+ | openSUSE Leap 15.6 | PASS | +-------------------------------+----------+ | Red Hat Enterprise Linux 8.10 | PASS | +-------------------------------+----------+ | Red Hat Enterprise Linux 9.5 | PASS | +-------------------------------+----------+ | Ubuntu 22.04 | PASS | +-------------------------------+----------+ | Ubuntu 24.04 | PASS | +-------------------------------+----------+ CentOS Stream 10 Kernel: 5.15 Compiler: gcc gcc (GCC) 14.2.1 20250110 (Red Hat 14.2.1-8) CentOS Stream 9 Kernel: 5.15 Compiler: gcc gcc (GCC) 11.5.0 20240719 (Red Hat 11.5.0-7) Debian GNU/Linux 12 Kernel: 5.15 Compiler: gcc gcc (Debian 12.2.0-14+deb12u1) 12.2.0 Fedora Linux 40 Kernel: 5.15 Compiler: gcc gcc (GCC) 14.2.1 20240912 (Red Hat 14.2.1-3) Fedora Linux 41 Kernel: 5.15 Compiler: gcc gcc (GCC) 14.3.1 20250523 (Red Hat 14.3.1-1) openSUSE Leap 15.6 Kernel: 5.15 Compiler: gcc gcc (SUSE Linux) 7.5.0 Red Hat Enterprise Linux 8.10 Kernel: 5.15 Compiler: gcc gcc (GCC) 8.5.0 20210514 (Red Hat 8.5.0-22) Red Hat Enterprise Linux 9.5 Kernel: 5.15 Compiler: gcc gcc (GCC) 11.5.0 20240719 (Red Hat 11.5.0-2) Ubuntu 22.04 Kernel: 5.15 Compiler: gcc gcc (Ubuntu 11.4.0-1ubuntu1~22.04) 11.4.0 Ubuntu 24.04 Kernel: 5.15 Compiler: gcc gcc (Ubuntu 13.3.0-6ubuntu2~24.04) 13.3.0 To view detailed results, visit: https://lab.dpdk.org/results/dashboard/patchsets/33644/ UNH-IOL DPDK Community Lab To manage your email subscriptions, visit: https://lab.dpdk.org/results/dashboard/preferences/subscriptions/