From mboxrd@z Thu Jan 1 00:00:00 1970 Return-Path: Received: from mails.dpdk.org (mails.dpdk.org [217.70.189.124]) by inbox.dpdk.org (Postfix) with ESMTP id 3695646B70 for ; Mon, 14 Jul 2025 12:52:40 +0200 (CEST) Received: from mails.dpdk.org (localhost [127.0.0.1]) by mails.dpdk.org (Postfix) with ESMTP id 0B3E1400D5; Mon, 14 Jul 2025 12:52:40 +0200 (CEST) Received: from mail-qk1-f225.google.com (mail-qk1-f225.google.com [209.85.222.225]) by mails.dpdk.org (Postfix) with ESMTP id 31327400D5 for ; Mon, 14 Jul 2025 12:52:39 +0200 (CEST) Received: by mail-qk1-f225.google.com with SMTP id af79cd13be357-7e095510a6cso241303585a.1 for ; Mon, 14 Jul 2025 03:52:39 -0700 (PDT) DKIM-Signature: v=1; a=rsa-sha256; c=relaxed/relaxed; d=iol.unh.edu; s=unh-iol; t=1752490358; x=1753095158; darn=dpdk.org; h=references:in-reply-to:cc:to:from:subject:message-id:date:from:to :cc:subject:date:message-id:reply-to; bh=Za9XqnH9/x/eapjB6+U9C3IhBaMrDKSG5TaKBEZnVBg=; b=FgUOe8DdLY10CfKZot7K5YhofRdgVGWmk0wtc3KbGUUF6SpF9P9M238Z0G+HcdVrfG qM8isLeWVlwyMBbKbzjfC3eVN+UIsfZ8liLcuPR/fB7vnoOJb6fUQTMhm+kPLpTdOMp5 DessLQZcHwygYmMzru5Lg1E/nenLG115I8jpQ= X-Google-DKIM-Signature: v=1; a=rsa-sha256; c=relaxed/relaxed; d=1e100.net; s=20230601; t=1752490358; x=1753095158; h=references:in-reply-to:cc:to:from:subject:message-id:date :x-gm-message-state:from:to:cc:subject:date:message-id:reply-to; bh=Za9XqnH9/x/eapjB6+U9C3IhBaMrDKSG5TaKBEZnVBg=; b=c6yiLUUkKM70vIJOca3bbQ6PlROU3s3vh+yjaxKc8AbpEMLar84X/C7WI5U+pDHDEH iMVEwi2fWbWdHha0+VByl7RTBr7WykSQX4vfHPHIpbKqHbQShetmcnFwirM9dFO9O9tJ H+NQqwdpOpTdDYUFLNjXFIbo95inpi0TVColHB9qOlc6CFUaNRSNPjQJzgllDqCiMVY+ pjqLokBZzkFEeMDmhJldu7JGyJ0qFaGBZ+bz5o8zibzJKJAq5GNCRp6sjFYDnRv4/s5u 8e8NWys+qbHE3ejCTdlI+7AtPxPHvFO2+H/32IgiaWQq5ZEyeeKW0/vtvvnuPXhgJBLk lxQg== X-Gm-Message-State: AOJu0YypaCSjC4l62CHj2QQ2Y5v222TY6svMnKkL1My+6jY/kuNi5mut gn1siVw7nRv9n6rqKD6BWY94ZsPXVJ41J0SFrC2tc8ymPBf+EzXPnBgb3VYAX1O0AQiQufG2jR4 DilrD9Bw1kh9mMpLKzgF5equYplNwQi0m+868zebyrkfn X-Gm-Gg: ASbGnct3P7PRZ8QeVK436JIgBjRmwXd9MGD8BsZfUmaYFw1ymf4svOwem1yNZqdLFh9 U++QE0JX3EwoXU6bLi3RRvStRQoaJWuYbfblGdREXV5u6BRbTR/I5l+2lLc3J4Lts/xVKkBFpKc gC0jg16y1UKXFKFGZmpNBp7p1DufroqgUTTPI4WIwCkKw8zH0EuhwNG1iGAX3QMmMPUDbtecfyY O61Rzb8vdYSiUIV90ttfQkOt49cgHcEQxdSVF0yDNkqetMbA5wAxfMi7raPSC19rwFXk2AG/JT/ bTdmSoOwLDi7nhSJd2+7rLW+bW0BxeovVVg2JZ6pJcDTrLKlyZeFdVJdMEBfJ3jD151Wpqal X-Google-Smtp-Source: AGHT+IEk/w5bnrJcUJXPWmPPOEubC75wlZ7So3CL7lj3b4RtEZYTHK5/+Z982l7zgRxkoK3E2aItwGnC91yi X-Received: by 2002:a05:620a:2229:b0:7df:dea8:6384 with SMTP id af79cd13be357-7dfdea866e6mr1182056385a.47.1752490358371; Mon, 14 Jul 2025 03:52:38 -0700 (PDT) Received: from postal.iol.unh.edu (postal.iol.unh.edu. [132.177.123.84]) by smtp-relay.gmail.com with ESMTPS id 6a1803df08f44-70497d5b4b3sm4816886d6.49.2025.07.14.03.52.38 (version=TLS1_2 cipher=ECDHE-ECDSA-AES128-GCM-SHA256 bits=128/128); Mon, 14 Jul 2025 03:52:38 -0700 (PDT) X-Relaying-Domain: iol.unh.edu Date: Mon, 14 Jul 2025 03:52:38 -0700 (PDT) Message-ID: <6874e176.050a0220.3393bc.97c4SMTPIN_ADDED_MISSING@mx.google.com> Received: from [172.21.0.5] (unknown [172.18.0.240]) by postal.iol.unh.edu (Postfix) with ESMTP id 1E9A36051830; Mon, 14 Jul 2025 06:52:38 -0400 (EDT) Subject: |SUCCESS| pw155198 [PATCH] [v0,1/1] net/octeon_ep: fix mbuf data off From: dpdklab@iol.unh.edu To: Test Report Cc: dpdk-test-reports@iol.unh.edu In-Reply-To: <20250714054041.2257589-1-vattunuru@marvell.com> References: <20250714054041.2257589-1-vattunuru@marvell.com> Content-Type: text/plain X-BeenThere: test-report@dpdk.org X-Mailman-Version: 2.1.29 Precedence: list List-Id: automatic DPDK test reports List-Unsubscribe: , List-Archive: List-Post: List-Help: List-Subscribe: , Errors-To: test-report-bounces@dpdk.org Test-Label: iol-abi-testing Test-Status: SUCCESS http://dpdk.org/patch/155198 _Testing PASS_ Submitter: Vamsi Krishna Attunuru Date: Monday, July 14 2025 05:40:41 DPDK git baseline: Repo:dpdk Branch: master CommitID:3761152ec7f99c9b60c9cc933102d35fa663393a 155198 --> testing pass Upstream job id: Generic-DPDK-Compile-ABI#134265 Test environment and result as below: +-------------------------------+----------+ | Environment | abi_test | +===============================+==========+ | CentOS Stream 9 | PASS | +-------------------------------+----------+ | CentOS Stream 10 | PASS | +-------------------------------+----------+ | Debian GNU/Linux 12 | PASS | +-------------------------------+----------+ | Fedora Linux 40 | PASS | +-------------------------------+----------+ | Fedora Linux 41 | PASS | +-------------------------------+----------+ | Ubuntu 24.04 | PASS | +-------------------------------+----------+ | openSUSE Leap 15.6 | PASS | +-------------------------------+----------+ | Red Hat Enterprise Linux 8.10 | PASS | +-------------------------------+----------+ | Red Hat Enterprise Linux 9.5 | PASS | +-------------------------------+----------+ | Ubuntu 22.04 | PASS | +-------------------------------+----------+ CentOS Stream 9 Kernel: 5.15 Compiler: gcc gcc (GCC) 11.5.0 20240719 (Red Hat 11.5.0-7) CentOS Stream 10 Kernel: 5.15 Compiler: gcc gcc (GCC) 14.2.1 20250110 (Red Hat 14.2.1-8) Debian GNU/Linux 12 Kernel: 5.15 Compiler: gcc gcc (Debian 12.2.0-14+deb12u1) 12.2.0 Fedora Linux 40 Kernel: 5.15 Compiler: clang gcc (GCC) 14.2.1 20240912 (Red Hat 14.2.1-3) Fedora Linux 41 Kernel: 5.15 Compiler: clang gcc (GCC) 14.3.1 20250523 (Red Hat 14.3.1-1) Ubuntu 24.04 Kernel: 5.15 Compiler: gcc gcc (Ubuntu 13.3.0-6ubuntu2~24.04) 13.3.0 openSUSE Leap 15.6 Kernel: 5.15 Compiler: gcc gcc (SUSE Linux) 7.5.0 Red Hat Enterprise Linux 8.10 Kernel: 5.15 Compiler: gcc gcc (GCC) 8.5.0 20210514 (Red Hat 8.5.0-22) Red Hat Enterprise Linux 9.5 Kernel: 5.15 Compiler: gcc gcc (GCC) 11.5.0 20240719 (Red Hat 11.5.0-2) Ubuntu 22.04 Kernel: 5.15 Compiler: gcc gcc (Ubuntu 11.4.0-1ubuntu1~22.04) 11.4.0 To view detailed results, visit: https://lab.dpdk.org/results/dashboard/patchsets/33645/ UNH-IOL DPDK Community Lab To manage your email subscriptions, visit: https://lab.dpdk.org/results/dashboard/preferences/subscriptions/