From mboxrd@z Thu Jan 1 00:00:00 1970 Return-Path: Received: from mails.dpdk.org (mails.dpdk.org [217.70.189.124]) by inbox.dpdk.org (Postfix) with ESMTP id C3D1946B70 for ; Mon, 14 Jul 2025 13:15:41 +0200 (CEST) Received: from mails.dpdk.org (localhost [127.0.0.1]) by mails.dpdk.org (Postfix) with ESMTP id 99706400D5; Mon, 14 Jul 2025 13:15:41 +0200 (CEST) Received: from mail-pf1-f227.google.com (mail-pf1-f227.google.com [209.85.210.227]) by mails.dpdk.org (Postfix) with ESMTP id E194C400D5 for ; Mon, 14 Jul 2025 13:15:39 +0200 (CEST) Received: by mail-pf1-f227.google.com with SMTP id d2e1a72fcca58-74b54cead6cso2764819b3a.1 for ; Mon, 14 Jul 2025 04:15:39 -0700 (PDT) DKIM-Signature: v=1; a=rsa-sha256; c=relaxed/relaxed; d=iol.unh.edu; s=unh-iol; t=1752491739; x=1753096539; darn=dpdk.org; h=references:in-reply-to:cc:to:from:subject:message-id:date:from:to :cc:subject:date:message-id:reply-to; bh=ZjTnZ7O8zwVW0rRyAXg9A4UfkzUcp2PVcts1UmmeYJ0=; b=NzN4benAWpml0vvj9xjcrKOyy6DgdrA8mK8TpA5M4WLOp8Q9y0/ZekYnfyYB9ycL0I U8VttmOf83RFvv1xVQtp0gc0woOXm1YjpwGXvGN2DLN6P4B2ltgj93in4aJ2lPXCEF3s O8vg6WowNuFQxUUW5S3Tr5TaSw1q2hokI6W3s= X-Google-DKIM-Signature: v=1; a=rsa-sha256; c=relaxed/relaxed; d=1e100.net; s=20230601; t=1752491739; x=1753096539; h=references:in-reply-to:cc:to:from:subject:message-id:date :x-gm-message-state:from:to:cc:subject:date:message-id:reply-to; bh=ZjTnZ7O8zwVW0rRyAXg9A4UfkzUcp2PVcts1UmmeYJ0=; b=C5W0l6p0CFJlhauXvrF8eXtuwMWud+2/87QfiknhI7Fa3CBxPMuijzpxyOfwhjLTk/ QcmTfqPKMkOzW6moSR4w/lfoNUFGaW5pRCdla7smdHKBW+GKM2VpvSaainxXEOob/lWB lyaeX9bSliWuKvq/eql5Tvk2qJvTs6iuU4pYJVgSkavGsyjCoea1p4R6q1XThgOezvaJ GJPbDjYcr01ZisIpF5QIeoqhYVBZ1O0slGdOnFFfuu6t5nyOte0Jnj8T5l5gQA79sSrj Y04OHvFI2eQMlJh29FgmQEG8avGGg/R/nULBmHoxxIvpvRB8qkKoPD9prPCsDsXnOXlj +bqg== X-Gm-Message-State: AOJu0YwGUiNeoWW15KJrKcDj4ifbo3F78arIMHiZzWme/lt5RNve10jC OBcgxX2/XmWdqE4g426A7p0O93LnNekaZCGqJlexuNenxmyyFEy1u42jNfU0qQg4BFAMk8BF2/o dwC2s69XTJiC+9E4R1cFretS3aoYa2yVPwxv4SURc0r77Fa9bu5iDV5+lPU/O X-Gm-Gg: ASbGncuUhqkdtdnBBbvZH52v2UwxgLJubHSwNKm2Ih7pJBQqw/o/ZbVLas2GBGEvs2+ BMDkMS6TVSJkCB7Iz6yyJw2bTwooYmf3TExOKU+DasgehqOxIKB9cv//vD9JPle9G3e1Jiv+IFa C7G8DQVevlvMiyOQuDgu3KShN1pmLekrhPoHeeRc3lHuZS021ik0srCEoN/hJvcrZ7xwOChnTQS yLgJ20TIKT7W30xWwTElHgKfXZaIZvfwoedIUxwfMZuFeWPbSMhuU2NJUqCf3ctIxVu+ROAM5i/ YnncFaJedBJUBLC4MfX8154831Rn5W9NK7dZOq/Ov3OsrW76Ng== X-Google-Smtp-Source: AGHT+IHaT/paqlUDalMDy0imkN8qpuedRDS+TT5ut/O2f2n6tiffhUI49sn6krQy8oJL0DYr49iQ52dQu3Vr X-Received: by 2002:a05:6a00:170b:b0:742:a111:ee6f with SMTP id d2e1a72fcca58-74ee149270cmr17355731b3a.10.1752491738641; Mon, 14 Jul 2025 04:15:38 -0700 (PDT) Received: from postal.iol.unh.edu (postal.iol.unh.edu. [2606:4100:3880:1234::84]) by smtp-relay.gmail.com with ESMTPS id d2e1a72fcca58-74eb9f902casm571024b3a.22.2025.07.14.04.15.38 (version=TLS1_2 cipher=ECDHE-ECDSA-AES128-GCM-SHA256 bits=128/128); Mon, 14 Jul 2025 04:15:38 -0700 (PDT) X-Relaying-Domain: iol.unh.edu Date: Mon, 14 Jul 2025 04:15:38 -0700 (PDT) Message-ID: <6874e6da.050a0220.1c7a.f9d9SMTPIN_ADDED_MISSING@mx.google.com> Received: from [172.21.0.5] (unknown [172.18.0.240]) by postal.iol.unh.edu (Postfix) with ESMTP id D75326051830; Mon, 14 Jul 2025 07:15:37 -0400 (EDT) Subject: |SUCCESS| pw155199 [PATCH] [v0,1/1] net/octeon_ep: fix device start From: dpdklab@iol.unh.edu To: Test Report Cc: dpdk-test-reports@iol.unh.edu In-Reply-To: <20250714055849.2258453-1-vattunuru@marvell.com> References: <20250714055849.2258453-1-vattunuru@marvell.com> Content-Type: text/plain X-BeenThere: test-report@dpdk.org X-Mailman-Version: 2.1.29 Precedence: list List-Id: automatic DPDK test reports List-Unsubscribe: , List-Archive: List-Post: List-Help: List-Subscribe: , Errors-To: test-report-bounces@dpdk.org Test-Label: iol-unit-amd64-testing Test-Status: SUCCESS http://dpdk.org/patch/155199 _Testing PASS_ Submitter: Vamsi Krishna Attunuru Date: Monday, July 14 2025 05:58:49 DPDK git baseline: Repo:dpdk Branch: master CommitID:3761152ec7f99c9b60c9cc933102d35fa663393a 155199 --> testing pass Upstream job id: Generic-Unit-Test-DPDK#355229 Test environment and result as below: +-------------------------------+----------------+ | Environment | dpdk_unit_test | +===============================+================+ | Debian GNU/Linux 12 | PASS | +-------------------------------+----------------+ | Fedora Linux 40 | PASS | +-------------------------------+----------------+ | CentOS Stream 10 | PASS | +-------------------------------+----------------+ | Red Hat Enterprise Linux 8.10 | PASS | +-------------------------------+----------------+ | CentOS Stream 9 | PASS | +-------------------------------+----------------+ | Fedora Linux 41 | PASS | +-------------------------------+----------------+ | Ubuntu 24.04 | PASS | +-------------------------------+----------------+ | Ubuntu 22.04 | PASS | +-------------------------------+----------------+ | Ubuntu 20.04 | PASS | +-------------------------------+----------------+ | Red Hat Enterprise Linux 9.5 | PASS | +-------------------------------+----------------+ | Windows Server 2022 | PASS | +-------------------------------+----------------+ Debian GNU/Linux 12 Kernel: 5.15 Compiler: gcc gcc (Debian 12.2.0-14+deb12u1) 12.2.0 Fedora Linux 40 Kernel: 5.15 Compiler: gcc gcc (GCC) 14.2.1 20240912 (Red Hat 14.2.1-3) CentOS Stream 10 Kernel: 5.15 Compiler: gcc gcc (GCC) 14.2.1 20250110 (Red Hat 14.2.1-8) Red Hat Enterprise Linux 8.10 Kernel: 5.15 Compiler: gcc gcc (GCC) 8.5.0 20210514 (Red Hat 8.5.0-22) CentOS Stream 9 Kernel: 5.15 Compiler: gcc gcc (GCC) 11.5.0 20240719 (Red Hat 11.5.0-7) Fedora Linux 41 Kernel: 5.15 Compiler: clang gcc (GCC) 14.3.1 20250523 (Red Hat 14.3.1-1) Ubuntu 24.04 Kernel: 5.15 Compiler: gcc gcc (Ubuntu 13.3.0-6ubuntu2~24.04) 13.3.0 Ubuntu 22.04 Kernel: 5.15 Compiler: gcc gcc (Ubuntu 11.4.0-1ubuntu1~22.04) 11.4.0 Ubuntu 20.04 Kernel: 5.15 Compiler: gcc gcc (Ubuntu 9.4.0-1ubuntu1~20.04.2) 9.4.0 Red Hat Enterprise Linux 9.5 Kernel: 5.15 Compiler: gcc gcc (GCC) 11.5.0 20240719 (Red Hat 11.5.0-2) Windows Server 2022 Kernel: 10.0.20348.2031 Compiler: clang 15.0.7, gcc 14.1.0 (MinGW), and MSVC VS 19.39.33521 To view detailed results, visit: https://lab.dpdk.org/results/dashboard/patchsets/33646/ UNH-IOL DPDK Community Lab To manage your email subscriptions, visit: https://lab.dpdk.org/results/dashboard/preferences/subscriptions/