From mboxrd@z Thu Jan 1 00:00:00 1970 Return-Path: Received: from mails.dpdk.org (mails.dpdk.org [217.70.189.124]) by inbox.dpdk.org (Postfix) with ESMTP id CB74846B70 for ; Mon, 14 Jul 2025 13:16:53 +0200 (CEST) Received: from mails.dpdk.org (localhost [127.0.0.1]) by mails.dpdk.org (Postfix) with ESMTP id BDF09400D5; Mon, 14 Jul 2025 13:16:53 +0200 (CEST) Received: from mail-pl1-f226.google.com (mail-pl1-f226.google.com [209.85.214.226]) by mails.dpdk.org (Postfix) with ESMTP id 3990E400D5 for ; Mon, 14 Jul 2025 13:16:52 +0200 (CEST) Received: by mail-pl1-f226.google.com with SMTP id d9443c01a7336-23dc5bcf49eso50175035ad.2 for ; Mon, 14 Jul 2025 04:16:52 -0700 (PDT) DKIM-Signature: v=1; a=rsa-sha256; c=relaxed/relaxed; d=iol.unh.edu; s=unh-iol; t=1752491811; x=1753096611; darn=dpdk.org; h=references:in-reply-to:cc:to:from:subject:message-id:date:from:to :cc:subject:date:message-id:reply-to; bh=XMKT7rvPtymVEHG+MJLuAJI++dFeyMpwOnNf3KWLoYI=; b=Mdj9+slYiL1oQHUsjQLQxtB6lmGwpFz4qi7Mo3QVMSRIj0vvgkNnSH2BVO+YUYroGQ TsG41xCatZWJtRRytmJCO6J+xGdPesnpvXUxY/GqikgWPFCwLd5QMi/yEeH+/twTvVUQ PBh7fTyikNO5GbKYxRa3AJ5WfywcNj9kWVUng= X-Google-DKIM-Signature: v=1; a=rsa-sha256; c=relaxed/relaxed; d=1e100.net; s=20230601; t=1752491811; x=1753096611; h=references:in-reply-to:cc:to:from:subject:message-id:date :x-gm-message-state:from:to:cc:subject:date:message-id:reply-to; bh=XMKT7rvPtymVEHG+MJLuAJI++dFeyMpwOnNf3KWLoYI=; b=g5oy+WdeY6SfkOj5Grjatg71zd7IzeyvDLiAuUmxilbNyMwjVszVDximSdQVPAEBv0 GzUc3UaOnhd89Sn6BXLoPXUNbRNOsvBf0gI8P56pf6zOEy75IF93EiOJ0Lm6CXD7F7Bn MqkM2DEp+JLKVrfaZquzqdbee6asw8S0v9EjXOm3mp3z6/pa09dK61K0NKkiatH3pRet WlcZT6gmWsIN57BrEgvuwkW3RC3xKCNIDv3GqmexDaj099M/uPSBIK9eDzFY/9vGZM/6 7u5PLFnnWYcuxod7YuILKPv5AgYS8zVfrAJCcLmpgHOl32I8IR/MifRGVrdA1xEGT73B sAjA== X-Gm-Message-State: AOJu0YwRS8NMRnDMPpMNy5Z1NGV3mzFOPEd75K1fBlnxPwBKHT7XIFGb 7PLFuKOYRlxANXPOYtzEYOhJ9K6kbatUuQoPt3V1Azo1yWhdF1c414GInJMl36aZbjdEZh8LuQP p7vTI3w9UQuIbrmcP2AeRyVU2NqtjrkKJy006CtR5rSKAVpWOKbf74dWXnXLt X-Gm-Gg: ASbGncseDjAp455CjWFpNKt0VnB+jDxMg/1pYDe5Llr6rW44wIbuGtBMFT44K5l9Fpo EkID4KmPcd0BCJCcm4nnMIqOqnUsIgPn3F94lotkd+n9nHDOMyxW5z3UDyWmZYhT4hfjEWIu6Qm 3r7rCN95E+hwySY6Qihii5zaPaOHtsJyFRoOCs+1MN/BIgBilnbbqxjNikXFWiy6TmdTAVDA36D siP8CSAbyFg8laZmmkVJ98n9WkbOt9AK4/nsIrm23qChB//wK3MbCdWhKx9NczO+HCVOrHIwvfR g9ZftNrynSYS03ye0mkZpPn25hN32K+4TbgEPEKaZFKgKmeP/g== X-Google-Smtp-Source: AGHT+IHPqsEDxJVsuD9nIWLEw+bjKnDfFdOTQj5MeOBOryw4lM0JTGRUuWziEkF68BYv8ES7Iwre/8KbPoIk X-Received: by 2002:a17:903:19cb:b0:23d:da20:1685 with SMTP id d9443c01a7336-23dede2d1fbmr183994715ad.4.1752491811088; Mon, 14 Jul 2025 04:16:51 -0700 (PDT) Received: from postal.iol.unh.edu (postal.iol.unh.edu. [2606:4100:3880:1234::84]) by smtp-relay.gmail.com with ESMTPS id d9443c01a7336-23de432f266sm5229375ad.88.2025.07.14.04.16.50 (version=TLS1_2 cipher=ECDHE-ECDSA-AES128-GCM-SHA256 bits=128/128); Mon, 14 Jul 2025 04:16:51 -0700 (PDT) X-Relaying-Domain: iol.unh.edu Date: Mon, 14 Jul 2025 04:16:51 -0700 (PDT) Message-ID: <6874e723.170a0220.4ebfb.d164SMTPIN_ADDED_MISSING@mx.google.com> Received: from [172.21.0.6] (unknown [172.18.0.240]) by postal.iol.unh.edu (Postfix) with ESMTP id 4CDF76051830; Mon, 14 Jul 2025 07:16:50 -0400 (EDT) Subject: |SUCCESS| pw155199 [PATCH] [v0,1/1] net/octeon_ep: fix device start From: dpdklab@iol.unh.edu To: Test Report Cc: dpdk-test-reports@iol.unh.edu In-Reply-To: <20250714055849.2258453-1-vattunuru@marvell.com> References: <20250714055849.2258453-1-vattunuru@marvell.com> Content-Type: text/plain X-BeenThere: test-report@dpdk.org X-Mailman-Version: 2.1.29 Precedence: list List-Id: automatic DPDK test reports List-Unsubscribe: , List-Archive: List-Post: List-Help: List-Subscribe: , Errors-To: test-report-bounces@dpdk.org Test-Label: iol-abi-testing Test-Status: SUCCESS http://dpdk.org/patch/155199 _Testing PASS_ Submitter: Vamsi Krishna Attunuru Date: Monday, July 14 2025 05:58:49 DPDK git baseline: Repo:dpdk Branch: master CommitID:3761152ec7f99c9b60c9cc933102d35fa663393a 155199 --> testing pass Upstream job id: Generic-DPDK-Compile-ABI#134278 Test environment and result as below: +-------------------------------+----------+ | Environment | abi_test | +===============================+==========+ | CentOS Stream 10 | PASS | +-------------------------------+----------+ | CentOS Stream 9 | PASS | +-------------------------------+----------+ | openSUSE Leap 15.6 | PASS | +-------------------------------+----------+ | Debian GNU/Linux 12 | PASS | +-------------------------------+----------+ | Fedora Linux 41 | PASS | +-------------------------------+----------+ | Fedora Linux 40 | PASS | +-------------------------------+----------+ | Red Hat Enterprise Linux 9.5 | PASS | +-------------------------------+----------+ | Ubuntu 24.04 | PASS | +-------------------------------+----------+ | Ubuntu 22.04 | PASS | +-------------------------------+----------+ | Red Hat Enterprise Linux 8.10 | PASS | +-------------------------------+----------+ CentOS Stream 10 Kernel: 5.15 Compiler: gcc gcc (GCC) 14.2.1 20250110 (Red Hat 14.2.1-8) CentOS Stream 9 Kernel: 5.15 Compiler: gcc gcc (GCC) 11.5.0 20240719 (Red Hat 11.5.0-7) openSUSE Leap 15.6 Kernel: 5.15 Compiler: gcc gcc (SUSE Linux) 7.5.0 Debian GNU/Linux 12 Kernel: 5.15 Compiler: gcc gcc (Debian 12.2.0-14+deb12u1) 12.2.0 Fedora Linux 41 Kernel: 5.15 Compiler: clang gcc (GCC) 14.3.1 20250523 (Red Hat 14.3.1-1) Fedora Linux 40 Kernel: 5.15 Compiler: gcc gcc (GCC) 14.2.1 20240912 (Red Hat 14.2.1-3) Red Hat Enterprise Linux 9.5 Kernel: 5.15 Compiler: gcc gcc (GCC) 11.5.0 20240719 (Red Hat 11.5.0-2) Ubuntu 24.04 Kernel: 5.15 Compiler: gcc gcc (Ubuntu 13.3.0-6ubuntu2~24.04) 13.3.0 Ubuntu 22.04 Kernel: 5.15 Compiler: gcc gcc (Ubuntu 11.4.0-1ubuntu1~22.04) 11.4.0 Red Hat Enterprise Linux 8.10 Kernel: 5.15 Compiler: gcc gcc (GCC) 8.5.0 20210514 (Red Hat 8.5.0-22) To view detailed results, visit: https://lab.dpdk.org/results/dashboard/patchsets/33646/ UNH-IOL DPDK Community Lab To manage your email subscriptions, visit: https://lab.dpdk.org/results/dashboard/preferences/subscriptions/