From mboxrd@z Thu Jan 1 00:00:00 1970 Return-Path: Received: from mails.dpdk.org (mails.dpdk.org [217.70.189.124]) by inbox.dpdk.org (Postfix) with ESMTP id E1A7E46B70 for ; Mon, 14 Jul 2025 13:17:36 +0200 (CEST) Received: from mails.dpdk.org (localhost [127.0.0.1]) by mails.dpdk.org (Postfix) with ESMTP id DD095400D5; Mon, 14 Jul 2025 13:17:36 +0200 (CEST) Received: from mail-pf1-f227.google.com (mail-pf1-f227.google.com [209.85.210.227]) by mails.dpdk.org (Postfix) with ESMTP id B6A6B400D5 for ; Mon, 14 Jul 2025 13:17:35 +0200 (CEST) Received: by mail-pf1-f227.google.com with SMTP id d2e1a72fcca58-74b52bf417cso2611206b3a.0 for ; Mon, 14 Jul 2025 04:17:35 -0700 (PDT) DKIM-Signature: v=1; a=rsa-sha256; c=relaxed/relaxed; d=iol.unh.edu; s=unh-iol; t=1752491855; x=1753096655; darn=dpdk.org; h=references:in-reply-to:cc:to:from:subject:message-id:date:from:to :cc:subject:date:message-id:reply-to; bh=mNc3t27sP8G8nngd0rSd12MPV/pUKrtVR0EL9aoghX8=; b=aFe6IBqhp/PfAvyHLu1gT0AxSyDYRaYAgk1QECZG1wQLzbChIADa24xMzZp4mlbBjw h12voom0iTpjiv4mVCbly3ahyYJvGzOJ77i8dhW1/EWnwN2oDpxEzpDQwREZWhE49e/l JGMIjXsQNHR+w1Mh70IzbuV9sllwIJZ0DTe1E= X-Google-DKIM-Signature: v=1; a=rsa-sha256; c=relaxed/relaxed; d=1e100.net; s=20230601; t=1752491855; x=1753096655; h=references:in-reply-to:cc:to:from:subject:message-id:date :x-gm-message-state:from:to:cc:subject:date:message-id:reply-to; bh=mNc3t27sP8G8nngd0rSd12MPV/pUKrtVR0EL9aoghX8=; b=JCWhFHiNwaG5bk06DffhW98EXTPdXmgnHn+VqHPUZRf08vZJkgghsN2bRQ5j5wwZpB tkkRGOjX8bhXuQaXrE3NgvgXzTXb0diwJTP4/mrLpZzUQc62ExSoFmGT9DLzhKO/qaxY w+Vg3o9xCPRSjYuTshaKDV1FZs6VIsDLnT7wiTsYkNkbeis9oXvAkY7q+zMMYqT1W1gd Gyuj7KQcwc+og8gX8NOIo2gp5wm60OjSJjPBDX6mFmT2Kg/7RMw9ASt7br56AKrqBMPr TiHN6kV5LLoQNNdYkkh/NGWqeLoYsCxyGI2wTjGHDjVHGeA0XsAZRf9iMc7Vx0rA2g+W xBOg== X-Gm-Message-State: AOJu0YyrHSvCNHDmMgV+ZlVsYx9sdtJbI/+0i5NCHQOM52GHDcrthlNJ 9Uxt1ynnhVMWWfJaYLVo9hW6yHgphG52w43gh77fgUvxaPuoPAkYj5fJwx0NzDAFHwNCaJKz/7L 6/HtcFtlCgKLTZdTsxVLFf6FlTEzNuojjbDFgE+dq3MKO X-Gm-Gg: ASbGncsSi5NwPAGcpF4Eb3fV0VJz3/a7Z7ISDmtsGTdcLN8xEUa0PP8wx6TvOoS894w 0JgACu8KYmPRVjKWCiaBLqgOFfVHTxw1ExzhKXutjF2zOqRjL/SfR+/AbMp8PTNIZni7eKzs+NH xQyFSnjYxK4QqAzrm5CR2M8MOh8Ogm7ymtPIvEVyPoXB4luEFkVVaL1ogiugKkWm+XBqsoLtdi1 4utPb0+IQbbOUKQvljOv0d2YHrVHcMkKrA2M3jkRb74kb90mRMq0ukxHI/a74Qc7svEEWoqrFLw 6RBwsYqUDupSREl36ePb1VeGIKPSlWV8/G9hqSxzABeYeKcXD2sKKnvPd/PbCDbeoy8UNT7c X-Google-Smtp-Source: AGHT+IGK/i81bGucXW1gJehnNk478RRRJg/I22CCHMdYgxvrxpfagcIaZvviBSsxi+7+RjNbrk59loiefp1O X-Received: by 2002:a05:6a00:2d8e:b0:72d:3b2e:fef9 with SMTP id d2e1a72fcca58-74ee352beb4mr16816380b3a.20.1752491854732; Mon, 14 Jul 2025 04:17:34 -0700 (PDT) Received: from postal.iol.unh.edu (postal.iol.unh.edu. [132.177.123.84]) by smtp-relay.gmail.com with ESMTPS id d2e1a72fcca58-74eb9e1cfbdsm573252b3a.4.2025.07.14.04.17.34 (version=TLS1_2 cipher=ECDHE-ECDSA-AES128-GCM-SHA256 bits=128/128); Mon, 14 Jul 2025 04:17:34 -0700 (PDT) X-Relaying-Domain: iol.unh.edu Date: Mon, 14 Jul 2025 04:17:34 -0700 (PDT) Message-ID: <6874e74e.050a0220.3219a.edb9SMTPIN_ADDED_MISSING@mx.google.com> Received: from [172.21.0.7] (unknown [172.18.0.240]) by postal.iol.unh.edu (Postfix) with ESMTP id DBE7A6051830; Mon, 14 Jul 2025 07:17:33 -0400 (EDT) Subject: |SUCCESS| pw155199 [PATCH] [v0,1/1] net/octeon_ep: fix device start From: dpdklab@iol.unh.edu To: Test Report Cc: dpdk-test-reports@iol.unh.edu In-Reply-To: <20250714055849.2258453-1-vattunuru@marvell.com> References: <20250714055849.2258453-1-vattunuru@marvell.com> Content-Type: text/plain X-BeenThere: test-report@dpdk.org X-Mailman-Version: 2.1.29 Precedence: list List-Id: automatic DPDK test reports List-Unsubscribe: , List-Archive: List-Post: List-Help: List-Subscribe: , Errors-To: test-report-bounces@dpdk.org Test-Label: iol-abi-testing Test-Status: SUCCESS http://dpdk.org/patch/155199 _Testing PASS_ Submitter: Vamsi Krishna Attunuru Date: Monday, July 14 2025 05:58:49 DPDK git baseline: Repo:dpdk Branch: master CommitID:3761152ec7f99c9b60c9cc933102d35fa663393a 155199 --> testing pass Upstream job id: Generic-DPDK-Compile-ABI#134272 Test environment and result as below: +-------------------------------+----------+ | Environment | abi_test | +===============================+==========+ | CentOS Stream 10 | PASS | +-------------------------------+----------+ | CentOS Stream 9 | PASS | +-------------------------------+----------+ | openSUSE Leap 15.6 | PASS | +-------------------------------+----------+ | Debian GNU/Linux 12 | PASS | +-------------------------------+----------+ | Fedora Linux 41 | PASS | +-------------------------------+----------+ | Fedora Linux 40 | PASS | +-------------------------------+----------+ | Red Hat Enterprise Linux 9.5 | PASS | +-------------------------------+----------+ | Ubuntu 24.04 | PASS | +-------------------------------+----------+ | Ubuntu 22.04 | PASS | +-------------------------------+----------+ | Red Hat Enterprise Linux 8.10 | PASS | +-------------------------------+----------+ CentOS Stream 10 Kernel: 5.15 Compiler: gcc gcc (GCC) 14.2.1 20250110 (Red Hat 14.2.1-8) CentOS Stream 9 Kernel: 5.15 Compiler: gcc gcc (GCC) 11.5.0 20240719 (Red Hat 11.5.0-7) openSUSE Leap 15.6 Kernel: 5.15 Compiler: gcc gcc (SUSE Linux) 7.5.0 Debian GNU/Linux 12 Kernel: 5.15 Compiler: gcc gcc (Debian 12.2.0-14+deb12u1) 12.2.0 Fedora Linux 41 Kernel: 5.15 Compiler: clang gcc (GCC) 14.3.1 20250523 (Red Hat 14.3.1-1) Fedora Linux 40 Kernel: 5.15 Compiler: gcc gcc (GCC) 14.2.1 20240912 (Red Hat 14.2.1-3) Red Hat Enterprise Linux 9.5 Kernel: 5.15 Compiler: gcc gcc (GCC) 11.5.0 20240719 (Red Hat 11.5.0-2) Ubuntu 24.04 Kernel: 5.15 Compiler: gcc gcc (Ubuntu 13.3.0-6ubuntu2~24.04) 13.3.0 Ubuntu 22.04 Kernel: 5.15 Compiler: gcc gcc (Ubuntu 11.4.0-1ubuntu1~22.04) 11.4.0 Red Hat Enterprise Linux 8.10 Kernel: 5.15 Compiler: gcc gcc (GCC) 8.5.0 20210514 (Red Hat 8.5.0-22) To view detailed results, visit: https://lab.dpdk.org/results/dashboard/patchsets/33646/ UNH-IOL DPDK Community Lab To manage your email subscriptions, visit: https://lab.dpdk.org/results/dashboard/preferences/subscriptions/