From mboxrd@z Thu Jan 1 00:00:00 1970 Return-Path: Received: from mails.dpdk.org (mails.dpdk.org [217.70.189.124]) by inbox.dpdk.org (Postfix) with ESMTP id 024D946B70 for ; Mon, 14 Jul 2025 13:18:12 +0200 (CEST) Received: from mails.dpdk.org (localhost [127.0.0.1]) by mails.dpdk.org (Postfix) with ESMTP id EDF6F400D5; Mon, 14 Jul 2025 13:18:11 +0200 (CEST) Received: from mail-pl1-f227.google.com (mail-pl1-f227.google.com [209.85.214.227]) by mails.dpdk.org (Postfix) with ESMTP id 6FC96400D5 for ; Mon, 14 Jul 2025 13:18:10 +0200 (CEST) Received: by mail-pl1-f227.google.com with SMTP id d9443c01a7336-2349f096605so52321625ad.3 for ; Mon, 14 Jul 2025 04:18:10 -0700 (PDT) DKIM-Signature: v=1; a=rsa-sha256; c=relaxed/relaxed; d=iol.unh.edu; s=unh-iol; t=1752491889; x=1753096689; darn=dpdk.org; h=references:in-reply-to:cc:to:from:subject:message-id:date:from:to :cc:subject:date:message-id:reply-to; bh=CFRhwmlNtumboF6ixd9uRwD70Y7AHjFBk0W1r6wjtcQ=; b=ivAPxWZyHvY6bkR8akPzcv5vkyYYOUE0BjpgQSTHKx9aAGLVMJVf5zWEthUBtYSwFy Eb4zHxABzPIaszZ5dIOnJdW9cPbl16Rl/UXP6WrHGKIf1iRcLODZk3F2uLGiZz4qMCoV RVp5VGVHPXok0Zk1kWFZLXPV2N7VvrlKlPM2A= X-Google-DKIM-Signature: v=1; a=rsa-sha256; c=relaxed/relaxed; d=1e100.net; s=20230601; t=1752491889; x=1753096689; h=references:in-reply-to:cc:to:from:subject:message-id:date :x-gm-message-state:from:to:cc:subject:date:message-id:reply-to; bh=CFRhwmlNtumboF6ixd9uRwD70Y7AHjFBk0W1r6wjtcQ=; b=PVdAah7RknpVEp5/HxhvG2aDEGtXoLZQJWDgfTrKkxSvKLgyAKTe0A/aftXssG2s+o fFWPD0EcEzYci93nLgbJa7GxLhbSG+RwZpKa6GVHtHa39DUzeU2p1ZCIt05WnttkOyqi Kw1QiWHhfE0UteuhruGCipKkMZqxg9BvX+B4G9Cv9d1hVCW90ZIH2lHyro7m3QkPqpuv n7xVrffr5k73RLFAPobKBhYA1tHT6MME98Ieh6Eg0xyrgLSCtQDjR8jGoZSGP9I5SiJH VQEDgewHG2BGKh/BWgjNHlzMB9/tUSdP75MItT8bypluBrfY/ntHAZYlk27QhsfSi9px NL4g== X-Gm-Message-State: AOJu0Yw7nS3OIDZiz632rrjQwOWK/IEaV2bruZ+Alu7rbGiSfxsWd7dd 1nTufOq75Rb1uHrGhS04GHow0k8H8jBNibzbS3bmcdvKeNY0JCc8SX8ykseU3+hOLABugNxjGgC DA6tGgflpv5KnWRdilAF3Xz0ipRoA9CCOCK2/qyoHlIpFCPN1fH+06zW/VEcx X-Gm-Gg: ASbGnctG6w/2NhUHm/XtdnHSkcCjZiSVOnaWNDJSaVfBXNRRn0ZwQ8hff1xUIzHRdhM qY07V3O0AaKzPKNm1LWdNLukugNnytGpORCyj6yYz3P025q0w9i0ey55rkCZiS+CZkABqSPmpfh GH0hTg7GcG1aaH/QMyKuB9Yw1Pt+Ea2iQ3GLhUfOeZvxrwxxuacbe306beZmunGXe8fkdDDj2/6 pNDbGxQrMDZRx3ThujQtDecBorisioaOTr2yebJuo8bCYPcXB15h1bo0R3t3BzoAbVQNmpaXXYv 8HNa0jLAnLXoHmrpY775Y+4gtQARzAenZJWqEiJt8YPQXQmPRA== X-Google-Smtp-Source: AGHT+IGsCk4VAg5Nv9ayumaIpEa39PI5pRgmzgz7Jeh4YTXtc52/G+QZKIhJdVSWe2EUM7Mj4B3ESgO6cFh8 X-Received: by 2002:a17:902:f642:b0:235:f4f7:a633 with SMTP id d9443c01a7336-23dee23846fmr194236985ad.28.1752491889556; Mon, 14 Jul 2025 04:18:09 -0700 (PDT) Received: from postal.iol.unh.edu (postal.iol.unh.edu. [2606:4100:3880:1234::84]) by smtp-relay.gmail.com with ESMTPS id d9443c01a7336-23de433056csm4914075ad.91.2025.07.14.04.18.09 (version=TLS1_2 cipher=ECDHE-ECDSA-AES128-GCM-SHA256 bits=128/128); Mon, 14 Jul 2025 04:18:09 -0700 (PDT) X-Relaying-Domain: iol.unh.edu Date: Mon, 14 Jul 2025 04:18:09 -0700 (PDT) Message-ID: <6874e771.170a0220.3cbab3.a0dbSMTPIN_ADDED_MISSING@mx.google.com> Received: from [172.21.0.5] (unknown [172.18.0.240]) by postal.iol.unh.edu (Postfix) with ESMTP id 0B7766051830; Mon, 14 Jul 2025 07:18:09 -0400 (EDT) Subject: |SUCCESS| pw155199 [PATCH] [v0,1/1] net/octeon_ep: fix device start From: dpdklab@iol.unh.edu To: Test Report Cc: dpdk-test-reports@iol.unh.edu In-Reply-To: <20250714055849.2258453-1-vattunuru@marvell.com> References: <20250714055849.2258453-1-vattunuru@marvell.com> Content-Type: text/plain X-BeenThere: test-report@dpdk.org X-Mailman-Version: 2.1.29 Precedence: list List-Id: automatic DPDK test reports List-Unsubscribe: , List-Archive: List-Post: List-Help: List-Subscribe: , Errors-To: test-report-bounces@dpdk.org Test-Label: iol-abi-testing Test-Status: SUCCESS http://dpdk.org/patch/155199 _Testing PASS_ Submitter: Vamsi Krishna Attunuru Date: Monday, July 14 2025 05:58:49 DPDK git baseline: Repo:dpdk Branch: master CommitID:3761152ec7f99c9b60c9cc933102d35fa663393a 155199 --> testing pass Upstream job id: Generic-DPDK-Compile-ABI#134274 Test environment and result as below: +-------------------------------+----------+ | Environment | abi_test | +===============================+==========+ | CentOS Stream 10 | PASS | +-------------------------------+----------+ | CentOS Stream 9 | PASS | +-------------------------------+----------+ | openSUSE Leap 15.6 | PASS | +-------------------------------+----------+ | Debian GNU/Linux 12 | PASS | +-------------------------------+----------+ | Fedora Linux 41 | PASS | +-------------------------------+----------+ | Fedora Linux 40 | PASS | +-------------------------------+----------+ | Red Hat Enterprise Linux 9.5 | PASS | +-------------------------------+----------+ | Ubuntu 24.04 | PASS | +-------------------------------+----------+ | Ubuntu 22.04 | PASS | +-------------------------------+----------+ | Red Hat Enterprise Linux 8.10 | PASS | +-------------------------------+----------+ CentOS Stream 10 Kernel: 5.15 Compiler: gcc gcc (GCC) 14.2.1 20250110 (Red Hat 14.2.1-8) CentOS Stream 9 Kernel: 5.15 Compiler: gcc gcc (GCC) 11.5.0 20240719 (Red Hat 11.5.0-7) openSUSE Leap 15.6 Kernel: 5.15 Compiler: gcc gcc (SUSE Linux) 7.5.0 Debian GNU/Linux 12 Kernel: 5.15 Compiler: gcc gcc (Debian 12.2.0-14+deb12u1) 12.2.0 Fedora Linux 41 Kernel: 5.15 Compiler: clang gcc (GCC) 14.3.1 20250523 (Red Hat 14.3.1-1) Fedora Linux 40 Kernel: 5.15 Compiler: gcc gcc (GCC) 14.2.1 20240912 (Red Hat 14.2.1-3) Red Hat Enterprise Linux 9.5 Kernel: 5.15 Compiler: gcc gcc (GCC) 11.5.0 20240719 (Red Hat 11.5.0-2) Ubuntu 24.04 Kernel: 5.15 Compiler: gcc gcc (Ubuntu 13.3.0-6ubuntu2~24.04) 13.3.0 Ubuntu 22.04 Kernel: 5.15 Compiler: gcc gcc (Ubuntu 11.4.0-1ubuntu1~22.04) 11.4.0 Red Hat Enterprise Linux 8.10 Kernel: 5.15 Compiler: gcc gcc (GCC) 8.5.0 20210514 (Red Hat 8.5.0-22) To view detailed results, visit: https://lab.dpdk.org/results/dashboard/patchsets/33646/ UNH-IOL DPDK Community Lab To manage your email subscriptions, visit: https://lab.dpdk.org/results/dashboard/preferences/subscriptions/