automatic DPDK test reports
 help / color / mirror / Atom feed
From: dpdklab@iol.unh.edu
To: Test Report <test-report@dpdk.org>
Cc: dpdk-test-reports@iol.unh.edu
Subject: |SUCCESS| pw155197 [PATCH] [v0,1/1] net/octeon_ep: handle interrupt
Date: Mon, 14 Jul 2025 04:59:13 -0700 (PDT)	[thread overview]
Message-ID: <6874f111.050a0220.d4e2d.7816SMTPIN_ADDED_MISSING@mx.google.com> (raw)
In-Reply-To: <20250714053150.2229683-1-vattunuru@marvell.com>

Test-Label: iol-compile-amd64-testing
Test-Status: SUCCESS
http://dpdk.org/patch/155197

_Testing PASS_

Submitter: Vamsi Krishna Attunuru <vattunuru@marvell.com>
Date: Monday, July 14 2025 05:31:50 
DPDK git baseline: Repo:dpdk
  Branch: master
  CommitID:3761152ec7f99c9b60c9cc933102d35fa663393a

155197 --> testing pass

Upstream job id: Generic-DPDK-Compile-Meson#408457

Test environment and result as below:

+-------------------------------+-------------------------+-------------------+--------------------+----------------------+-------------------+------------------+
|          Environment          | dpdk_llvm_clang_compile | dpdk_msvc_compile | dpdk_meson_compile | dpdk_mingw64_compile | dpdk_compile_spdk | dpdk_compile_ovs |
+===============================+=========================+===================+====================+======================+===================+==================+
| Windows Server 2022           | PASS                    | PASS              | SKIPPED            | PASS                 | SKIPPED           | SKIPPED          |
+-------------------------------+-------------------------+-------------------+--------------------+----------------------+-------------------+------------------+
| Ubuntu 20.04                  | SKIPPED                 | SKIPPED           | PASS               | SKIPPED              | SKIPPED           | SKIPPED          |
+-------------------------------+-------------------------+-------------------+--------------------+----------------------+-------------------+------------------+
| FreeBSD 14.2                  | SKIPPED                 | SKIPPED           | PASS               | SKIPPED              | SKIPPED           | SKIPPED          |
+-------------------------------+-------------------------+-------------------+--------------------+----------------------+-------------------+------------------+
| CentOS Stream 10              | SKIPPED                 | SKIPPED           | PASS               | SKIPPED              | SKIPPED           | SKIPPED          |
+-------------------------------+-------------------------+-------------------+--------------------+----------------------+-------------------+------------------+
| Debian GNU/Linux 12           | SKIPPED                 | SKIPPED           | PASS               | SKIPPED              | PASS              | SKIPPED          |
+-------------------------------+-------------------------+-------------------+--------------------+----------------------+-------------------+------------------+
| Fedora Linux 40               | SKIPPED                 | SKIPPED           | PASS               | SKIPPED              | PASS              | SKIPPED          |
+-------------------------------+-------------------------+-------------------+--------------------+----------------------+-------------------+------------------+
| Fedora Linux 41               | SKIPPED                 | SKIPPED           | PASS               | SKIPPED              | PASS              | PASS             |
+-------------------------------+-------------------------+-------------------+--------------------+----------------------+-------------------+------------------+
| CentOS Stream 9               | SKIPPED                 | SKIPPED           | PASS               | SKIPPED              | PASS              | SKIPPED          |
+-------------------------------+-------------------------+-------------------+--------------------+----------------------+-------------------+------------------+
| Red Hat Enterprise Linux 8.10 | SKIPPED                 | SKIPPED           | PASS               | SKIPPED              | SKIPPED           | SKIPPED          |
+-------------------------------+-------------------------+-------------------+--------------------+----------------------+-------------------+------------------+
| openSUSE Leap 15.6            | SKIPPED                 | SKIPPED           | PASS               | SKIPPED              | SKIPPED           | SKIPPED          |
+-------------------------------+-------------------------+-------------------+--------------------+----------------------+-------------------+------------------+
| Red Hat Enterprise Linux 9.5  | SKIPPED                 | SKIPPED           | PASS               | SKIPPED              | SKIPPED           | SKIPPED          |
+-------------------------------+-------------------------+-------------------+--------------------+----------------------+-------------------+------------------+
| Ubuntu 22.04                  | SKIPPED                 | SKIPPED           | PASS               | SKIPPED              | PASS              | SKIPPED          |
+-------------------------------+-------------------------+-------------------+--------------------+----------------------+-------------------+------------------+
| Ubuntu 24.04                  | SKIPPED                 | SKIPPED           | PASS               | SKIPPED              | PASS              | PASS             |
+-------------------------------+-------------------------+-------------------+--------------------+----------------------+-------------------+------------------+
| Alpine Linux 3.22.0           | SKIPPED                 | SKIPPED           | PASS               | SKIPPED              | SKIPPED           | SKIPPED          |
+-------------------------------+-------------------------+-------------------+--------------------+----------------------+-------------------+------------------+


Windows Server 2022
	Kernel: 10.0.20348.2031
	Compiler: clang 15.0.7, gcc 14.1.0 (MinGW), and MSVC VS 19.39.33521

Ubuntu 20.04
	Kernel: 4.19
	Compiler: gcc gcc (Ubuntu 9.4.0-1ubuntu1~20.04.2) 9.4.0

FreeBSD 14.2
	Kernel: 14.2-RELEASE
	Compiler: clang 18.1.6

CentOS Stream 10
	Kernel: 5.15
	Compiler: gcc gcc (GCC) 14.2.1 20250110 (Red Hat 14.2.1-8)

Debian GNU/Linux 12
	Kernel: 5.15
	Compiler: gcc gcc (Debian 12.2.0-14+deb12u1) 12.2.0

Fedora Linux 40
	Kernel: 5.15
	Compiler: clang gcc (GCC) 14.2.1 20240912 (Red Hat 14.2.1-3)

Fedora Linux 41
	Kernel: 5.15
	Compiler: clang gcc (GCC) 14.3.1 20250523 (Red Hat 14.3.1-1)

CentOS Stream 9
	Kernel: 5.15
	Compiler: gcc gcc (GCC) 11.5.0 20240719 (Red Hat 11.5.0-7)

Red Hat Enterprise Linux 8.10
	Kernel: 5.15
	Compiler: gcc gcc (GCC) 8.5.0 20210514 (Red Hat 8.5.0-22)

openSUSE Leap 15.6
	Kernel: 5.15
	Compiler: gcc gcc (SUSE Linux) 7.5.0

Red Hat Enterprise Linux 9.5
	Kernel: 5.15
	Compiler: gcc gcc (GCC) 11.5.0 20240719 (Red Hat 11.5.0-2)

Ubuntu 22.04
	Kernel: 5.15
	Compiler: gcc gcc (Ubuntu 11.4.0-1ubuntu1~22.04) 11.4.0

Ubuntu 24.04
	Kernel: 5.15
	Compiler: gcc gcc (Ubuntu 13.3.0-6ubuntu2~24.04) 13.3.0

Alpine Linux 3.22.0
	Kernel: 5.15
	Compiler: gcc gcc (Alpine 14.2.0) 14.2.0

To view detailed results, visit:
https://lab.dpdk.org/results/dashboard/patchsets/33644/

UNH-IOL DPDK Community Lab

To manage your email subscriptions, visit: 
https://lab.dpdk.org/results/dashboard/preferences/subscriptions/

  parent reply	other threads:[~2025-07-14 11:59 UTC|newest]

Thread overview: 25+ messages / expand[flat|nested]  mbox.gz  Atom feed  top
     [not found] <20250714053150.2229683-1-vattunuru@marvell.com>
2025-07-14  4:58 ` |SUCCESS| pw155197 [PATCH v0 1/1] net/octeon_ep: handle interrupt enable failure qemudev
2025-07-14  5:03 ` qemudev
2025-07-14  5:31 ` checkpatch
2025-07-14  6:21 ` |PENDING| pw155197 [PATCH] [v0,1/1] net/octeon_ep: handle interrupt dpdklab
2025-07-14  6:24 ` |SUCCESS| pw155197 [PATCH v0 1/1] net/octeon_ep: handle interrupt enable failure 0-day Robot
2025-07-14  6:26 ` |SUCCESS| pw155197 [PATCH] [v0,1/1] net/octeon_ep: handle interrupt dpdklab
2025-07-14  6:27 ` |PENDING| " dpdklab
2025-07-14  6:59 ` dpdklab
2025-07-14  7:02 ` |SUCCESS| " dpdklab
2025-07-14  7:16 ` dpdklab
2025-07-14  7:54 ` dpdklab
2025-07-14  8:42 ` dpdklab
2025-07-14  9:31 ` dpdklab
2025-07-14  9:53 ` |PENDING| " dpdklab
2025-07-14 10:38 ` |SUCCESS| " dpdklab
2025-07-14 10:40 ` dpdklab
2025-07-14 10:40 ` dpdklab
2025-07-14 10:41 ` dpdklab
2025-07-14 10:41 ` dpdklab
2025-07-14 10:41 ` dpdklab
2025-07-14 10:42 ` dpdklab
2025-07-14 11:59 ` dpdklab [this message]
2025-07-14 12:00 ` dpdklab
2025-07-14 13:33 ` dpdklab
2025-07-14 13:56 ` dpdklab

Reply instructions:

You may reply publicly to this message via plain-text email
using any one of the following methods:

* Save the following mbox file, import it into your mail client,
  and reply-to-all from there: mbox

  Avoid top-posting and favor interleaved quoting:
  https://en.wikipedia.org/wiki/Posting_style#Interleaved_style

* Reply using the --to, --cc, and --in-reply-to
  switches of git-send-email(1):

  git send-email \
    --in-reply-to=6874f111.050a0220.d4e2d.7816SMTPIN_ADDED_MISSING@mx.google.com \
    --to=dpdklab@iol.unh.edu \
    --cc=dpdk-test-reports@iol.unh.edu \
    --cc=test-report@dpdk.org \
    /path/to/YOUR_REPLY

  https://kernel.org/pub/software/scm/git/docs/git-send-email.html

* If your mail client supports setting the In-Reply-To header
  via mailto: links, try the mailto: link
Be sure your reply has a Subject: header at the top and a blank line before the message body.
This is a public inbox, see mirroring instructions
for how to clone and mirror all data and code used for this inbox;
as well as URLs for NNTP newsgroup(s).