From mboxrd@z Thu Jan 1 00:00:00 1970 Return-Path: Received: from mails.dpdk.org (mails.dpdk.org [217.70.189.124]) by inbox.dpdk.org (Postfix) with ESMTP id 6B49446B70 for ; Mon, 14 Jul 2025 13:59:15 +0200 (CEST) Received: from mails.dpdk.org (localhost [127.0.0.1]) by mails.dpdk.org (Postfix) with ESMTP id 65809400D5; Mon, 14 Jul 2025 13:59:15 +0200 (CEST) Received: from mail-qt1-f226.google.com (mail-qt1-f226.google.com [209.85.160.226]) by mails.dpdk.org (Postfix) with ESMTP id DEB70400D5 for ; Mon, 14 Jul 2025 13:59:13 +0200 (CEST) Received: by mail-qt1-f226.google.com with SMTP id d75a77b69052e-4ab6e66ea68so8200531cf.1 for ; Mon, 14 Jul 2025 04:59:13 -0700 (PDT) DKIM-Signature: v=1; a=rsa-sha256; c=relaxed/relaxed; d=iol.unh.edu; s=unh-iol; t=1752494353; x=1753099153; darn=dpdk.org; h=references:in-reply-to:cc:to:from:subject:message-id:date:from:to :cc:subject:date:message-id:reply-to; bh=i137pBa2BE6umGmX6o1QelYppXlU7FdgC78UsGPnYUM=; b=Dox41ae0v5M/GC5ya6DP5mhfV+3F6MDph5D2Zt8I+5tO9jpMW5cB7I80GXViIcCP/1 V4uTgNrqBlcuvBMH9JDyok2NoG5IvrHMCfcT6Urhk4CK+6AhTsOZQ2/yCEofFO7Up/XH LKkUZKSOrNPZzM/wi0iuww8ZBHWbN0+ASy++8= X-Google-DKIM-Signature: v=1; a=rsa-sha256; c=relaxed/relaxed; d=1e100.net; s=20230601; t=1752494353; x=1753099153; h=references:in-reply-to:cc:to:from:subject:message-id:date :x-gm-message-state:from:to:cc:subject:date:message-id:reply-to; bh=i137pBa2BE6umGmX6o1QelYppXlU7FdgC78UsGPnYUM=; b=YUiAJSCT7vjB5VOkKTiRr9WJoulpwj7fq3RJALXKb+W0KVjkOziQV6xcJdoFHXzvCM KUd5h+niV9n5bZD43/QOp0/eoBkcVAj6S5/ne/uKTxvy6177DFWQkSoPwCh+o6YldYmN DTX3HzYMr84w/+GXTS0gbF+1p1JjAf6bYk2MX8xqTemsEMonC+QzfZVzkJqtQZjsoGBa AGCMH65Z/lLqEsNkv1HzLKhb+7k9nvU0a+PYQkACorqQO+eFExV5k3eP22Dl/diOOalJ gGPApZtHG4ZF+WMPqi6DNitaMwiNtigd2Yh8abmJ4MAHu8+q5jAcqI3/Dgz3ZRAd/9og RDiA== X-Gm-Message-State: AOJu0YwYWtiNA3wmrOcBYDB25tk8fqvRbaN6k0HigIz6eIPT/FIIvos+ iBdQVjOxawg2EK9cnNUL69WClYv1Zkij3jpRjcVtzj1EukwL0dK8I0ZMhSmYUko8CM6GebRxHRs crMc1VUmN4JvyzQUoLHmVONgVs5pzNJ7LddUiftnCBXrkSPrHdlmByBJ86uBs X-Gm-Gg: ASbGncuD+tQCrx6WE34U/1EzPXCDM5m0Qq9bKe/PJKHRKRU5BZCUKTM/uqz6R+AGcbe Gl4o0stFH879Ab7V2o9osZHVtAcpI0AsRZypACKzCSfvEIzR2lvXeKjKNHPEBfPZgyDa+jmwzFP uw8KMjs31REgt6RN8j3YBJBagT/YWS5NHA0oRu5ReU+nzjwIG/n81Kq83iYzz8O8R33QDw8q00T lRsR7Aun3vfV5cQO8Zpa24Q+FxcHIfKShpx1HjfYmP9IffVv2h0V1UYak2aW+rw3jBe8LHmoa3G O8+uFUGJdh67X7bfBF6miByU1RYScYwj3GtyIoZPbyu4HGOubA== X-Google-Smtp-Source: AGHT+IFUzUewb3cKldM9zSYvjkeuCIDkmujFg/ZmVsDD0vtIu9Brph+3Vn9IGSq8WTDFGjBeuzH0x0wePm7I X-Received: by 2002:a05:622a:1b0b:b0:4ab:3a0a:a01b with SMTP id d75a77b69052e-4ab3a0aa309mr132378361cf.38.1752494353269; Mon, 14 Jul 2025 04:59:13 -0700 (PDT) Received: from postal.iol.unh.edu (postal.iol.unh.edu. [2606:4100:3880:1234::84]) by smtp-relay.gmail.com with ESMTPS id d75a77b69052e-4ab597c98e9sm1571481cf.16.2025.07.14.04.59.13 (version=TLS1_2 cipher=ECDHE-ECDSA-AES128-GCM-SHA256 bits=128/128); Mon, 14 Jul 2025 04:59:13 -0700 (PDT) X-Relaying-Domain: iol.unh.edu Date: Mon, 14 Jul 2025 04:59:13 -0700 (PDT) Message-ID: <6874f111.050a0220.d4e2d.7816SMTPIN_ADDED_MISSING@mx.google.com> Received: from [172.21.0.6] (unknown [172.18.0.240]) by postal.iol.unh.edu (Postfix) with ESMTP id CA2B56051830; Mon, 14 Jul 2025 07:59:12 -0400 (EDT) Subject: |SUCCESS| pw155197 [PATCH] [v0,1/1] net/octeon_ep: handle interrupt From: dpdklab@iol.unh.edu To: Test Report Cc: dpdk-test-reports@iol.unh.edu In-Reply-To: <20250714053150.2229683-1-vattunuru@marvell.com> References: <20250714053150.2229683-1-vattunuru@marvell.com> Content-Type: text/plain X-BeenThere: test-report@dpdk.org X-Mailman-Version: 2.1.29 Precedence: list List-Id: automatic DPDK test reports List-Unsubscribe: , List-Archive: List-Post: List-Help: List-Subscribe: , Errors-To: test-report-bounces@dpdk.org Test-Label: iol-compile-amd64-testing Test-Status: SUCCESS http://dpdk.org/patch/155197 _Testing PASS_ Submitter: Vamsi Krishna Attunuru Date: Monday, July 14 2025 05:31:50 DPDK git baseline: Repo:dpdk Branch: master CommitID:3761152ec7f99c9b60c9cc933102d35fa663393a 155197 --> testing pass Upstream job id: Generic-DPDK-Compile-Meson#408457 Test environment and result as below: +-------------------------------+-------------------------+-------------------+--------------------+----------------------+-------------------+------------------+ | Environment | dpdk_llvm_clang_compile | dpdk_msvc_compile | dpdk_meson_compile | dpdk_mingw64_compile | dpdk_compile_spdk | dpdk_compile_ovs | +===============================+=========================+===================+====================+======================+===================+==================+ | Windows Server 2022 | PASS | PASS | SKIPPED | PASS | SKIPPED | SKIPPED | +-------------------------------+-------------------------+-------------------+--------------------+----------------------+-------------------+------------------+ | Ubuntu 20.04 | SKIPPED | SKIPPED | PASS | SKIPPED | SKIPPED | SKIPPED | +-------------------------------+-------------------------+-------------------+--------------------+----------------------+-------------------+------------------+ | FreeBSD 14.2 | SKIPPED | SKIPPED | PASS | SKIPPED | SKIPPED | SKIPPED | +-------------------------------+-------------------------+-------------------+--------------------+----------------------+-------------------+------------------+ | CentOS Stream 10 | SKIPPED | SKIPPED | PASS | SKIPPED | SKIPPED | SKIPPED | +-------------------------------+-------------------------+-------------------+--------------------+----------------------+-------------------+------------------+ | Debian GNU/Linux 12 | SKIPPED | SKIPPED | PASS | SKIPPED | PASS | SKIPPED | +-------------------------------+-------------------------+-------------------+--------------------+----------------------+-------------------+------------------+ | Fedora Linux 40 | SKIPPED | SKIPPED | PASS | SKIPPED | PASS | SKIPPED | +-------------------------------+-------------------------+-------------------+--------------------+----------------------+-------------------+------------------+ | Fedora Linux 41 | SKIPPED | SKIPPED | PASS | SKIPPED | PASS | PASS | +-------------------------------+-------------------------+-------------------+--------------------+----------------------+-------------------+------------------+ | CentOS Stream 9 | SKIPPED | SKIPPED | PASS | SKIPPED | PASS | SKIPPED | +-------------------------------+-------------------------+-------------------+--------------------+----------------------+-------------------+------------------+ | Red Hat Enterprise Linux 8.10 | SKIPPED | SKIPPED | PASS | SKIPPED | SKIPPED | SKIPPED | +-------------------------------+-------------------------+-------------------+--------------------+----------------------+-------------------+------------------+ | openSUSE Leap 15.6 | SKIPPED | SKIPPED | PASS | SKIPPED | SKIPPED | SKIPPED | +-------------------------------+-------------------------+-------------------+--------------------+----------------------+-------------------+------------------+ | Red Hat Enterprise Linux 9.5 | SKIPPED | SKIPPED | PASS | SKIPPED | SKIPPED | SKIPPED | +-------------------------------+-------------------------+-------------------+--------------------+----------------------+-------------------+------------------+ | Ubuntu 22.04 | SKIPPED | SKIPPED | PASS | SKIPPED | PASS | SKIPPED | +-------------------------------+-------------------------+-------------------+--------------------+----------------------+-------------------+------------------+ | Ubuntu 24.04 | SKIPPED | SKIPPED | PASS | SKIPPED | PASS | PASS | +-------------------------------+-------------------------+-------------------+--------------------+----------------------+-------------------+------------------+ | Alpine Linux 3.22.0 | SKIPPED | SKIPPED | PASS | SKIPPED | SKIPPED | SKIPPED | +-------------------------------+-------------------------+-------------------+--------------------+----------------------+-------------------+------------------+ Windows Server 2022 Kernel: 10.0.20348.2031 Compiler: clang 15.0.7, gcc 14.1.0 (MinGW), and MSVC VS 19.39.33521 Ubuntu 20.04 Kernel: 4.19 Compiler: gcc gcc (Ubuntu 9.4.0-1ubuntu1~20.04.2) 9.4.0 FreeBSD 14.2 Kernel: 14.2-RELEASE Compiler: clang 18.1.6 CentOS Stream 10 Kernel: 5.15 Compiler: gcc gcc (GCC) 14.2.1 20250110 (Red Hat 14.2.1-8) Debian GNU/Linux 12 Kernel: 5.15 Compiler: gcc gcc (Debian 12.2.0-14+deb12u1) 12.2.0 Fedora Linux 40 Kernel: 5.15 Compiler: clang gcc (GCC) 14.2.1 20240912 (Red Hat 14.2.1-3) Fedora Linux 41 Kernel: 5.15 Compiler: clang gcc (GCC) 14.3.1 20250523 (Red Hat 14.3.1-1) CentOS Stream 9 Kernel: 5.15 Compiler: gcc gcc (GCC) 11.5.0 20240719 (Red Hat 11.5.0-7) Red Hat Enterprise Linux 8.10 Kernel: 5.15 Compiler: gcc gcc (GCC) 8.5.0 20210514 (Red Hat 8.5.0-22) openSUSE Leap 15.6 Kernel: 5.15 Compiler: gcc gcc (SUSE Linux) 7.5.0 Red Hat Enterprise Linux 9.5 Kernel: 5.15 Compiler: gcc gcc (GCC) 11.5.0 20240719 (Red Hat 11.5.0-2) Ubuntu 22.04 Kernel: 5.15 Compiler: gcc gcc (Ubuntu 11.4.0-1ubuntu1~22.04) 11.4.0 Ubuntu 24.04 Kernel: 5.15 Compiler: gcc gcc (Ubuntu 13.3.0-6ubuntu2~24.04) 13.3.0 Alpine Linux 3.22.0 Kernel: 5.15 Compiler: gcc gcc (Alpine 14.2.0) 14.2.0 To view detailed results, visit: https://lab.dpdk.org/results/dashboard/patchsets/33644/ UNH-IOL DPDK Community Lab To manage your email subscriptions, visit: https://lab.dpdk.org/results/dashboard/preferences/subscriptions/