From mboxrd@z Thu Jan 1 00:00:00 1970 Return-Path: Received: from mails.dpdk.org (mails.dpdk.org [217.70.189.124]) by inbox.dpdk.org (Postfix) with ESMTP id 9498D46B71 for ; Mon, 14 Jul 2025 14:00:46 +0200 (CEST) Received: from mails.dpdk.org (localhost [127.0.0.1]) by mails.dpdk.org (Postfix) with ESMTP id 8E7F4400D5; Mon, 14 Jul 2025 14:00:46 +0200 (CEST) Received: from mail-il1-f225.google.com (mail-il1-f225.google.com [209.85.166.225]) by mails.dpdk.org (Postfix) with ESMTP id 0138E4021F for ; Mon, 14 Jul 2025 14:00:44 +0200 (CEST) Received: by mail-il1-f225.google.com with SMTP id e9e14a558f8ab-3e25355160dso9310465ab.0 for ; Mon, 14 Jul 2025 05:00:44 -0700 (PDT) DKIM-Signature: v=1; a=rsa-sha256; c=relaxed/relaxed; d=iol.unh.edu; s=unh-iol; t=1752494444; x=1753099244; darn=dpdk.org; h=references:in-reply-to:cc:to:from:subject:message-id:date:from:to :cc:subject:date:message-id:reply-to; bh=dyk1CxXOMJHWmtdUKW97ji+1OsAQgkoL6w2UiVgz2ZY=; b=JinRLO/sFWO5U5Cy0TVyX7RXPv/zOmMPW31QM4an910ZY4YAPQEFYGrujoJO3hYd6B USKBSW1sC1ZXFEVcJSCbtBrvmhuXYgvmK6Goq/2CiqSSnfRpU1PjJuYrM9SE9uu4Ohya /3avF6cJupEGXGowTAAaGxnl9oH04+39EtsMc= X-Google-DKIM-Signature: v=1; a=rsa-sha256; c=relaxed/relaxed; d=1e100.net; s=20230601; t=1752494444; x=1753099244; h=references:in-reply-to:cc:to:from:subject:message-id:date :x-gm-message-state:from:to:cc:subject:date:message-id:reply-to; bh=dyk1CxXOMJHWmtdUKW97ji+1OsAQgkoL6w2UiVgz2ZY=; b=EqY9cD7IrOOZ54yCH3qSq6MPWgSdXN90zJXnBs7NP7X6y+TH6PeN16nnz8NkRtee/u yoDqxr5IlZD2sIXDSQId7UNLzft9uQBJgeDOL5N0OMEPddWOXpQTtax7JKDxNEXzGrUH bIt3YJ5pU47QBJLXBtosnEOkkuVDf7FsGDpMgLgNwhgiw8KqQDR9790WotxA6oAx27S+ s4swogQmHMS/ol+8gNLR/x5JlBvM6cehnlM0J35WIrVrvK2VJqRA63LAfGHXA1y1ODLh hofiGNK4tMhjeZBzDkJFrv5XgW9Ez5pdFxQLnJR0VY//ttI1Si1GNGXsAqOAR3bAlwIG UCXQ== X-Gm-Message-State: AOJu0YyYIhEFPv+RtIIluTyNWWD+W7uVLfWFXtLRfFQfq+oMnC4Am+Xs zLfHnPjT9sRnvxX2aHwskMghg2C7L4vpv51QAPYSMIWBan3YdetNDnBtKJdD2VgejSYHEj+ESMN QLQLlUKLE1omXkjfwio9cAcGzHvmMAGpKz0UnkTTIRacI X-Gm-Gg: ASbGncsqq+ox6JLmBsjBVD3aV3B+0B2MAh+kCp+pO0ZM2X+Y5Uj3I4VQXSFBdsdbCbg CXdFgG3SpxjMoJZsm0RaMMDrE2Hn0TRsV/UjGCxb7QtSX/9YTem76A3MvSsCc7pkowL8M03vNIQ XF5dL8+TUiXaP9PZbOQKocWMflWonOim5BZ/AK2TPH97ZSrcpUqxf+UVyh6hzcR72JP2um2lU6m OBoRm11mmeCtC7w7YjdFPB6K7XM5O3r+e1JiwuoRMP6pdUGseXhIuV3WEMrPgHW+SxnsRbTB6UR iizXw1UoDzgKJZiS4tcVnlzn/O1L2QamM/Ls8uoLtG9pMMeJYBLAJUq1QXHCp+VVK84ktpoD X-Google-Smtp-Source: AGHT+IF+NGv9lrVYRHYS4/duAacfOVJCaDzn55aZb7NDGh2HJxu7rzsZU/lqn7I9J8xbA/lJt6P1sifAd/Q0 X-Received: by 2002:a05:6e02:1a68:b0:3dc:8746:962b with SMTP id e9e14a558f8ab-3e253326d67mr118040475ab.15.1752494443973; Mon, 14 Jul 2025 05:00:43 -0700 (PDT) Received: from postal.iol.unh.edu (postal.iol.unh.edu. [132.177.123.84]) by smtp-relay.gmail.com with ESMTPS id e9e14a558f8ab-3e246130044sm5872205ab.30.2025.07.14.05.00.43 (version=TLS1_2 cipher=ECDHE-ECDSA-AES128-GCM-SHA256 bits=128/128); Mon, 14 Jul 2025 05:00:43 -0700 (PDT) X-Relaying-Domain: iol.unh.edu Date: Mon, 14 Jul 2025 05:00:43 -0700 (PDT) Message-ID: <6874f16b.050a0220.122bec.f9c7SMTPIN_ADDED_MISSING@mx.google.com> Received: from [172.21.0.5] (unknown [172.18.0.240]) by postal.iol.unh.edu (Postfix) with ESMTP id 905B36051830; Mon, 14 Jul 2025 08:00:43 -0400 (EDT) Subject: |SUCCESS| pw155197 [PATCH] [v0,1/1] net/octeon_ep: handle interrupt From: dpdklab@iol.unh.edu To: Test Report Cc: dpdk-test-reports@iol.unh.edu In-Reply-To: <20250714053150.2229683-1-vattunuru@marvell.com> References: <20250714053150.2229683-1-vattunuru@marvell.com> Content-Type: text/plain X-BeenThere: test-report@dpdk.org X-Mailman-Version: 2.1.29 Precedence: list List-Id: automatic DPDK test reports List-Unsubscribe: , List-Archive: List-Post: List-Help: List-Subscribe: , Errors-To: test-report-bounces@dpdk.org Test-Label: iol-compile-amd64-testing Test-Status: SUCCESS http://dpdk.org/patch/155197 _Testing PASS_ Submitter: Vamsi Krishna Attunuru Date: Monday, July 14 2025 05:31:50 DPDK git baseline: Repo:dpdk Branch: master CommitID:3761152ec7f99c9b60c9cc933102d35fa663393a 155197 --> testing pass Upstream job id: Generic-DPDK-Compile-Meson#408450 Test environment and result as below: +-------------------------------+-------------------------+-------------------+--------------------+----------------------+-------------------+------------------+ | Environment | dpdk_llvm_clang_compile | dpdk_msvc_compile | dpdk_meson_compile | dpdk_mingw64_compile | dpdk_compile_spdk | dpdk_compile_ovs | +===============================+=========================+===================+====================+======================+===================+==================+ | Windows Server 2022 | PASS | PASS | SKIPPED | PASS | SKIPPED | SKIPPED | +-------------------------------+-------------------------+-------------------+--------------------+----------------------+-------------------+------------------+ | Ubuntu 20.04 | SKIPPED | SKIPPED | PASS | SKIPPED | SKIPPED | SKIPPED | +-------------------------------+-------------------------+-------------------+--------------------+----------------------+-------------------+------------------+ | FreeBSD 14.2 | SKIPPED | SKIPPED | PASS | SKIPPED | SKIPPED | SKIPPED | +-------------------------------+-------------------------+-------------------+--------------------+----------------------+-------------------+------------------+ | CentOS Stream 10 | SKIPPED | SKIPPED | PASS | SKIPPED | SKIPPED | SKIPPED | +-------------------------------+-------------------------+-------------------+--------------------+----------------------+-------------------+------------------+ | Debian GNU/Linux 12 | SKIPPED | SKIPPED | PASS | SKIPPED | PASS | SKIPPED | +-------------------------------+-------------------------+-------------------+--------------------+----------------------+-------------------+------------------+ | Fedora Linux 40 | SKIPPED | SKIPPED | PASS | SKIPPED | PASS | SKIPPED | +-------------------------------+-------------------------+-------------------+--------------------+----------------------+-------------------+------------------+ | Fedora Linux 41 | SKIPPED | SKIPPED | PASS | SKIPPED | PASS | PASS | +-------------------------------+-------------------------+-------------------+--------------------+----------------------+-------------------+------------------+ | CentOS Stream 9 | SKIPPED | SKIPPED | PASS | SKIPPED | PASS | SKIPPED | +-------------------------------+-------------------------+-------------------+--------------------+----------------------+-------------------+------------------+ | Red Hat Enterprise Linux 8.10 | SKIPPED | SKIPPED | PASS | SKIPPED | SKIPPED | SKIPPED | +-------------------------------+-------------------------+-------------------+--------------------+----------------------+-------------------+------------------+ | openSUSE Leap 15.6 | SKIPPED | SKIPPED | PASS | SKIPPED | SKIPPED | SKIPPED | +-------------------------------+-------------------------+-------------------+--------------------+----------------------+-------------------+------------------+ | Red Hat Enterprise Linux 9.5 | SKIPPED | SKIPPED | PASS | SKIPPED | SKIPPED | SKIPPED | +-------------------------------+-------------------------+-------------------+--------------------+----------------------+-------------------+------------------+ | Ubuntu 22.04 | SKIPPED | SKIPPED | PASS | SKIPPED | PASS | SKIPPED | +-------------------------------+-------------------------+-------------------+--------------------+----------------------+-------------------+------------------+ | Ubuntu 24.04 | SKIPPED | SKIPPED | PASS | SKIPPED | PASS | PASS | +-------------------------------+-------------------------+-------------------+--------------------+----------------------+-------------------+------------------+ | Alpine Linux 3.22.0 | SKIPPED | SKIPPED | PASS | SKIPPED | SKIPPED | SKIPPED | +-------------------------------+-------------------------+-------------------+--------------------+----------------------+-------------------+------------------+ Windows Server 2022 Kernel: 10.0.20348.2031 Compiler: clang 15.0.7, gcc 14.1.0 (MinGW), and MSVC VS 19.39.33521 Ubuntu 20.04 Kernel: 4.19 Compiler: gcc gcc (Ubuntu 9.4.0-1ubuntu1~20.04.2) 9.4.0 FreeBSD 14.2 Kernel: 14.2-RELEASE Compiler: clang 18.1.6 CentOS Stream 10 Kernel: 5.15 Compiler: gcc gcc (GCC) 14.2.1 20250110 (Red Hat 14.2.1-8) Debian GNU/Linux 12 Kernel: 5.15 Compiler: gcc gcc (Debian 12.2.0-14+deb12u1) 12.2.0 Fedora Linux 40 Kernel: 5.15 Compiler: clang gcc (GCC) 14.2.1 20240912 (Red Hat 14.2.1-3) Fedora Linux 41 Kernel: 5.15 Compiler: clang gcc (GCC) 14.3.1 20250523 (Red Hat 14.3.1-1) CentOS Stream 9 Kernel: 5.15 Compiler: gcc gcc (GCC) 11.5.0 20240719 (Red Hat 11.5.0-7) Red Hat Enterprise Linux 8.10 Kernel: 5.15 Compiler: gcc gcc (GCC) 8.5.0 20210514 (Red Hat 8.5.0-22) openSUSE Leap 15.6 Kernel: 5.15 Compiler: gcc gcc (SUSE Linux) 7.5.0 Red Hat Enterprise Linux 9.5 Kernel: 5.15 Compiler: gcc gcc (GCC) 11.5.0 20240719 (Red Hat 11.5.0-2) Ubuntu 22.04 Kernel: 5.15 Compiler: gcc gcc (Ubuntu 11.4.0-1ubuntu1~22.04) 11.4.0 Ubuntu 24.04 Kernel: 5.15 Compiler: gcc gcc (Ubuntu 13.3.0-6ubuntu2~24.04) 13.3.0 Alpine Linux 3.22.0 Kernel: 5.15 Compiler: gcc gcc (Alpine 14.2.0) 14.2.0 To view detailed results, visit: https://lab.dpdk.org/results/dashboard/patchsets/33644/ UNH-IOL DPDK Community Lab To manage your email subscriptions, visit: https://lab.dpdk.org/results/dashboard/preferences/subscriptions/