From mboxrd@z Thu Jan 1 00:00:00 1970 Return-Path: Received: from mails.dpdk.org (mails.dpdk.org [217.70.189.124]) by inbox.dpdk.org (Postfix) with ESMTP id CC15E46B71 for ; Mon, 14 Jul 2025 14:26:06 +0200 (CEST) Received: from mails.dpdk.org (localhost [127.0.0.1]) by mails.dpdk.org (Postfix) with ESMTP id A5E43400D5; Mon, 14 Jul 2025 14:26:06 +0200 (CEST) Received: from mail-oa1-f100.google.com (mail-oa1-f100.google.com [209.85.160.100]) by mails.dpdk.org (Postfix) with ESMTP id 4BB12400D5 for ; Mon, 14 Jul 2025 14:26:05 +0200 (CEST) Received: by mail-oa1-f100.google.com with SMTP id 586e51a60fabf-2ff1ed124deso1346885fac.0 for ; Mon, 14 Jul 2025 05:26:05 -0700 (PDT) DKIM-Signature: v=1; a=rsa-sha256; c=relaxed/relaxed; d=iol.unh.edu; s=unh-iol; t=1752495964; x=1753100764; darn=dpdk.org; h=references:in-reply-to:cc:to:from:subject:message-id:date:from:to :cc:subject:date:message-id:reply-to; bh=moKlT3Upfik+rkAcw1M2/u+A+1bfX2wz+leMzua9H5w=; b=Ue2wA4qchUqxd7lWXsE1d64wLdTbkFQ4yguweE35XoNeC3w5HKSWS6suWyLXBQ6J91 hrLgb6kt1BuTkngDxtnOT/Hkd/FLx/XKM+IdH2z+3gztqRVe9yWQurfiCiDKkwQbwjmg bNufUpowEIpVTtnO76syGwX63l8iFANR88ER4= X-Google-DKIM-Signature: v=1; a=rsa-sha256; c=relaxed/relaxed; d=1e100.net; s=20230601; t=1752495964; x=1753100764; h=references:in-reply-to:cc:to:from:subject:message-id:date :x-gm-message-state:from:to:cc:subject:date:message-id:reply-to; bh=moKlT3Upfik+rkAcw1M2/u+A+1bfX2wz+leMzua9H5w=; b=ByvrrdimYYu+GgG3luV4ZvHIDg/lNtfsc7OHJLHlr4pMuHtWkOAkx13cosIMF287ku ZBs+Q5+KSrH88fLPJps8MiMlNk1VhlTWMS3HBLgDd6SU+oK8mF3Wrr528Bfe9MlT+WUi 8AdwXgUUOyLJIPCoaGo/mnj/YHsSQ5Uz0p4Qc3aYqlrWRY1Vw6TQ9AllVAg0h98PXKaU FhtMQH93mfAPl7Ln7HmVlSlKB7jL9gUq8lElbp+baeWMt8kzTiPmEztZ/HKCTFsvH63T 6FHNQriu/Pi7pjXysU57OGw11esMYWoaHCRh4E7TfE1gfGTNA24aNRR1IQudrUwP0r6O bccA== X-Gm-Message-State: AOJu0Yx1Fs+JcnfgWmjjOS+qgi3S7sOUiD6fJJOf2N4xHJ+gDpo2qxHr bWRYnlHOAQe/fmlu7/uzsq4hfvwBO/6uPkxbh38lsBydqzVcaNkh1Z43vFdtgQYGGfYgUJVVgsc /Q/X3qHVAKLp3qLf0jjFN697Lb5kJprsU9O0xzmDK0Sjm X-Gm-Gg: ASbGncst8awTSyjlUgUpouw0a52bSa/TSLYNhLp7gFw9c3IErimk+FEqn3rtW81CbuW S3TMY/QddHKt+Ek70VH++Vm+MQSIWAF8nZ5I3XL9liir9TOSulftdPTjQaBDcBUOlJ1sOKf59yR pdD/K/DDl/pYDXShTK5K9MZtCg6sjuhMi6hTki7mdXm7qWQQU5WkkZREBqewDv5Uu91B6AUfb3x 0FmsC8DBVZuzoKANEiEqK14R1btYLGhsvDYDillfmNWxiBL5baFFVdGFt5DdyMwFKpVXwzj3cDZ vFAD10IuJ9Uco0ajwii7OB+mBDojMOrdTZSNuUWArP8770JGAVKsSycrcLRlWc9oRjonmGlm X-Google-Smtp-Source: AGHT+IGI6pf/hfNA1hG0V9PO2lpfl7y4owZADGYHlLWswI6M1aiJZk5G7Bgu4mNfF3SM7L/Ij22u3+4k9gd9 X-Received: by 2002:a05:6870:1e8a:b0:2bc:7811:5bb8 with SMTP id 586e51a60fabf-2ff2701f7e8mr8076784fac.18.1752495964516; Mon, 14 Jul 2025 05:26:04 -0700 (PDT) Received: from postal.iol.unh.edu (postal.iol.unh.edu. [132.177.123.84]) by smtp-relay.gmail.com with ESMTPS id 586e51a60fabf-2ff111c3687sm660147fac.6.2025.07.14.05.26.04 (version=TLS1_2 cipher=ECDHE-ECDSA-AES128-GCM-SHA256 bits=128/128); Mon, 14 Jul 2025 05:26:04 -0700 (PDT) X-Relaying-Domain: iol.unh.edu Date: Mon, 14 Jul 2025 05:26:04 -0700 (PDT) Message-ID: <6874f75c.050a0220.140ad3.45ddSMTPIN_ADDED_MISSING@mx.google.com> Received: from [172.21.0.5] (unknown [172.18.0.240]) by postal.iol.unh.edu (Postfix) with ESMTP id 9D5D46051830; Mon, 14 Jul 2025 08:26:03 -0400 (EDT) Subject: |SUCCESS| pw155198 [PATCH] [v0,1/1] net/octeon_ep: fix mbuf data off From: dpdklab@iol.unh.edu To: Test Report Cc: dpdk-test-reports@iol.unh.edu In-Reply-To: <20250714054041.2257589-1-vattunuru@marvell.com> References: <20250714054041.2257589-1-vattunuru@marvell.com> Content-Type: text/plain X-BeenThere: test-report@dpdk.org X-Mailman-Version: 2.1.29 Precedence: list List-Id: automatic DPDK test reports List-Unsubscribe: , List-Archive: List-Post: List-Help: List-Subscribe: , Errors-To: test-report-bounces@dpdk.org Test-Label: iol-compile-amd64-testing Test-Status: SUCCESS http://dpdk.org/patch/155198 _Testing PASS_ Submitter: Vamsi Krishna Attunuru Date: Monday, July 14 2025 05:40:41 DPDK git baseline: Repo:dpdk Branch: master CommitID:3761152ec7f99c9b60c9cc933102d35fa663393a 155198 --> testing pass Upstream job id: Generic-DPDK-Compile-Meson#408496 Test environment and result as below: +------------------------------+--------------------+-------------------+-------------------------+----------------------+-------------------+------------------+ | Environment | dpdk_meson_compile | dpdk_msvc_compile | dpdk_llvm_clang_compile | dpdk_mingw64_compile | dpdk_compile_spdk | dpdk_compile_ovs | +==============================+====================+===================+=========================+======================+===================+==================+ | Ubuntu 20.04 | PASS | SKIPPED | SKIPPED | SKIPPED | SKIPPED | SKIPPED | +------------------------------+--------------------+-------------------+-------------------------+----------------------+-------------------+------------------+ | FreeBSD 14.2 | PASS | SKIPPED | SKIPPED | SKIPPED | SKIPPED | SKIPPED | +------------------------------+--------------------+-------------------+-------------------------+----------------------+-------------------+------------------+ | CentOS Stream 9 | PASS | SKIPPED | SKIPPED | SKIPPED | PASS | SKIPPED | +------------------------------+--------------------+-------------------+-------------------------+----------------------+-------------------+------------------+ | CentOS Stream 10 | PASS | SKIPPED | SKIPPED | SKIPPED | SKIPPED | SKIPPED | +------------------------------+--------------------+-------------------+-------------------------+----------------------+-------------------+------------------+ | Debian GNU/Linux 12 | PASS | SKIPPED | SKIPPED | SKIPPED | PASS | SKIPPED | +------------------------------+--------------------+-------------------+-------------------------+----------------------+-------------------+------------------+ | Fedora Linux 40 | PASS | SKIPPED | SKIPPED | SKIPPED | PASS | SKIPPED | +------------------------------+--------------------+-------------------+-------------------------+----------------------+-------------------+------------------+ | Fedora Linux 41 | PASS | SKIPPED | SKIPPED | SKIPPED | PASS | PASS | +------------------------------+--------------------+-------------------+-------------------------+----------------------+-------------------+------------------+ | openSUSE Leap 15.6 | PASS | SKIPPED | SKIPPED | SKIPPED | SKIPPED | SKIPPED | +------------------------------+--------------------+-------------------+-------------------------+----------------------+-------------------+------------------+ | Red Hat Enterprise Linux 9.5 | PASS | SKIPPED | SKIPPED | SKIPPED | SKIPPED | SKIPPED | +------------------------------+--------------------+-------------------+-------------------------+----------------------+-------------------+------------------+ | Ubuntu 22.04 | PASS | SKIPPED | SKIPPED | SKIPPED | PASS | SKIPPED | +------------------------------+--------------------+-------------------+-------------------------+----------------------+-------------------+------------------+ | Ubuntu 24.04 | PASS | SKIPPED | SKIPPED | SKIPPED | PASS | PASS | +------------------------------+--------------------+-------------------+-------------------------+----------------------+-------------------+------------------+ | Alpine Linux 3.22.0 | PASS | SKIPPED | SKIPPED | SKIPPED | SKIPPED | SKIPPED | +------------------------------+--------------------+-------------------+-------------------------+----------------------+-------------------+------------------+ | Windows Server 2022 | SKIPPED | PASS | PASS | PASS | SKIPPED | SKIPPED | +------------------------------+--------------------+-------------------+-------------------------+----------------------+-------------------+------------------+ Ubuntu 20.04 Kernel: 4.19 Compiler: gcc gcc (Ubuntu 9.4.0-1ubuntu1~20.04.2) 9.4.0 FreeBSD 14.2 Kernel: 14.2-RELEASE Compiler: clang 18.1.6 CentOS Stream 9 Kernel: 5.15 Compiler: gcc gcc (GCC) 11.5.0 20240719 (Red Hat 11.5.0-7) CentOS Stream 10 Kernel: 5.15 Compiler: gcc gcc (GCC) 14.2.1 20250110 (Red Hat 14.2.1-8) Debian GNU/Linux 12 Kernel: 5.15 Compiler: gcc gcc (Debian 12.2.0-14+deb12u1) 12.2.0 Fedora Linux 40 Kernel: 5.15 Compiler: clang gcc (GCC) 14.2.1 20240912 (Red Hat 14.2.1-3) Fedora Linux 41 Kernel: 5.15 Compiler: clang gcc (GCC) 14.3.1 20250523 (Red Hat 14.3.1-1) openSUSE Leap 15.6 Kernel: 5.15 Compiler: gcc gcc (SUSE Linux) 7.5.0 Red Hat Enterprise Linux 9.5 Kernel: 5.15 Compiler: gcc gcc (GCC) 11.5.0 20240719 (Red Hat 11.5.0-2) Ubuntu 22.04 Kernel: 5.15 Compiler: gcc gcc (Ubuntu 11.4.0-1ubuntu1~22.04) 11.4.0 Ubuntu 24.04 Kernel: 5.15 Compiler: gcc gcc (Ubuntu 13.3.0-6ubuntu2~24.04) 13.3.0 Alpine Linux 3.22.0 Kernel: 5.15 Compiler: gcc gcc (Alpine 14.2.0) 14.2.0 Windows Server 2022 Kernel: 10.0.20348.2031 Compiler: clang 15.0.7, gcc 14.1.0 (MinGW), and MSVC VS 19.39.33521 To view detailed results, visit: https://lab.dpdk.org/results/dashboard/patchsets/33645/ UNH-IOL DPDK Community Lab To manage your email subscriptions, visit: https://lab.dpdk.org/results/dashboard/preferences/subscriptions/