From mboxrd@z Thu Jan 1 00:00:00 1970 Return-Path: Received: from mails.dpdk.org (mails.dpdk.org [217.70.189.124]) by inbox.dpdk.org (Postfix) with ESMTP id D1D5046B71 for ; Mon, 14 Jul 2025 14:27:19 +0200 (CEST) Received: from mails.dpdk.org (localhost [127.0.0.1]) by mails.dpdk.org (Postfix) with ESMTP id C8335400D5; Mon, 14 Jul 2025 14:27:19 +0200 (CEST) Received: from mail-pl1-f228.google.com (mail-pl1-f228.google.com [209.85.214.228]) by mails.dpdk.org (Postfix) with ESMTP id 8E51C400D5 for ; Mon, 14 Jul 2025 14:27:18 +0200 (CEST) Received: by mail-pl1-f228.google.com with SMTP id d9443c01a7336-23c8a505177so38496125ad.2 for ; Mon, 14 Jul 2025 05:27:18 -0700 (PDT) DKIM-Signature: v=1; a=rsa-sha256; c=relaxed/relaxed; d=iol.unh.edu; s=unh-iol; t=1752496038; x=1753100838; darn=dpdk.org; h=references:in-reply-to:cc:to:from:subject:message-id:date:from:to :cc:subject:date:message-id:reply-to; bh=/OznwdRX1G7FLY5/W/K7J427F6QvVwxb+OKvZrxji2o=; b=DFlEZNuS4UpCW3FkeK4ZUY5O+lVK3mqzPgPY1pdqPXBXsTjxnA0mNWY978qg1645Wl ipHwgZe2pBPrXTDS0+NbRNtcpGvsD8viN6t5kKXUr4aOrAETJKFHRF3nJJb6rFoFRpHd PUmnHtqqxeNgNDr2dwnBZOKV96dznPf6fNmXg= X-Google-DKIM-Signature: v=1; a=rsa-sha256; c=relaxed/relaxed; d=1e100.net; s=20230601; t=1752496038; x=1753100838; h=references:in-reply-to:cc:to:from:subject:message-id:date :x-gm-message-state:from:to:cc:subject:date:message-id:reply-to; bh=/OznwdRX1G7FLY5/W/K7J427F6QvVwxb+OKvZrxji2o=; b=M6sRRYubgrxPo7hCQ3Ay1ci3w/kX8wBOkMRV+tlC+dPQqQtlESWAV3bmxe8KTYk9t1 ZG9FeIB6aPpcY0x4PCl3vhPcT2zsj4eCKixOKYZJixkTSpaNQXGtuyVUSWMHAUoRtfK2 ORfMbKTMoxozC2gB3FWg+YFrqWi+pKQkyVxNIR6FNBXTuItd/COB4xw9u3vjKUGtsqeE GIKbh1F34un3AF68nGrflRKezQ6dLaXvLhzdt0PUGjofkV/yO7rSG8A0E4nH6NLx8vVu iGsgr3RIYvX2VaEuKZXGZY4uJ7uvyQIYfIKT2tpTbvQm2SzUWxvvjj67lt540Onlcc/I WBrQ== X-Gm-Message-State: AOJu0YwNCkM5KcBWbNrek4KgJV0rCoAqjWXlt9TVzosNLXjrohqJc4LK XeNAUvt/8o37tcG04SUQxURu6x7kEWP4BxKV9I3/bMiIhI+VuAIdOCwJJ4YztotJoznjeAWLetR 7J2vv9aS/2yRv04xIQsQB5DJ2+Bq9go6GJy+Ez5eO9IbZ X-Gm-Gg: ASbGncs6e/UqjVkvTcWlIjmf1+PD4h8HDpdIgvvFwh7A6qpoUr586wcTk/EVz4eBO2p avQBMV1G+G+RkPKVcDwpUh+gc562vg27lGFUI1EbM1GMujvDFe8uDlGgIgjUOQd6HbsXMdHvqf5 cQZBsgtRFGs509inHi+1UZFLy4OcUoS4PgE0DPSXlOBz+SMb3P7v7kBUbR/ST10sb5EtQu0x1BG fQM/CEoITMihPn6Ndud3Gd0ZRf4iV5AIox1fkffyeTwSFUYYlzII7PaJu/YvC1ybk/s0oG5LhHC 4xORXD0YKopMhEeMMxTnNwAQV0uM9oA23qNNI0/nHgEBkUKeGY5AJJHU6Ndt5G5lj3LhTshc X-Google-Smtp-Source: AGHT+IFM8sIMjuead6bpRcvi1/9Uy/f4QeT2XPSssZfqteZxC5QcxHg3RjwV15rkbnVX5qBa7cj3DxFHTy/N X-Received: by 2002:a17:903:1ae7:b0:238:121:b841 with SMTP id d9443c01a7336-23dede4611bmr224317355ad.17.1752496037609; Mon, 14 Jul 2025 05:27:17 -0700 (PDT) Received: from postal.iol.unh.edu (postal.iol.unh.edu. [132.177.123.84]) by smtp-relay.gmail.com with ESMTPS id d9443c01a7336-23dfda62aedsm2476755ad.68.2025.07.14.05.27.17 (version=TLS1_2 cipher=ECDHE-ECDSA-AES128-GCM-SHA256 bits=128/128); Mon, 14 Jul 2025 05:27:17 -0700 (PDT) X-Relaying-Domain: iol.unh.edu Date: Mon, 14 Jul 2025 05:27:17 -0700 (PDT) Message-ID: <6874f7a5.170a0220.f8ab1.ce7bSMTPIN_ADDED_MISSING@mx.google.com> Received: from [172.21.0.5] (unknown [172.18.0.240]) by postal.iol.unh.edu (Postfix) with ESMTP id 143A96051830; Mon, 14 Jul 2025 08:27:17 -0400 (EDT) Subject: |SUCCESS| pw155198 [PATCH] [v0,1/1] net/octeon_ep: fix mbuf data off From: dpdklab@iol.unh.edu To: Test Report Cc: dpdk-test-reports@iol.unh.edu In-Reply-To: <20250714054041.2257589-1-vattunuru@marvell.com> References: <20250714054041.2257589-1-vattunuru@marvell.com> Content-Type: text/plain X-BeenThere: test-report@dpdk.org X-Mailman-Version: 2.1.29 Precedence: list List-Id: automatic DPDK test reports List-Unsubscribe: , List-Archive: List-Post: List-Help: List-Subscribe: , Errors-To: test-report-bounces@dpdk.org Test-Label: iol-compile-amd64-testing Test-Status: SUCCESS http://dpdk.org/patch/155198 _Testing PASS_ Submitter: Vamsi Krishna Attunuru Date: Monday, July 14 2025 05:40:41 DPDK git baseline: Repo:dpdk Branch: master CommitID:3761152ec7f99c9b60c9cc933102d35fa663393a 155198 --> testing pass Upstream job id: Generic-DPDK-Compile-Meson#408502 Test environment and result as below: +------------------------------+--------------------+-------------------+-------------------------+----------------------+-------------------+------------------+ | Environment | dpdk_meson_compile | dpdk_msvc_compile | dpdk_llvm_clang_compile | dpdk_mingw64_compile | dpdk_compile_spdk | dpdk_compile_ovs | +==============================+====================+===================+=========================+======================+===================+==================+ | Ubuntu 20.04 | PASS | SKIPPED | SKIPPED | SKIPPED | SKIPPED | SKIPPED | +------------------------------+--------------------+-------------------+-------------------------+----------------------+-------------------+------------------+ | FreeBSD 14.2 | PASS | SKIPPED | SKIPPED | SKIPPED | SKIPPED | SKIPPED | +------------------------------+--------------------+-------------------+-------------------------+----------------------+-------------------+------------------+ | CentOS Stream 9 | PASS | SKIPPED | SKIPPED | SKIPPED | PASS | SKIPPED | +------------------------------+--------------------+-------------------+-------------------------+----------------------+-------------------+------------------+ | CentOS Stream 10 | PASS | SKIPPED | SKIPPED | SKIPPED | SKIPPED | SKIPPED | +------------------------------+--------------------+-------------------+-------------------------+----------------------+-------------------+------------------+ | Debian GNU/Linux 12 | PASS | SKIPPED | SKIPPED | SKIPPED | PASS | SKIPPED | +------------------------------+--------------------+-------------------+-------------------------+----------------------+-------------------+------------------+ | Fedora Linux 40 | PASS | SKIPPED | SKIPPED | SKIPPED | PASS | SKIPPED | +------------------------------+--------------------+-------------------+-------------------------+----------------------+-------------------+------------------+ | Fedora Linux 41 | PASS | SKIPPED | SKIPPED | SKIPPED | PASS | PASS | +------------------------------+--------------------+-------------------+-------------------------+----------------------+-------------------+------------------+ | openSUSE Leap 15.6 | PASS | SKIPPED | SKIPPED | SKIPPED | SKIPPED | SKIPPED | +------------------------------+--------------------+-------------------+-------------------------+----------------------+-------------------+------------------+ | Red Hat Enterprise Linux 9.5 | PASS | SKIPPED | SKIPPED | SKIPPED | SKIPPED | SKIPPED | +------------------------------+--------------------+-------------------+-------------------------+----------------------+-------------------+------------------+ | Ubuntu 22.04 | PASS | SKIPPED | SKIPPED | SKIPPED | PASS | SKIPPED | +------------------------------+--------------------+-------------------+-------------------------+----------------------+-------------------+------------------+ | Ubuntu 24.04 | PASS | SKIPPED | SKIPPED | SKIPPED | PASS | PASS | +------------------------------+--------------------+-------------------+-------------------------+----------------------+-------------------+------------------+ | Alpine Linux 3.22.0 | PASS | SKIPPED | SKIPPED | SKIPPED | SKIPPED | SKIPPED | +------------------------------+--------------------+-------------------+-------------------------+----------------------+-------------------+------------------+ | Windows Server 2022 | SKIPPED | PASS | PASS | PASS | SKIPPED | SKIPPED | +------------------------------+--------------------+-------------------+-------------------------+----------------------+-------------------+------------------+ Ubuntu 20.04 Kernel: 4.19 Compiler: gcc gcc (Ubuntu 9.4.0-1ubuntu1~20.04.2) 9.4.0 FreeBSD 14.2 Kernel: 14.2-RELEASE Compiler: clang 18.1.6 CentOS Stream 9 Kernel: 5.15 Compiler: gcc gcc (GCC) 11.5.0 20240719 (Red Hat 11.5.0-7) CentOS Stream 10 Kernel: 5.15 Compiler: gcc gcc (GCC) 14.2.1 20250110 (Red Hat 14.2.1-8) Debian GNU/Linux 12 Kernel: 5.15 Compiler: gcc gcc (Debian 12.2.0-14+deb12u1) 12.2.0 Fedora Linux 40 Kernel: 5.15 Compiler: clang gcc (GCC) 14.2.1 20240912 (Red Hat 14.2.1-3) Fedora Linux 41 Kernel: 5.15 Compiler: clang gcc (GCC) 14.3.1 20250523 (Red Hat 14.3.1-1) openSUSE Leap 15.6 Kernel: 5.15 Compiler: gcc gcc (SUSE Linux) 7.5.0 Red Hat Enterprise Linux 9.5 Kernel: 5.15 Compiler: gcc gcc (GCC) 11.5.0 20240719 (Red Hat 11.5.0-2) Ubuntu 22.04 Kernel: 5.15 Compiler: gcc gcc (Ubuntu 11.4.0-1ubuntu1~22.04) 11.4.0 Ubuntu 24.04 Kernel: 5.15 Compiler: gcc gcc (Ubuntu 13.3.0-6ubuntu2~24.04) 13.3.0 Alpine Linux 3.22.0 Kernel: 5.15 Compiler: gcc gcc (Alpine 14.2.0) 14.2.0 Windows Server 2022 Kernel: 10.0.20348.2031 Compiler: clang 15.0.7, gcc 14.1.0 (MinGW), and MSVC VS 19.39.33521 To view detailed results, visit: https://lab.dpdk.org/results/dashboard/patchsets/33645/ UNH-IOL DPDK Community Lab To manage your email subscriptions, visit: https://lab.dpdk.org/results/dashboard/preferences/subscriptions/