From mboxrd@z Thu Jan 1 00:00:00 1970 Return-Path: Received: from mails.dpdk.org (mails.dpdk.org [217.70.189.124]) by inbox.dpdk.org (Postfix) with ESMTP id 2853846B71 for ; Mon, 14 Jul 2025 14:28:31 +0200 (CEST) Received: from mails.dpdk.org (localhost [127.0.0.1]) by mails.dpdk.org (Postfix) with ESMTP id 1BDD6400D5; Mon, 14 Jul 2025 14:28:31 +0200 (CEST) Received: from mail-il1-f228.google.com (mail-il1-f228.google.com [209.85.166.228]) by mails.dpdk.org (Postfix) with ESMTP id 1101D400D5 for ; Mon, 14 Jul 2025 14:28:30 +0200 (CEST) Received: by mail-il1-f228.google.com with SMTP id e9e14a558f8ab-3df2f937370so16669875ab.3 for ; Mon, 14 Jul 2025 05:28:30 -0700 (PDT) DKIM-Signature: v=1; a=rsa-sha256; c=relaxed/relaxed; d=iol.unh.edu; s=unh-iol; t=1752496109; x=1753100909; darn=dpdk.org; h=references:in-reply-to:cc:to:from:subject:message-id:date:from:to :cc:subject:date:message-id:reply-to; bh=xmzv4YuPX8SgU7dEgwsdYoxw65ttZdaVAzRGMGgHj9s=; b=KOgKCEzrRIcMQ1QNRljqo9OrzjfCFuUhXgcud9c3ujkQwb/XmI3vcJ0irXLQPVmRBa 4I3Mkhj18hqN6bsw4VTmN9lBwR4GgsWas0giyIUxtkA5uz82RqLZ1o46IXEvV2gqDDvA 5OCsT2L0Wjfxm93aYhLM3QxoG/DnmqMgoN37o= X-Google-DKIM-Signature: v=1; a=rsa-sha256; c=relaxed/relaxed; d=1e100.net; s=20230601; t=1752496109; x=1753100909; h=references:in-reply-to:cc:to:from:subject:message-id:date :x-gm-message-state:from:to:cc:subject:date:message-id:reply-to; bh=xmzv4YuPX8SgU7dEgwsdYoxw65ttZdaVAzRGMGgHj9s=; b=NdcoLdN+IkbsV+YSqQ+PZcx5cxHxf8qhphaUG+58UIuK9Po7v+lC8a3kL6LdalNxmg 3OKaRItnfAEEVyTd4FkDdN0IOmUszFKOIcenval78SHbGwfhe+u3s2mgpqgvUNhMTQ1c IsP3DZInasZdEXJQfhqruZ04/nRzNXqmK/0fVJQ36L5++CwTbyAJwh/urnZ1UpXKZfCO CQIxYWO04V2uR9HWTSJcZ7gBJCBtZWBJcEmreSfdEWgZIg1YRB4cAdC/BEjwfW8IypsB bm60OwAU3jA9PUZsWQGAAVtPADjzW2l21jr7XMrH0t5GUyJg1bk/TPm5X/kOLdxFFRZG iiYA== X-Gm-Message-State: AOJu0Yz5ZpGlrwd6Yo3EuYbEGu5UAYMoiT2VEt/+yWs3aXZrz3WFz1tE /XeM85YO1xK/9q58Td9oCTn9TadkJCmsFSRcQppYyud/foYj1a0GKWWaFKqx9viXx7YIBsZnH7S 3RGWFtddqAjiexd11XITMnUTzZ1CQp9Jj6RyACEab+M+R X-Gm-Gg: ASbGnct1x6VyMe+HvKNqTqYVBaXBwN6/Qn4B5K8+PlEFd3N072XyR2YaN6ar+PDljcb 8omPNXSuR0YUgM5Ls0EE+GXmEEl2/q3v65LMgflhUkN0HzPeXKRCcCRID35Iqd1h5cXaAGJsmDN aFvb19uWdLSZ7FxI5o1lyHICQsZ4+Ap5vEDp1tPMau0yjRZ4iGC+vXyfoPznLP6AUU6pGrrSlcj Kr+2UFjfo9A3CrDrToeUZTJB3hAPVD53l7yVVFQadDZF/8UrwWVL+ElEpCx8hvAoknIZPSIgAOM 5maZctNCrmFvdtrlbBX+rv6LXIWhk88Rd+ZyKPlxSXDrpT6MyXHhgufCdPUhaoYrEcMbor96 X-Google-Smtp-Source: AGHT+IHW9eoLAz1K49Eqk3Nn2e75ftd9lILHJ4j2KSWAJMjLgdp370Bxdn4yLesCmbP619HGRucz3gGvg5RT X-Received: by 2002:a05:6e02:17c9:b0:3df:4723:7031 with SMTP id e9e14a558f8ab-3e2532fc3e9mr131490955ab.10.1752496109287; Mon, 14 Jul 2025 05:28:29 -0700 (PDT) Received: from postal.iol.unh.edu (postal.iol.unh.edu. [132.177.123.84]) by smtp-relay.gmail.com with ESMTPS id e9e14a558f8ab-3e2460e2cbfsm6017535ab.9.2025.07.14.05.28.29 (version=TLS1_2 cipher=ECDHE-ECDSA-AES128-GCM-SHA256 bits=128/128); Mon, 14 Jul 2025 05:28:29 -0700 (PDT) X-Relaying-Domain: iol.unh.edu Date: Mon, 14 Jul 2025 05:28:29 -0700 (PDT) Message-ID: <6874f7ed.050a0220.2b7e1f.0ea6SMTPIN_ADDED_MISSING@mx.google.com> Received: from [172.21.0.5] (unknown [172.18.0.240]) by postal.iol.unh.edu (Postfix) with ESMTP id B5B686051830; Mon, 14 Jul 2025 08:28:28 -0400 (EDT) Subject: |SUCCESS| pw155198 [PATCH] [v0,1/1] net/octeon_ep: fix mbuf data off From: dpdklab@iol.unh.edu To: Test Report Cc: dpdk-test-reports@iol.unh.edu In-Reply-To: <20250714054041.2257589-1-vattunuru@marvell.com> References: <20250714054041.2257589-1-vattunuru@marvell.com> Content-Type: text/plain X-BeenThere: test-report@dpdk.org X-Mailman-Version: 2.1.29 Precedence: list List-Id: automatic DPDK test reports List-Unsubscribe: , List-Archive: List-Post: List-Help: List-Subscribe: , Errors-To: test-report-bounces@dpdk.org Test-Label: iol-compile-amd64-testing Test-Status: SUCCESS http://dpdk.org/patch/155198 _Testing PASS_ Submitter: Vamsi Krishna Attunuru Date: Monday, July 14 2025 05:40:41 DPDK git baseline: Repo:dpdk Branch: master CommitID:3761152ec7f99c9b60c9cc933102d35fa663393a 155198 --> testing pass Upstream job id: Generic-DPDK-Compile-Meson#408497 Test environment and result as below: +------------------------------+--------------------+-------------------+-------------------------+----------------------+-------------------+------------------+ | Environment | dpdk_meson_compile | dpdk_msvc_compile | dpdk_llvm_clang_compile | dpdk_mingw64_compile | dpdk_compile_spdk | dpdk_compile_ovs | +==============================+====================+===================+=========================+======================+===================+==================+ | Ubuntu 20.04 | PASS | SKIPPED | SKIPPED | SKIPPED | SKIPPED | SKIPPED | +------------------------------+--------------------+-------------------+-------------------------+----------------------+-------------------+------------------+ | FreeBSD 14.2 | PASS | SKIPPED | SKIPPED | SKIPPED | SKIPPED | SKIPPED | +------------------------------+--------------------+-------------------+-------------------------+----------------------+-------------------+------------------+ | CentOS Stream 9 | PASS | SKIPPED | SKIPPED | SKIPPED | PASS | SKIPPED | +------------------------------+--------------------+-------------------+-------------------------+----------------------+-------------------+------------------+ | CentOS Stream 10 | PASS | SKIPPED | SKIPPED | SKIPPED | SKIPPED | SKIPPED | +------------------------------+--------------------+-------------------+-------------------------+----------------------+-------------------+------------------+ | Debian GNU/Linux 12 | PASS | SKIPPED | SKIPPED | SKIPPED | PASS | SKIPPED | +------------------------------+--------------------+-------------------+-------------------------+----------------------+-------------------+------------------+ | Fedora Linux 40 | PASS | SKIPPED | SKIPPED | SKIPPED | PASS | SKIPPED | +------------------------------+--------------------+-------------------+-------------------------+----------------------+-------------------+------------------+ | Fedora Linux 41 | PASS | SKIPPED | SKIPPED | SKIPPED | PASS | PASS | +------------------------------+--------------------+-------------------+-------------------------+----------------------+-------------------+------------------+ | openSUSE Leap 15.6 | PASS | SKIPPED | SKIPPED | SKIPPED | SKIPPED | SKIPPED | +------------------------------+--------------------+-------------------+-------------------------+----------------------+-------------------+------------------+ | Red Hat Enterprise Linux 9.5 | PASS | SKIPPED | SKIPPED | SKIPPED | SKIPPED | SKIPPED | +------------------------------+--------------------+-------------------+-------------------------+----------------------+-------------------+------------------+ | Ubuntu 22.04 | PASS | SKIPPED | SKIPPED | SKIPPED | PASS | SKIPPED | +------------------------------+--------------------+-------------------+-------------------------+----------------------+-------------------+------------------+ | Ubuntu 24.04 | PASS | SKIPPED | SKIPPED | SKIPPED | PASS | PASS | +------------------------------+--------------------+-------------------+-------------------------+----------------------+-------------------+------------------+ | Alpine Linux 3.22.0 | PASS | SKIPPED | SKIPPED | SKIPPED | SKIPPED | SKIPPED | +------------------------------+--------------------+-------------------+-------------------------+----------------------+-------------------+------------------+ | Windows Server 2022 | SKIPPED | PASS | PASS | PASS | SKIPPED | SKIPPED | +------------------------------+--------------------+-------------------+-------------------------+----------------------+-------------------+------------------+ Ubuntu 20.04 Kernel: 4.19 Compiler: gcc gcc (Ubuntu 9.4.0-1ubuntu1~20.04.2) 9.4.0 FreeBSD 14.2 Kernel: 14.2-RELEASE Compiler: clang 18.1.6 CentOS Stream 9 Kernel: 5.15 Compiler: gcc gcc (GCC) 11.5.0 20240719 (Red Hat 11.5.0-7) CentOS Stream 10 Kernel: 5.15 Compiler: gcc gcc (GCC) 14.2.1 20250110 (Red Hat 14.2.1-8) Debian GNU/Linux 12 Kernel: 5.15 Compiler: gcc gcc (Debian 12.2.0-14+deb12u1) 12.2.0 Fedora Linux 40 Kernel: 5.15 Compiler: clang gcc (GCC) 14.2.1 20240912 (Red Hat 14.2.1-3) Fedora Linux 41 Kernel: 5.15 Compiler: clang gcc (GCC) 14.3.1 20250523 (Red Hat 14.3.1-1) openSUSE Leap 15.6 Kernel: 5.15 Compiler: gcc gcc (SUSE Linux) 7.5.0 Red Hat Enterprise Linux 9.5 Kernel: 5.15 Compiler: gcc gcc (GCC) 11.5.0 20240719 (Red Hat 11.5.0-2) Ubuntu 22.04 Kernel: 5.15 Compiler: gcc gcc (Ubuntu 11.4.0-1ubuntu1~22.04) 11.4.0 Ubuntu 24.04 Kernel: 5.15 Compiler: gcc gcc (Ubuntu 13.3.0-6ubuntu2~24.04) 13.3.0 Alpine Linux 3.22.0 Kernel: 5.15 Compiler: gcc gcc (Alpine 14.2.0) 14.2.0 Windows Server 2022 Kernel: 10.0.20348.2031 Compiler: clang 15.0.7, gcc 14.1.0 (MinGW), and MSVC VS 19.39.33521 To view detailed results, visit: https://lab.dpdk.org/results/dashboard/patchsets/33645/ UNH-IOL DPDK Community Lab To manage your email subscriptions, visit: https://lab.dpdk.org/results/dashboard/preferences/subscriptions/