From mboxrd@z Thu Jan 1 00:00:00 1970 Return-Path: Received: from mails.dpdk.org (mails.dpdk.org [217.70.189.124]) by inbox.dpdk.org (Postfix) with ESMTP id 9D1A746B71 for ; Mon, 14 Jul 2025 15:23:01 +0200 (CEST) Received: from mails.dpdk.org (localhost [127.0.0.1]) by mails.dpdk.org (Postfix) with ESMTP id 793AA400D5; Mon, 14 Jul 2025 15:23:01 +0200 (CEST) Received: from mail-oa1-f100.google.com (mail-oa1-f100.google.com [209.85.160.100]) by mails.dpdk.org (Postfix) with ESMTP id 35BF3400D5 for ; Mon, 14 Jul 2025 15:23:00 +0200 (CEST) Received: by mail-oa1-f100.google.com with SMTP id 586e51a60fabf-2efdd5c22dfso2271877fac.3 for ; Mon, 14 Jul 2025 06:23:00 -0700 (PDT) DKIM-Signature: v=1; a=rsa-sha256; c=relaxed/relaxed; d=iol.unh.edu; s=unh-iol; t=1752499379; x=1753104179; darn=dpdk.org; h=references:in-reply-to:cc:to:from:subject:message-id:date:from:to :cc:subject:date:message-id:reply-to; bh=+OsIvb4Nc4rY+kzldaJGm5S283idhGo9lf7FqG4yQJQ=; b=DKBcQyqknPH3/JUGvBbxLDVE8O6QJbuIvZAwo8yTU0QYG901I7kYduEODFOllnDlyo Msg2ndHVvtlppWnavAWG5q23Y4R7nL8lYaqEAUUjztabUUwi8BeeD6LnrLUWwqiIiyrb 2sAfT4HEtJOhpk6/1oFJHuFS80BBMC5akxaIY= X-Google-DKIM-Signature: v=1; a=rsa-sha256; c=relaxed/relaxed; d=1e100.net; s=20230601; t=1752499379; x=1753104179; h=references:in-reply-to:cc:to:from:subject:message-id:date :x-gm-message-state:from:to:cc:subject:date:message-id:reply-to; bh=+OsIvb4Nc4rY+kzldaJGm5S283idhGo9lf7FqG4yQJQ=; b=jE7nej6fdOZ2wHFwKvVHjQApRYsmUVdz2RVKm7sngHGZmWCMg22gENK4cENlrZU93m 9dPoXgfcXcYYeSYEPyz8cW3z0QSRabkVSYzAV+/eQJ8Bi9NIdVMcojW0ZPDUJvaHgbq+ qWkiQD3kkaHOGBuGKpfLYiwQT/LT16zyq+BBP3zsQeffwCL4IRRKm/SMEWJPRQbVOYTT OmgIcBEwBSA9fj3yxsVlr4DHHrxXsTf3A6AhMQnc88UKJGJ0Y1/Yev1Y0oMuN6eH8Lso 05m5Hg6m23dituGYYXSwVCvcS83W8uLAHNfC4deTByP+4jEpTZDYhI1WuPMqp3i/tVQC SSLw== X-Gm-Message-State: AOJu0YwS+O2bVqXZ2mRU/TGQiacQSimpHrnrwkJus1moUBS/BlsevdWY 3vkoeNQL6MP0Dmf86++1QTWAJ8+NUaCqN+WdeVi+zdhZhrisv2YjqeSTcApwslCcJ4TrjSvXJih 87JF4CXfRYtUk7tH7FslIWnhapmzIEQ0L/w+PBm3xTSSXXjjKjSjx+9cMDXqD X-Gm-Gg: ASbGncvDY/Za1hnL6ul/j+431Ze8uu3LZqbKWR1pLruzkOvD/9XWfmf0Nwaj5Yj1AL3 bk4BGW5cEr8ABTeBgACqMpFloH1BlS/fo6FJuT7CsiL2DsR7GwDsDku1JGvsKxmzU+2dKlD8Q7z B77zmMbHXZnS5C7wq68yxCJpaX4yQ2N5P6gHH2MB/JJJtwYsm209cHD3L+SBYZe3vVWkcXT3iM/ KehfYxcrKHDo98s5wVG+hDySljCdRJquXP09B7SclPi01pZ4RjUX7lncIxkNxBMuw/VaLWNjos6 8ummMnccjfSGqsEUlk+K0GtvIKz0+nJ08axPcHWHvoHkj2IjlA== X-Google-Smtp-Source: AGHT+IFYLiat79dZzaolN4n5GvP7blFeKGCLgM/BxMryf2CGjHE6G7c7ANNLi1PXgm1NMAQE1MZaH+u00Wil X-Received: by 2002:a05:6870:2e8d:b0:2f4:da72:56a4 with SMTP id 586e51a60fabf-2ff26e79e46mr8926157fac.1.1752499379337; Mon, 14 Jul 2025 06:22:59 -0700 (PDT) Received: from postal.iol.unh.edu (postal.iol.unh.edu. [2606:4100:3880:1234::84]) by smtp-relay.gmail.com with ESMTPS id 586e51a60fabf-2ff117a34d8sm643623fac.39.2025.07.14.06.22.59 (version=TLS1_2 cipher=ECDHE-ECDSA-AES128-GCM-SHA256 bits=128/128); Mon, 14 Jul 2025 06:22:59 -0700 (PDT) X-Relaying-Domain: iol.unh.edu Date: Mon, 14 Jul 2025 06:22:59 -0700 (PDT) Message-ID: <687504b3.050a0220.9018c.2847SMTPIN_ADDED_MISSING@mx.google.com> Received: from [172.21.0.6] (unknown [172.18.0.240]) by postal.iol.unh.edu (Postfix) with ESMTP id CAB6A6050A61; Mon, 14 Jul 2025 09:22:58 -0400 (EDT) Subject: |SUCCESS| pw155201 [PATCH] net/mlx5: fix indirect age action handlin From: dpdklab@iol.unh.edu To: Test Report Cc: dpdk-test-reports@iol.unh.edu In-Reply-To: <20250714100437.993231-1-dsosnowski@nvidia.com> References: <20250714100437.993231-1-dsosnowski@nvidia.com> Content-Type: text/plain X-BeenThere: test-report@dpdk.org X-Mailman-Version: 2.1.29 Precedence: list List-Id: automatic DPDK test reports List-Unsubscribe: , List-Archive: List-Post: List-Help: List-Subscribe: , Errors-To: test-report-bounces@dpdk.org Test-Label: iol-unit-arm64-testing Test-Status: SUCCESS http://dpdk.org/patch/155201 _Testing PASS_ Submitter: Dariusz Sosnowski Date: Monday, July 14 2025 10:04:37 DPDK git baseline: Repo:dpdk Branch: master CommitID:9fe9c0b231c8da5435bfccb1963121b4277f961c 155201 --> testing pass Upstream job id: Generic-Unit-Test-DPDK#355249 Test environment and result as below: +------------------------------+---------------------------+--------------+------------------------------+----------------+ | Environment | cryptodev_sw_zuc_autotest | lpm_autotest | cryptodev_sw_snow3g_autotest | dpdk_unit_test | +==============================+===========================+==============+==============================+================+ | Debian 12 (arm) | PASS | SKIPPED | PASS | SKIPPED | +------------------------------+---------------------------+--------------+------------------------------+----------------+ | Ubuntu 20.04 | SKIPPED | PASS | SKIPPED | PASS | +------------------------------+---------------------------+--------------+------------------------------+----------------+ | Debian GNU/Linux 12 | SKIPPED | SKIPPED | SKIPPED | PASS | +------------------------------+---------------------------+--------------+------------------------------+----------------+ | CentOS Stream 9 | SKIPPED | SKIPPED | SKIPPED | PASS | +------------------------------+---------------------------+--------------+------------------------------+----------------+ | CentOS Stream 10 | SKIPPED | SKIPPED | SKIPPED | PASS | +------------------------------+---------------------------+--------------+------------------------------+----------------+ | Fedora Linux 40 | SKIPPED | SKIPPED | SKIPPED | PASS | +------------------------------+---------------------------+--------------+------------------------------+----------------+ | Red Hat Enterprise Linux 9.5 | SKIPPED | SKIPPED | SKIPPED | PASS | +------------------------------+---------------------------+--------------+------------------------------+----------------+ | Fedora Linux 41 | SKIPPED | SKIPPED | SKIPPED | PASS | +------------------------------+---------------------------+--------------+------------------------------+----------------+ | Ubuntu 22.04 | SKIPPED | SKIPPED | SKIPPED | PASS | +------------------------------+---------------------------+--------------+------------------------------+----------------+ | Ubuntu 24.04 | SKIPPED | SKIPPED | SKIPPED | PASS | +------------------------------+---------------------------+--------------+------------------------------+----------------+ Debian 12 (arm) Kernel: Depends on container host Compiler: gcc (Debian 12.2.0-14) 12.2.0 Ubuntu 20.04 Kernel: 5.4 Compiler: gcc gcc (Ubuntu 9.4.0-1ubuntu1~20.04.2) 9.4.0 Debian GNU/Linux 12 Kernel: 5.4 Compiler: gcc gcc (Debian 12.2.0-14+deb12u1) 12.2.0 CentOS Stream 9 Kernel: 5.4 Compiler: gcc gcc (GCC) 11.5.0 20240719 (Red Hat 11.5.0-7) CentOS Stream 10 Kernel: 5.4 Compiler: gcc gcc (GCC) 14.2.1 20250110 (Red Hat 14.2.1-8) Fedora Linux 40 Kernel: 5.4 Compiler: clang gcc (GCC) 14.2.1 20240912 (Red Hat 14.2.1-3) Red Hat Enterprise Linux 9.5 Kernel: 5.4 Compiler: gcc gcc (GCC) 11.5.0 20240719 (Red Hat 11.5.0-2) Fedora Linux 41 Kernel: 5.4 Compiler: gcc gcc (GCC) 14.3.1 20250523 (Red Hat 14.3.1-1) Ubuntu 22.04 Kernel: 5.4 Compiler: gcc gcc (Ubuntu 11.4.0-1ubuntu1~22.04) 11.4.0 Ubuntu 24.04 Kernel: 5.4 Compiler: gcc gcc (Ubuntu 13.3.0-6ubuntu2~24.04) 13.3.0 To view detailed results, visit: https://lab.dpdk.org/results/dashboard/patchsets/33648/ UNH-IOL DPDK Community Lab To manage your email subscriptions, visit: https://lab.dpdk.org/results/dashboard/preferences/subscriptions/