From mboxrd@z Thu Jan 1 00:00:00 1970 Return-Path: Received: from mails.dpdk.org (mails.dpdk.org [217.70.189.124]) by inbox.dpdk.org (Postfix) with ESMTP id CB3BB46B71 for ; Mon, 14 Jul 2025 15:25:21 +0200 (CEST) Received: from mails.dpdk.org (localhost [127.0.0.1]) by mails.dpdk.org (Postfix) with ESMTP id AF824400D5; Mon, 14 Jul 2025 15:25:21 +0200 (CEST) Received: from mail-il1-f225.google.com (mail-il1-f225.google.com [209.85.166.225]) by mails.dpdk.org (Postfix) with ESMTP id 29C34400D5 for ; Mon, 14 Jul 2025 15:25:20 +0200 (CEST) Received: by mail-il1-f225.google.com with SMTP id e9e14a558f8ab-3e05bb6efe0so40331015ab.3 for ; Mon, 14 Jul 2025 06:25:20 -0700 (PDT) DKIM-Signature: v=1; a=rsa-sha256; c=relaxed/relaxed; d=iol.unh.edu; s=unh-iol; t=1752499519; x=1753104319; darn=dpdk.org; h=references:in-reply-to:cc:to:from:subject:message-id:date:from:to :cc:subject:date:message-id:reply-to; bh=StqOFMs7j6kMPMicQIX87nAEotDxOvr9Yld5OASwg58=; b=OEMMlmTC/Cmb8XboKSsoESCcbQTHDKpKSnwBCByBmB5lNflNvXUAOv7RIO5H/dph+P F51BdXyLwQFZ+AFn0zbqB14hojHCF6M7BvEuBhZOmpTijpeRBu2ajhqGwBwEuWeGl5+H QBtQowL6OKHu6MY/5SSXIjPUKWfFnqUZpguDY= X-Google-DKIM-Signature: v=1; a=rsa-sha256; c=relaxed/relaxed; d=1e100.net; s=20230601; t=1752499519; x=1753104319; h=references:in-reply-to:cc:to:from:subject:message-id:date :x-gm-message-state:from:to:cc:subject:date:message-id:reply-to; bh=StqOFMs7j6kMPMicQIX87nAEotDxOvr9Yld5OASwg58=; b=nb0tpKoMhrVaZhJ1utOfOsKnJ4T1ZMvxAw5yFvgbfO/EgRNfOiV3YhKo/FuK3Fis2u QojMqDUndIDHCv0buyzGIBXVAnMBGwVb67JI4OwTwA+9MPM+lksoDJgwVagcfoTu+l+f 0g16D4qWau58GDzEyr4A7TMLgHRR70GAtSNsgHUNXJVdloSATQ1FlfwKcotOmQAk4GyZ 9S28wLLBpejRcSp/9v/1KYsXPWvghka5AXD0rkTyp2Ue+C66UVMLwRefoWj+IagwDWbI 3lGOCbQGACcHVjTNVCAlpZcWs5Q0YeJs3GwS3D7ntNlZY+Lwj80Q9bLvgvkKQ2LRh0AQ TR5g== X-Gm-Message-State: AOJu0YyGcqklSEdrh6yQzYkkny6K4Z7EVzdRIAQ7Ax33S7NK0asis5tR XDg7OTkZT7mZNbmXTG6crIzXzFm1Bh19EjaTTKpKUWOEBXVRLToka0vXZqbkAfSO8ig8JCY+q5F n4QfoUVsIwMv6dVGmzyJYoarBxByJFn+4kWEDLkFA0tl0 X-Gm-Gg: ASbGncvVefzjjeKxdBJbf2ZdHbro8+ETb5LlaID28d+wYZl+1dtCzyh7XNIqpwy18iI ahK/QxM9RUWxmgMZM1I3aqNQunlvqepQscTu1U9peMrL+ZAlV3x/XEg5nywGmFWv+BtWo5IbUwN SH2mjycjnmD3rHOyS6tNtiGLDrHwgTeKevNgrk6VEqOrDbgm+DbBJa+GWMeezLHtYebvToypgZT lh85OL5tbX8j42u2MlKW9RojAmLLrkxOOOJfwXgT74CtT9S8YSDru/+yCdNQDQtjPkid2fAFuuN XCBL4oU6Ia0HXfYw9YO7FajcLljjPCkAzvrcHWCtg/KtGry5Y+Mb6lYvufsBTGL3rYVr8RaC X-Google-Smtp-Source: AGHT+IGrdyhW6CXvXiKpPmdfELnVTuCn3vT4I0RSvQs0ouOibD8ZPKpNt5TCaP27nrOUc1rZ+WYoyCKl5EQ6 X-Received: by 2002:a05:6e02:3804:b0:3df:46a6:cdc9 with SMTP id e9e14a558f8ab-3e2555a2c15mr110160995ab.9.1752499518814; Mon, 14 Jul 2025 06:25:18 -0700 (PDT) Received: from postal.iol.unh.edu (postal.iol.unh.edu. [132.177.123.84]) by smtp-relay.gmail.com with ESMTPS id 8926c6da1cb9f-506c1ee546csm168605173.69.2025.07.14.06.25.18 (version=TLS1_2 cipher=ECDHE-ECDSA-AES128-GCM-SHA256 bits=128/128); Mon, 14 Jul 2025 06:25:18 -0700 (PDT) X-Relaying-Domain: iol.unh.edu Date: Mon, 14 Jul 2025 06:25:18 -0700 (PDT) Message-ID: <6875053e.050a0220.d39c9.8b3eSMTPIN_ADDED_MISSING@mx.google.com> Received: from [172.21.0.5] (unknown [172.18.0.240]) by postal.iol.unh.edu (Postfix) with ESMTP id 5127E6050A61; Mon, 14 Jul 2025 09:25:18 -0400 (EDT) Subject: |SUCCESS| pw155198 [PATCH] [v0,1/1] net/octeon_ep: fix mbuf data off From: dpdklab@iol.unh.edu To: Test Report Cc: dpdk-test-reports@iol.unh.edu In-Reply-To: <20250714054041.2257589-1-vattunuru@marvell.com> References: <20250714054041.2257589-1-vattunuru@marvell.com> Content-Type: text/plain X-BeenThere: test-report@dpdk.org X-Mailman-Version: 2.1.29 Precedence: list List-Id: automatic DPDK test reports List-Unsubscribe: , List-Archive: List-Post: List-Help: List-Subscribe: , Errors-To: test-report-bounces@dpdk.org Test-Label: iol-compile-arm64-testing Test-Status: SUCCESS http://dpdk.org/patch/155198 _Testing PASS_ Submitter: Vamsi Krishna Attunuru Date: Monday, July 14 2025 05:40:41 DPDK git baseline: Repo:dpdk Branch: master CommitID:3761152ec7f99c9b60c9cc933102d35fa663393a 155198 --> testing pass Upstream job id: Generic-DPDK-Compile-Meson#408482 Test environment and result as below: +------------------------------+--------------------+ | Environment | dpdk_meson_compile | +==============================+====================+ | Ubuntu 20.04 | PASS | +------------------------------+--------------------+ | Debian GNU/Linux 12 | PASS | +------------------------------+--------------------+ | Fedora Linux 40 | PASS | +------------------------------+--------------------+ | Fedora Linux 41 | PASS | +------------------------------+--------------------+ | Ubuntu 22.04 | PASS | +------------------------------+--------------------+ | Ubuntu 24.04 | PASS | +------------------------------+--------------------+ | CentOS Stream 9 | PASS | +------------------------------+--------------------+ | CentOS Stream 10 | PASS | +------------------------------+--------------------+ | Red Hat Enterprise Linux 9.5 | PASS | +------------------------------+--------------------+ Ubuntu 20.04 Kernel: 5.15 Compiler: aarch64-linux-gnu-gcc gcc (Ubuntu 9.4.0-1ubuntu1~20.04.2) 9.4.0 Debian GNU/Linux 12 Kernel: 5.4 Compiler: gcc gcc (Debian 12.2.0-14+deb12u1) 12.2.0 Fedora Linux 40 Kernel: 5.4 Compiler: gcc gcc (GCC) 14.2.1 20240912 (Red Hat 14.2.1-3) Fedora Linux 41 Kernel: 5.4 Compiler: gcc gcc (GCC) 14.3.1 20250523 (Red Hat 14.3.1-1) Ubuntu 22.04 Kernel: 5.4 Compiler: gcc gcc (Ubuntu 11.4.0-1ubuntu1~22.04) 11.4.0 Ubuntu 24.04 Kernel: 5.4 Compiler: gcc gcc (Ubuntu 13.3.0-6ubuntu2~24.04) 13.3.0 CentOS Stream 9 Kernel: 5.4 Compiler: gcc gcc (GCC) 11.5.0 20240719 (Red Hat 11.5.0-7) CentOS Stream 10 Kernel: 5.4 Compiler: gcc gcc (GCC) 14.2.1 20250110 (Red Hat 14.2.1-8) Red Hat Enterprise Linux 9.5 Kernel: 5.4 Compiler: gcc gcc (GCC) 11.5.0 20240719 (Red Hat 11.5.0-2) To view detailed results, visit: https://lab.dpdk.org/results/dashboard/patchsets/33645/ UNH-IOL DPDK Community Lab To manage your email subscriptions, visit: https://lab.dpdk.org/results/dashboard/preferences/subscriptions/