From mboxrd@z Thu Jan 1 00:00:00 1970 Return-Path: Received: from mails.dpdk.org (mails.dpdk.org [217.70.189.124]) by inbox.dpdk.org (Postfix) with ESMTP id BEFA446B71 for ; Mon, 14 Jul 2025 15:33:58 +0200 (CEST) Received: from mails.dpdk.org (localhost [127.0.0.1]) by mails.dpdk.org (Postfix) with ESMTP id BA9DF400D5; Mon, 14 Jul 2025 15:33:58 +0200 (CEST) Received: from mail-pg1-f228.google.com (mail-pg1-f228.google.com [209.85.215.228]) by mails.dpdk.org (Postfix) with ESMTP id 03E66400D5 for ; Mon, 14 Jul 2025 15:33:57 +0200 (CEST) Received: by mail-pg1-f228.google.com with SMTP id 41be03b00d2f7-b34a71d9208so3152516a12.3 for ; Mon, 14 Jul 2025 06:33:56 -0700 (PDT) DKIM-Signature: v=1; a=rsa-sha256; c=relaxed/relaxed; d=iol.unh.edu; s=unh-iol; t=1752500036; x=1753104836; darn=dpdk.org; h=references:in-reply-to:cc:to:from:subject:message-id:date:from:to :cc:subject:date:message-id:reply-to; bh=aun8IaaG94i+stlJjLMNSJ92pyInEEH7DnyyNjx7dtM=; b=SRgxUCZFzZlMqAp4T7iL2upw1aEq42qSoIeLMjfHMrDSajofq1scJZj0j/vbQWfZbV LYzxNrf6HmrXXFGXS2bEKlC5ayaDIEtfGcL9/iHRIIaxAnt/zJtXmEmWyy/F2oSR+Eu4 FaG3lgmcw6rjuuMqlLjXG1tfL12ZgUIJLwYEQ= X-Google-DKIM-Signature: v=1; a=rsa-sha256; c=relaxed/relaxed; d=1e100.net; s=20230601; t=1752500036; x=1753104836; h=references:in-reply-to:cc:to:from:subject:message-id:date :x-gm-message-state:from:to:cc:subject:date:message-id:reply-to; bh=aun8IaaG94i+stlJjLMNSJ92pyInEEH7DnyyNjx7dtM=; b=l5eH6EIxsyjeSEr75w5ByJIocnReQ6zIIgvYY/5yLpzvRhuIpiqwDJfZ3KWhuzimcw 19pQAdPruD7fjSTBAIc7Bzpvy18xSKLkuod5BI095ZukU9Me8Hg9h39OUURtdaHlwZrh FiHGOpi5jJCkezj8PJa9upV22Fu8nMeGlTnMoLnkwUjk6siZqXGzcbyW1w38GvRAHFO+ jg/nzdDki9zB8qOeNgOVTqugK1z3Z8GY5IaOzw0yWvVsFPz1JqI+/Yfc/+eC6dBFslrG RIkHmModPhDq96H83suu6M94w1uUM8MAlPG3tFUdH7pDVGcn6EkhO91qXko04go4Jaye W15g== X-Gm-Message-State: AOJu0YyS/NP23HSg5qMkJZXzngXX6L7uKF1mC0ePvUzi5Nk6XUuYcym9 jXihCU8ISsy1bA1YiKqVeEvz/Jfr0E2J3StT9tq+qui76hhZ9/8aIW3aOht0qyul8luVJsIINK+ 8Ox49CLQXDqiEa6h9Zt3C6GhNsmsrGr4wgMQdt59NudHxFGe89YCD/6U4bKOp X-Gm-Gg: ASbGnctYxyd7W9GsIW+CeylAFapbq39FY7pklbO88qn4ItPgLl9CMcCc5N2QAuNpbLV uCAv8BktT8tIu2MOTXxg3wMu/RcjkNFyyhdZqQhS/W9rTWnfOlqDxuwX1nWc/rfal0D52dp2Eks JF6S+BrC3C5x4WKJ0r0KLNETs5f/KMUl5iw5rD3cHq5r/8of90zl39lXbaUFnQQUNZVrGGsPkBh hZj5IDHvJUiOdnNV5odgJAvKz017i7QUU4kIl0P5+Es/b1hQgZj2R9UQvydKN9schFvqgyusHcG b3ld4j34qPH7uOLSyq+iepCRyTt8SijJe/CBQ80HtIpItZCx0g== X-Google-Smtp-Source: AGHT+IFF2/UGLRNVFRDVias6V7YKjR+Ohj0xTp2nbA2cPwrqRHb5O51aqDlW3WCqTPgwnI/hVhDgcRAbawM/ X-Received: by 2002:a05:6a20:7d9f:b0:233:4231:4f3c with SMTP id adf61e73a8af0-23342314fbbmr13020688637.18.1752500035810; Mon, 14 Jul 2025 06:33:55 -0700 (PDT) Received: from postal.iol.unh.edu (postal.iol.unh.edu. [2606:4100:3880:1234::84]) by smtp-relay.gmail.com with ESMTPS id 41be03b00d2f7-b3bbe525761sm258104a12.3.2025.07.14.06.33.55 (version=TLS1_2 cipher=ECDHE-ECDSA-AES128-GCM-SHA256 bits=128/128); Mon, 14 Jul 2025 06:33:55 -0700 (PDT) X-Relaying-Domain: iol.unh.edu Date: Mon, 14 Jul 2025 06:33:55 -0700 (PDT) Message-ID: <68750743.650a0220.15c21b.e3caSMTPIN_ADDED_MISSING@mx.google.com> Received: from [172.21.0.7] (unknown [172.18.0.240]) by postal.iol.unh.edu (Postfix) with ESMTP id 43351604D420; Mon, 14 Jul 2025 09:33:55 -0400 (EDT) Subject: |SUCCESS| pw155197 [PATCH] [v0,1/1] net/octeon_ep: handle interrupt From: dpdklab@iol.unh.edu To: Test Report Cc: dpdk-test-reports@iol.unh.edu In-Reply-To: <20250714053150.2229683-1-vattunuru@marvell.com> References: <20250714053150.2229683-1-vattunuru@marvell.com> Content-Type: text/plain X-BeenThere: test-report@dpdk.org X-Mailman-Version: 2.1.29 Precedence: list List-Id: automatic DPDK test reports List-Unsubscribe: , List-Archive: List-Post: List-Help: List-Subscribe: , Errors-To: test-report-bounces@dpdk.org Test-Label: iol-compile-arm64-testing Test-Status: SUCCESS http://dpdk.org/patch/155197 _Testing PASS_ Submitter: Vamsi Krishna Attunuru Date: Monday, July 14 2025 05:31:50 DPDK git baseline: Repo:dpdk Branch: master CommitID:3761152ec7f99c9b60c9cc933102d35fa663393a 155197 --> testing pass Upstream job id: Generic-DPDK-Compile-Meson#408460 Test environment and result as below: +------------------------------+--------------------+ | Environment | dpdk_meson_compile | +==============================+====================+ | Red Hat Enterprise Linux 9.5 | PASS | +------------------------------+--------------------+ | Ubuntu 20.04 | PASS | +------------------------------+--------------------+ | Debian GNU/Linux 12 | PASS | +------------------------------+--------------------+ | Fedora Linux 40 | PASS | +------------------------------+--------------------+ | Fedora Linux 41 | PASS | +------------------------------+--------------------+ | Ubuntu 22.04 | PASS | +------------------------------+--------------------+ | Ubuntu 24.04 | PASS | +------------------------------+--------------------+ | CentOS Stream 9 | PASS | +------------------------------+--------------------+ | CentOS Stream 10 | PASS | +------------------------------+--------------------+ Red Hat Enterprise Linux 9.5 Kernel: 5.4 Compiler: gcc gcc (GCC) 11.5.0 20240719 (Red Hat 11.5.0-2) Ubuntu 20.04 Kernel: 5.15 Compiler: aarch64-linux-gnu-gcc gcc (Ubuntu 9.4.0-1ubuntu1~20.04.2) 9.4.0 Debian GNU/Linux 12 Kernel: 5.4 Compiler: gcc gcc (Debian 12.2.0-14+deb12u1) 12.2.0 Fedora Linux 40 Kernel: 5.4 Compiler: gcc gcc (GCC) 14.2.1 20240912 (Red Hat 14.2.1-3) Fedora Linux 41 Kernel: 5.4 Compiler: gcc gcc (GCC) 14.3.1 20250523 (Red Hat 14.3.1-1) Ubuntu 22.04 Kernel: 5.4 Compiler: gcc gcc (Ubuntu 11.4.0-1ubuntu1~22.04) 11.4.0 Ubuntu 24.04 Kernel: 5.4 Compiler: gcc gcc (Ubuntu 13.3.0-6ubuntu2~24.04) 13.3.0 CentOS Stream 9 Kernel: 5.4 Compiler: gcc gcc (GCC) 11.5.0 20240719 (Red Hat 11.5.0-7) CentOS Stream 10 Kernel: 5.4 Compiler: gcc gcc (GCC) 14.2.1 20250110 (Red Hat 14.2.1-8) To view detailed results, visit: https://lab.dpdk.org/results/dashboard/patchsets/33644/ UNH-IOL DPDK Community Lab To manage your email subscriptions, visit: https://lab.dpdk.org/results/dashboard/preferences/subscriptions/