From mboxrd@z Thu Jan 1 00:00:00 1970 Return-Path: Received: from mails.dpdk.org (mails.dpdk.org [217.70.189.124]) by inbox.dpdk.org (Postfix) with ESMTP id 9F62246B71 for ; Mon, 14 Jul 2025 15:41:23 +0200 (CEST) Received: from mails.dpdk.org (localhost [127.0.0.1]) by mails.dpdk.org (Postfix) with ESMTP id 6EFEF400D5; Mon, 14 Jul 2025 15:41:23 +0200 (CEST) Received: from mail-yb1-f228.google.com (mail-yb1-f228.google.com [209.85.219.228]) by mails.dpdk.org (Postfix) with ESMTP id 073BB400D5 for ; Mon, 14 Jul 2025 15:41:22 +0200 (CEST) Received: by mail-yb1-f228.google.com with SMTP id 3f1490d57ef6-e8986a25cbfso3013810276.0 for ; Mon, 14 Jul 2025 06:41:21 -0700 (PDT) DKIM-Signature: v=1; a=rsa-sha256; c=relaxed/relaxed; d=iol.unh.edu; s=unh-iol; t=1752500481; x=1753105281; darn=dpdk.org; h=references:in-reply-to:cc:to:from:subject:message-id:date:from:to :cc:subject:date:message-id:reply-to; bh=hrlSQlDoUNTT+mmrMB678OuQXrY0EFxdNao7nnuYHQU=; b=VO1oj+Lzhy2urWE/2J6tH6iBRugJNhnSkGrP7RV+icUw5XFLcmt4r/1iZNClPAyp0X qIVsWH34W5GzdC34myTZk3u0ARi9oUWLcSsUBG8cyYqOEwNwlfhUzkFZuoNxoFuKqlDn 5Q8pDy8czxsVRVviRgzyzcjFx3920TryClbd0= X-Google-DKIM-Signature: v=1; a=rsa-sha256; c=relaxed/relaxed; d=1e100.net; s=20230601; t=1752500481; x=1753105281; h=references:in-reply-to:cc:to:from:subject:message-id:date :x-gm-message-state:from:to:cc:subject:date:message-id:reply-to; bh=hrlSQlDoUNTT+mmrMB678OuQXrY0EFxdNao7nnuYHQU=; b=Hiq1tqFLlwhEhYOEMQGbRnACrr+XkJwGULuVmwxV3PHFdOJ7pQHC833Jga+LhhUwUO kqTaoZfuTw+SHrM1RI+UVmpPW3XalVAHWo6v6ppG15UznV5WhhogfpJZWSDmvqIFECdb NjCHYyuNU0oPgxfG2CNlMFaYMroW/SAML2dHNCqG0wsMeBW16RouCQa3PiwZKQ7s3Y2+ Na0wxvpNN3pwSiHLCW91lDc4ClW0ThhEXFZ9OA4ZE0R5804DpnJkubxEskLXnl3F9qa+ lQkQltQa+UTsXmWPMUgrKGLaLl9DtQMGMOqhvUFgjhL0tKSolgJenBdAFhNFXp2FV8CY C0Xw== X-Gm-Message-State: AOJu0Yze78wrhsbhdnfNarYfkcUP7u9xUSOoPV5oKcE3vq+w+MGeGEhq LnybF+Tnt7kOMAeVlDeOUK5JNlK/iQxK3CkD2cyT58Aa8KvUoMYZexwbKI6EeL/ODp6c2ddHuJX 811gYH2wYZA75FfvNM6FYg1j3/fPQv6s0JWElIfisGzSC X-Gm-Gg: ASbGncu92ZitB1dF4ljuzFzkQA9AEg9rTHFJfOaMkp2XUw+sxpNqNR9lcSNw9INNJ/4 1UNrs75WC/S9BI/RimwAWALiATwXE/Pt/KcZdlDurPQ88CCP4/KoYRUcP9dQdRmn5BSq2m/pr0H QsY7KwNqEPG0sAETfzbsTQpcUK/BQfzwY1/iRErC+S6tz9oYlcnJF2eJLTSSsFvjNB5ZoLyPNW+ SaJq5YLgzq07a0tRZSo0vDU4qR2u5Sxxb3coMXy1z6grJi3kN9FOOIHL0m68Ja3SyeouPMCxREJ iZLsxv3pWuoFFEk7SVpdFIVYbXKQJWZwF8lgek+tFKOLIoFDaVANn+h3UlQeuOdlfl9xkTOn X-Google-Smtp-Source: AGHT+IFSfcYwUDY7+oONTfdAVsNsrLLieaX/mCnETbAWBZBFmrQKrT0KGGtgJHYaWx0U3GedGVuMjnlU7MLr X-Received: by 2002:a05:6902:2d81:b0:e8b:6c20:149c with SMTP id 3f1490d57ef6-e8b85b96548mr11544595276.45.1752500481154; Mon, 14 Jul 2025 06:41:21 -0700 (PDT) Received: from postal.iol.unh.edu (postal.iol.unh.edu. [132.177.123.84]) by smtp-relay.gmail.com with ESMTPS id 3f1490d57ef6-e8b7b00ab15sm508710276.27.2025.07.14.06.41.21 (version=TLS1_2 cipher=ECDHE-ECDSA-AES128-GCM-SHA256 bits=128/128); Mon, 14 Jul 2025 06:41:21 -0700 (PDT) X-Relaying-Domain: iol.unh.edu Date: Mon, 14 Jul 2025 06:41:21 -0700 (PDT) Message-ID: <68750901.250a0220.1b81c4.d155SMTPIN_ADDED_MISSING@mx.google.com> Received: from [172.21.0.5] (unknown [172.18.0.240]) by postal.iol.unh.edu (Postfix) with ESMTP id CB186604D420; Mon, 14 Jul 2025 09:41:20 -0400 (EDT) Subject: |SUCCESS| pw155201 [PATCH] net/mlx5: fix indirect age action handlin From: dpdklab@iol.unh.edu To: Test Report Cc: dpdk-test-reports@iol.unh.edu In-Reply-To: <20250714100437.993231-1-dsosnowski@nvidia.com> References: <20250714100437.993231-1-dsosnowski@nvidia.com> Content-Type: text/plain X-BeenThere: test-report@dpdk.org X-Mailman-Version: 2.1.29 Precedence: list List-Id: automatic DPDK test reports List-Unsubscribe: , List-Archive: List-Post: List-Help: List-Subscribe: , Errors-To: test-report-bounces@dpdk.org Test-Label: iol-abi-testing Test-Status: SUCCESS http://dpdk.org/patch/155201 _Testing PASS_ Submitter: Dariusz Sosnowski Date: Monday, July 14 2025 10:04:37 DPDK git baseline: Repo:dpdk Branch: master CommitID:9fe9c0b231c8da5435bfccb1963121b4277f961c 155201 --> testing pass Upstream job id: Generic-DPDK-Compile-ABI#134291 Test environment and result as below: +-------------------------------+----------+ | Environment | abi_test | +===============================+==========+ | CentOS Stream 9 | PASS | +-------------------------------+----------+ | CentOS Stream 10 | PASS | +-------------------------------+----------+ | Debian GNU/Linux 12 | PASS | +-------------------------------+----------+ | Fedora Linux 40 | PASS | +-------------------------------+----------+ | Fedora Linux 41 | PASS | +-------------------------------+----------+ | openSUSE Leap 15.6 | PASS | +-------------------------------+----------+ | Red Hat Enterprise Linux 8.10 | PASS | +-------------------------------+----------+ | Red Hat Enterprise Linux 9.5 | PASS | +-------------------------------+----------+ | Ubuntu 22.04 | PASS | +-------------------------------+----------+ | Ubuntu 24.04 | PASS | +-------------------------------+----------+ CentOS Stream 9 Kernel: 5.15 Compiler: gcc gcc (GCC) 11.5.0 20240719 (Red Hat 11.5.0-7) CentOS Stream 10 Kernel: 5.15 Compiler: gcc gcc (GCC) 14.2.1 20250110 (Red Hat 14.2.1-8) Debian GNU/Linux 12 Kernel: 5.15 Compiler: gcc gcc (Debian 12.2.0-14+deb12u1) 12.2.0 Fedora Linux 40 Kernel: 5.15 Compiler: gcc gcc (GCC) 14.2.1 20240912 (Red Hat 14.2.1-3) Fedora Linux 41 Kernel: 5.15 Compiler: clang gcc (GCC) 14.3.1 20250523 (Red Hat 14.3.1-1) openSUSE Leap 15.6 Kernel: 5.15 Compiler: gcc gcc (SUSE Linux) 7.5.0 Red Hat Enterprise Linux 8.10 Kernel: 5.15 Compiler: gcc gcc (GCC) 8.5.0 20210514 (Red Hat 8.5.0-22) Red Hat Enterprise Linux 9.5 Kernel: 5.15 Compiler: gcc gcc (GCC) 11.5.0 20240719 (Red Hat 11.5.0-2) Ubuntu 22.04 Kernel: 5.15 Compiler: gcc gcc (Ubuntu 11.4.0-1ubuntu1~22.04) 11.4.0 Ubuntu 24.04 Kernel: 5.15 Compiler: gcc gcc (Ubuntu 13.3.0-6ubuntu2~24.04) 13.3.0 To view detailed results, visit: https://lab.dpdk.org/results/dashboard/patchsets/33648/ UNH-IOL DPDK Community Lab To manage your email subscriptions, visit: https://lab.dpdk.org/results/dashboard/preferences/subscriptions/