From mboxrd@z Thu Jan 1 00:00:00 1970 Return-Path: Received: from mails.dpdk.org (mails.dpdk.org [217.70.189.124]) by inbox.dpdk.org (Postfix) with ESMTP id CEBEE46B71 for ; Mon, 14 Jul 2025 15:43:36 +0200 (CEST) Received: from mails.dpdk.org (localhost [127.0.0.1]) by mails.dpdk.org (Postfix) with ESMTP id B0B94400D5; Mon, 14 Jul 2025 15:43:36 +0200 (CEST) Received: from mail-pl1-f225.google.com (mail-pl1-f225.google.com [209.85.214.225]) by mails.dpdk.org (Postfix) with ESMTP id BB7B8400D5 for ; Mon, 14 Jul 2025 15:43:35 +0200 (CEST) Received: by mail-pl1-f225.google.com with SMTP id d9443c01a7336-2352400344aso38958825ad.2 for ; Mon, 14 Jul 2025 06:43:35 -0700 (PDT) DKIM-Signature: v=1; a=rsa-sha256; c=relaxed/relaxed; d=iol.unh.edu; s=unh-iol; t=1752500615; x=1753105415; darn=dpdk.org; h=references:in-reply-to:cc:to:from:subject:message-id:date:from:to :cc:subject:date:message-id:reply-to; bh=mX+b5cJQ9As9alwT5VghIU6t4wBIiAaxuYLxuDijeB8=; b=HHv9Xkz13Cf7Qm7My5DyFPWisYfKWYiCS0ls/rbFJtK+CEqK0NqRU4146Kl+eHworE Rk0GV8goC+u5oPKj9yer3vD6NrhBeK7wheZm0xM7JStfBpTBTeUDJsSi6PmUJD15CGub leNqaoipJgpxr3vM8B0nvrUKKjHwAZrPPQPd4= X-Google-DKIM-Signature: v=1; a=rsa-sha256; c=relaxed/relaxed; d=1e100.net; s=20230601; t=1752500615; x=1753105415; h=references:in-reply-to:cc:to:from:subject:message-id:date :x-gm-message-state:from:to:cc:subject:date:message-id:reply-to; bh=mX+b5cJQ9As9alwT5VghIU6t4wBIiAaxuYLxuDijeB8=; b=se9uVQD4eiX1iuHdfActlD68jitwp/iTIrHNN6O4V8k1+zB29kCSu48bTYBJNYmano GHK8vpnc52Y63lJXOuaz3affBtxLVwl2i7iajciJAemvmryaJwwZmiLmrx5dn4Qvi1Er huAvtvoVhZxUVP6rpzk1beRC+tiIUUsfkPn3FmeqzAFYjBIV7YUjsUU2r8J6HlPNHVbA y+L2tgMELx6q1vs4glmpINI7H47VhglxeXdsub5JGNvNoo8emLAl4+8hCaS5SwVmSiGS 9kkRL/kcs/C/jN1BhRWqRV8FpeYXtUiYldFHhkxGEt8iNL+XE/Xq6GH8dOb/EYxsHQv/ HU9g== X-Gm-Message-State: AOJu0YwotZBEEOV7zT5ERWUvyqVFkKvPnidPJpGhKZes53Si1HdJuxVC FNooq33hzfhJiAgmz2yXJjtbStSdJPlmFKAYR/LEKBHt2pezMdDxJwmdVlwQvRdaur0fpmMT/FF eCghpDhGToVve71WL+o3scV9YLn/OMMmUEmKZmab3d8pECzrBDl0cpSUu2dMZ X-Gm-Gg: ASbGnctMtMvZf77jtUARh8xhLxHPUU8wmStPp+fylUTm9KdbCu/ZcsIMwBYU1UzoR58 1pA8Owf5kBDAM9K6LjQOCNjNUn5nRhX2SFO7+rqrzlSctkNH+EmsgRfU0OJPHOwOOf3uNcE8XXp CV+qVoc1OzdFOJQLLJGZHO/CNCLom2LjSBy1uncHYEMb4x/DxflC96npYGf1xjE/bay6aTey81l tg/3rAWRdlDhPl7cyyL+66l0IlLkuYOb3SKLDUsbLZg0PI4dvIYjUlsKzNLoMBKe6jOqSi+GvNx GW1kxl0BZ/2KDkgsdoHupSWcTiuBRq/F6pZOeI4LtXQlF9bcdA== X-Google-Smtp-Source: AGHT+IE6admjQOEmWPtkDYPfKNmjbKu2EIlgwfigfDrziqMKF588RECRPLWjOlHGEwasJVdWUGaa6VTOi+uf X-Received: by 2002:a17:902:ebd1:b0:223:65dc:4580 with SMTP id d9443c01a7336-23df0973bb8mr176571445ad.52.1752500614607; Mon, 14 Jul 2025 06:43:34 -0700 (PDT) Received: from postal.iol.unh.edu (postal.iol.unh.edu. [2606:4100:3880:1234::84]) by smtp-relay.gmail.com with ESMTPS id d9443c01a7336-23de433a60esm5067705ad.102.2025.07.14.06.43.34 (version=TLS1_2 cipher=ECDHE-ECDSA-AES128-GCM-SHA256 bits=128/128); Mon, 14 Jul 2025 06:43:34 -0700 (PDT) X-Relaying-Domain: iol.unh.edu Date: Mon, 14 Jul 2025 06:43:34 -0700 (PDT) Message-ID: <68750986.170a0220.57e15.ba50SMTPIN_ADDED_MISSING@mx.google.com> Received: from [172.21.0.5] (unknown [172.18.0.240]) by postal.iol.unh.edu (Postfix) with ESMTP id 15945604D420; Mon, 14 Jul 2025 09:43:34 -0400 (EDT) Subject: |SUCCESS| pw155201 [PATCH] net/mlx5: fix indirect age action handlin From: dpdklab@iol.unh.edu To: Test Report Cc: dpdk-test-reports@iol.unh.edu In-Reply-To: <20250714100437.993231-1-dsosnowski@nvidia.com> References: <20250714100437.993231-1-dsosnowski@nvidia.com> Content-Type: text/plain X-BeenThere: test-report@dpdk.org X-Mailman-Version: 2.1.29 Precedence: list List-Id: automatic DPDK test reports List-Unsubscribe: , List-Archive: List-Post: List-Help: List-Subscribe: , Errors-To: test-report-bounces@dpdk.org Test-Label: iol-unit-amd64-testing Test-Status: SUCCESS http://dpdk.org/patch/155201 _Testing PASS_ Submitter: Dariusz Sosnowski Date: Monday, July 14 2025 10:04:37 DPDK git baseline: Repo:dpdk Branch: master CommitID:9fe9c0b231c8da5435bfccb1963121b4277f961c 155201 --> testing pass Upstream job id: Generic-Unit-Test-DPDK#355261 Test environment and result as below: +-------------------------------+----------------+ | Environment | dpdk_unit_test | +===============================+================+ | Debian GNU/Linux 12 | PASS | +-------------------------------+----------------+ | CentOS Stream 9 | PASS | +-------------------------------+----------------+ | CentOS Stream 10 | PASS | +-------------------------------+----------------+ | Fedora Linux 40 | PASS | +-------------------------------+----------------+ | Red Hat Enterprise Linux 8.10 | PASS | +-------------------------------+----------------+ | Red Hat Enterprise Linux 9.5 | PASS | +-------------------------------+----------------+ | Fedora Linux 41 | PASS | +-------------------------------+----------------+ | Ubuntu 20.04 | PASS | +-------------------------------+----------------+ | Ubuntu 22.04 | PASS | +-------------------------------+----------------+ | Ubuntu 24.04 | PASS | +-------------------------------+----------------+ | Windows Server 2022 | PASS | +-------------------------------+----------------+ Debian GNU/Linux 12 Kernel: 5.15 Compiler: gcc gcc (Debian 12.2.0-14+deb12u1) 12.2.0 CentOS Stream 9 Kernel: 5.15 Compiler: gcc gcc (GCC) 11.5.0 20240719 (Red Hat 11.5.0-7) CentOS Stream 10 Kernel: 5.15 Compiler: gcc gcc (GCC) 14.2.1 20250110 (Red Hat 14.2.1-8) Fedora Linux 40 Kernel: 5.15 Compiler: gcc gcc (GCC) 14.2.1 20240912 (Red Hat 14.2.1-3) Red Hat Enterprise Linux 8.10 Kernel: 5.15 Compiler: gcc gcc (GCC) 8.5.0 20210514 (Red Hat 8.5.0-22) Red Hat Enterprise Linux 9.5 Kernel: 5.15 Compiler: gcc gcc (GCC) 11.5.0 20240719 (Red Hat 11.5.0-2) Fedora Linux 41 Kernel: 5.15 Compiler: clang gcc (GCC) 14.3.1 20250523 (Red Hat 14.3.1-1) Ubuntu 20.04 Kernel: 5.15 Compiler: gcc gcc (Ubuntu 9.4.0-1ubuntu1~20.04.2) 9.4.0 Ubuntu 22.04 Kernel: 5.15 Compiler: gcc gcc (Ubuntu 11.4.0-1ubuntu1~22.04) 11.4.0 Ubuntu 24.04 Kernel: 5.15 Compiler: gcc gcc (Ubuntu 13.3.0-6ubuntu2~24.04) 13.3.0 Windows Server 2022 Kernel: 10.0.20348.2031 Compiler: clang 15.0.7, gcc 14.1.0 (MinGW), and MSVC VS 19.39.33521 To view detailed results, visit: https://lab.dpdk.org/results/dashboard/patchsets/33648/ UNH-IOL DPDK Community Lab To manage your email subscriptions, visit: https://lab.dpdk.org/results/dashboard/preferences/subscriptions/