From mboxrd@z Thu Jan 1 00:00:00 1970 Return-Path: Received: from mails.dpdk.org (mails.dpdk.org [217.70.189.124]) by inbox.dpdk.org (Postfix) with ESMTP id 8F5BF46B72 for ; Mon, 14 Jul 2025 16:06:22 +0200 (CEST) Received: from mails.dpdk.org (localhost [127.0.0.1]) by mails.dpdk.org (Postfix) with ESMTP id 63F4A400D5; Mon, 14 Jul 2025 16:06:22 +0200 (CEST) Received: from mail-pg1-f226.google.com (mail-pg1-f226.google.com [209.85.215.226]) by mails.dpdk.org (Postfix) with ESMTP id 4E792400D5 for ; Mon, 14 Jul 2025 16:06:21 +0200 (CEST) Received: by mail-pg1-f226.google.com with SMTP id 41be03b00d2f7-b3220c39cffso4411427a12.0 for ; Mon, 14 Jul 2025 07:06:21 -0700 (PDT) DKIM-Signature: v=1; a=rsa-sha256; c=relaxed/relaxed; d=iol.unh.edu; s=unh-iol; t=1752501980; x=1753106780; darn=dpdk.org; h=references:in-reply-to:cc:to:from:subject:message-id:date:from:to :cc:subject:date:message-id:reply-to; bh=MCO48cLOJr5peE5STlcmJgSjtrrXkUYeKIVoUY6DH+s=; b=eU8OxDoSmA+v7s8rmOw/E7XpgTd1sjbYAOkr5TZGP9Z6eh5xnGic0WeUGNCAq44e5K bsbYgPRxoo90TAq4jQ4M3er394z9gt8t3dYKS7jsa7sTztU3oAdkiJjOC6UheDorTklD r15nuzckExpwpAgIHaHv8mCmYJTKDywx6FXZc= X-Google-DKIM-Signature: v=1; a=rsa-sha256; c=relaxed/relaxed; d=1e100.net; s=20230601; t=1752501980; x=1753106780; h=references:in-reply-to:cc:to:from:subject:message-id:date :x-gm-message-state:from:to:cc:subject:date:message-id:reply-to; bh=MCO48cLOJr5peE5STlcmJgSjtrrXkUYeKIVoUY6DH+s=; b=olHkS8NnStnyHsPpQwCstQN8Dk6DDPTspuJt+7cS27tYovs0z8aDo+U08lOVcUOEiv G0GT7hkfqM4RfEFJ0tKyy5K7V5RqOSqKvQcWWHrAO6R0TZ06il5jZghtt/NEAC/CVFA4 /falVadP6ufnGZmm93eLJ0NTI9Pv9mEVlQvCf1SRJ9N86hRmiZk2uVab4N1c/4H/z9SU CoG6oAz5iwg/fJu8SP0jsSDnYRwX/lfxEHBAbMBH/Fc50V8wuERqjxruaTmjzZCr5gzE CfZxHxGBXPHVYHbAWPmMqLLxDZ6E+WisMsfKDsbTsWdRWK9lSaZ5oaBkQus9i7MmBY+l yViw== X-Gm-Message-State: AOJu0Yzvo2R7bf4FzRQR6bVoD0c4xQZwLPl7bn8eseS0sjh2a+iq6DzY QHsehF8urS9SvaTZ888mh1SzNaZlm5q+G6SazpIW3h/Cl9LRhyPR622DAuz1qbxbpYIT0fDzHpN cFXiz+h5lpuD149WKCVYoLfvO+HHPsFJ0IcLRtnDQq5O3 X-Gm-Gg: ASbGncsZnqQIyxB3x2T/DFki8q9T6xy/xoyXYz9wdbmLDcok2uDyaJZ+ptYLo5S9fkq wKDExvaACfpM+SsTGjXz5jLxZkZAMuqgI3OBn1JahQ/g3lC+Ik9BcMxuIHZxcOeHGHSQMB+HahQ 3rQWfXQtRJTFHnBo1sR1DSozQh1EUUAQFVZcro1Aws7gOmd6AcTXt28EuECHhcAv/ti7wVzbRe1 nSlJKv8IMFnGxlZi6LKSjABiNEgm333PIdwDmIdBEv1jir0f78MnU4kNb1eBW7WpEE5kcXt8Nv+ ZIh+MMDubj3o/bRsk60k2B3cPkpJF1kPdKPGwzJmWceOZ0mbxdvUO4g9q1JH3H4dqHf4tESr X-Google-Smtp-Source: AGHT+IGpRvTf+on9fGQ5WEa/Ldk2MaJpiOq7WtD8zC1iP2JtlNbGQILw5cdHHTboT8eMUFNmqVoOk6SQEBgB X-Received: by 2002:a17:90b:1810:b0:314:2840:8b21 with SMTP id 98e67ed59e1d1-31c4f5d022emr17489207a91.32.1752501980259; Mon, 14 Jul 2025 07:06:20 -0700 (PDT) Received: from postal.iol.unh.edu (postal.iol.unh.edu. [132.177.123.84]) by smtp-relay.gmail.com with ESMTPS id 98e67ed59e1d1-31c3e97f3d3sm424494a91.5.2025.07.14.07.06.20 (version=TLS1_2 cipher=ECDHE-ECDSA-AES128-GCM-SHA256 bits=128/128); Mon, 14 Jul 2025 07:06:20 -0700 (PDT) X-Relaying-Domain: iol.unh.edu Date: Mon, 14 Jul 2025 07:06:20 -0700 (PDT) Message-ID: <68750edc.170a0220.3c10e2.5e57SMTPIN_ADDED_MISSING@mx.google.com> Received: from [172.21.0.5] (unknown [172.18.0.240]) by postal.iol.unh.edu (Postfix) with ESMTP id 5A5306050A61; Mon, 14 Jul 2025 10:06:19 -0400 (EDT) Subject: |SUCCESS| pw155199 [PATCH] [v0,1/1] net/octeon_ep: fix device start From: dpdklab@iol.unh.edu To: Test Report Cc: dpdk-test-reports@iol.unh.edu In-Reply-To: <20250714055849.2258453-1-vattunuru@marvell.com> References: <20250714055849.2258453-1-vattunuru@marvell.com> Content-Type: text/plain X-BeenThere: test-report@dpdk.org X-Mailman-Version: 2.1.29 Precedence: list List-Id: automatic DPDK test reports List-Unsubscribe: , List-Archive: List-Post: List-Help: List-Subscribe: , Errors-To: test-report-bounces@dpdk.org Test-Label: iol-compile-arm64-testing Test-Status: SUCCESS http://dpdk.org/patch/155199 _Testing PASS_ Submitter: Vamsi Krishna Attunuru Date: Monday, July 14 2025 05:58:49 DPDK git baseline: Repo:dpdk Branch: master CommitID:3761152ec7f99c9b60c9cc933102d35fa663393a 155199 --> testing pass Upstream job id: Generic-DPDK-Compile-Meson#408513 Test environment and result as below: +------------------------------+--------------------+ | Environment | dpdk_meson_compile | +==============================+====================+ | Red Hat Enterprise Linux 9.5 | PASS | +------------------------------+--------------------+ | Ubuntu 20.04 | PASS | +------------------------------+--------------------+ | Debian GNU/Linux 12 | PASS | +------------------------------+--------------------+ | Fedora Linux 40 | PASS | +------------------------------+--------------------+ | Fedora Linux 41 | PASS | +------------------------------+--------------------+ | Ubuntu 22.04 | PASS | +------------------------------+--------------------+ | Ubuntu 24.04 | PASS | +------------------------------+--------------------+ | CentOS Stream 9 | PASS | +------------------------------+--------------------+ | CentOS Stream 10 | PASS | +------------------------------+--------------------+ Red Hat Enterprise Linux 9.5 Kernel: 5.4 Compiler: gcc gcc (GCC) 11.5.0 20240719 (Red Hat 11.5.0-2) Ubuntu 20.04 Kernel: 5.15 Compiler: aarch64-linux-gnu-gcc gcc (Ubuntu 9.4.0-1ubuntu1~20.04.2) 9.4.0 Debian GNU/Linux 12 Kernel: 5.4 Compiler: gcc gcc (Debian 12.2.0-14+deb12u1) 12.2.0 Fedora Linux 40 Kernel: 5.4 Compiler: gcc gcc (GCC) 14.2.1 20240912 (Red Hat 14.2.1-3) Fedora Linux 41 Kernel: 5.4 Compiler: gcc gcc (GCC) 14.3.1 20250523 (Red Hat 14.3.1-1) Ubuntu 22.04 Kernel: 5.4 Compiler: gcc gcc (Ubuntu 11.4.0-1ubuntu1~22.04) 11.4.0 Ubuntu 24.04 Kernel: 5.4 Compiler: gcc gcc (Ubuntu 13.3.0-6ubuntu2~24.04) 13.3.0 CentOS Stream 9 Kernel: 5.4 Compiler: gcc gcc (GCC) 11.5.0 20240719 (Red Hat 11.5.0-7) CentOS Stream 10 Kernel: 5.4 Compiler: gcc gcc (GCC) 14.2.1 20250110 (Red Hat 14.2.1-8) To view detailed results, visit: https://lab.dpdk.org/results/dashboard/patchsets/33646/ UNH-IOL DPDK Community Lab To manage your email subscriptions, visit: https://lab.dpdk.org/results/dashboard/preferences/subscriptions/