From mboxrd@z Thu Jan 1 00:00:00 1970 Return-Path: Received: from mails.dpdk.org (mails.dpdk.org [217.70.189.124]) by inbox.dpdk.org (Postfix) with ESMTP id EC6EF46B72 for ; Mon, 14 Jul 2025 17:48:27 +0200 (CEST) Received: from mails.dpdk.org (localhost [127.0.0.1]) by mails.dpdk.org (Postfix) with ESMTP id DE2FA400D5; Mon, 14 Jul 2025 17:48:27 +0200 (CEST) Received: from mail-qv1-f99.google.com (mail-qv1-f99.google.com [209.85.219.99]) by mails.dpdk.org (Postfix) with ESMTP id CB027400D5 for ; Mon, 14 Jul 2025 17:48:25 +0200 (CEST) Received: by mail-qv1-f99.google.com with SMTP id 6a1803df08f44-702cbfe860cso43179696d6.1 for ; Mon, 14 Jul 2025 08:48:25 -0700 (PDT) DKIM-Signature: v=1; a=rsa-sha256; c=relaxed/relaxed; d=iol.unh.edu; s=unh-iol; t=1752508105; x=1753112905; darn=dpdk.org; h=references:in-reply-to:cc:to:from:subject:message-id:date:from:to :cc:subject:date:message-id:reply-to; bh=jmGRpb2ltKqKGJb/lRm/sOMTVAoQIbP4/Vh3BFD+lh0=; b=fSE9BYsgL87aYMuIO9/+tZjThuPdv7SuYLYsgORTT1EwvZroHkHi06YyZxMBhvm/lt SD8ihgg1oUmziJZyCaNQ0qxOMjFLBBAs0sqndMH6qzTWXOoIjRVJDn0qB9eumIpNz0+H f7c1aAvBEDgAQSxxWMH6Gny95HrUgboUK57l0= X-Google-DKIM-Signature: v=1; a=rsa-sha256; c=relaxed/relaxed; d=1e100.net; s=20230601; t=1752508105; x=1753112905; h=references:in-reply-to:cc:to:from:subject:message-id:date :x-gm-message-state:from:to:cc:subject:date:message-id:reply-to; bh=jmGRpb2ltKqKGJb/lRm/sOMTVAoQIbP4/Vh3BFD+lh0=; b=FYbYeUu7hvfXfeOkLasy0sKEyvecQV9LkbxmcJAaqZNK/344J1pakGwhczCBPoB7oT rq0r2ABVG99Y2DMy0H7rPed8xRlTha2XWWSCOfcEpRoS5Hbned1SIrVsE43rbwuljALi RS06kH9FFFrlYtSN9cwxri0FCcjppdO70daBBG5mKmr16S4zRRvqNKP/xHwvC/p7e/66 42Wlb83teVHMHRBLuoJHrpF/XQ+Jad8oIytiIhF1aBInQCuFAwgkHvgUHNb9Q75kCSlL UGVA9PHMDM3QR/eVfu+YEkgyCXMB5zJXRlJ8uqOvG0Zmxl/MZtOMJe2gi+0jU3z5vhoA UKsg== X-Gm-Message-State: AOJu0Yz7QMewdSlcBGV+cmvVhpbbbt6hJA0sTek2bhd80eX7u4FBC+G2 LWeIh/PuBb9MQrqAmnvGRqN6G7G6dZeUUHqBLKNdIT093wiFhcXKnjeGzzm1hDonJDMbNXPBeZv MyjoRXLuF6hw6QyBlDoZwsr9rHMbKJRGbTUbsSotAN07OXWl7JQAt6pz6r3ec X-Gm-Gg: ASbGncvOxD8XX/SLIxloJi+S+YyZ6w4AfDG6oR5agFvvFGUYKCJVlHygP88OgLyFfs8 FTxgZnG8vsUOHJAU/GyMdHb0qvZ0lkyPAR5tVRJ4JsqPF7ou7OL8JYYz7Ovv7SmJARJyzOd6xr1 7xDAjbePTmnrbMH+1eRtUBcf4nrzmB1ls9A0pfVM6ISie/97in8RpUWuIk6wGQkJRvwKG8UHTfk LhwGdtzNSWOLEtKpvhDxWZTOFgigtlbAW62MpasiuQR1v3GIlli9UbMkzymB7IROUiJT3gaBL7H 0i5lrzkqgRpMYglVhSDFYXH/b6S0tow4mSiAaprFkrgGL1fiog== X-Google-Smtp-Source: AGHT+IHIKIHIOgxNFICFbvbveYg+ZaJgp7gQ9jpYG+PeRZK1kJuzh4URrmVrhaWbBxzMlNEu0bEzfT4MJqHd X-Received: by 2002:a05:6214:5d01:b0:704:7e40:dfe4 with SMTP id 6a1803df08f44-704a6f269d1mr242428416d6.14.1752508105139; Mon, 14 Jul 2025 08:48:25 -0700 (PDT) Received: from postal.iol.unh.edu (postal.iol.unh.edu. [2606:4100:3880:1234::84]) by smtp-relay.gmail.com with ESMTPS id 6a1803df08f44-70497d5ced8sm4498906d6.55.2025.07.14.08.48.25 (version=TLS1_2 cipher=ECDHE-ECDSA-AES128-GCM-SHA256 bits=128/128); Mon, 14 Jul 2025 08:48:25 -0700 (PDT) X-Relaying-Domain: iol.unh.edu Date: Mon, 14 Jul 2025 08:48:25 -0700 (PDT) Message-ID: <687526c9.050a0220.ae4cd.8151SMTPIN_ADDED_MISSING@mx.google.com> Received: from [172.21.0.7] (unknown [172.18.0.240]) by postal.iol.unh.edu (Postfix) with ESMTP id CC56F604D420; Mon, 14 Jul 2025 11:48:24 -0400 (EDT) Subject: |SUCCESS| pw155201 [PATCH] net/mlx5: fix indirect age action handlin From: dpdklab@iol.unh.edu To: Test Report Cc: dpdk-test-reports@iol.unh.edu In-Reply-To: <20250714100437.993231-1-dsosnowski@nvidia.com> References: <20250714100437.993231-1-dsosnowski@nvidia.com> Content-Type: text/plain X-BeenThere: test-report@dpdk.org X-Mailman-Version: 2.1.29 Precedence: list List-Id: automatic DPDK test reports List-Unsubscribe: , List-Archive: List-Post: List-Help: List-Subscribe: , Errors-To: test-report-bounces@dpdk.org Test-Label: iol-compile-amd64-testing Test-Status: SUCCESS http://dpdk.org/patch/155201 _Testing PASS_ Submitter: Dariusz Sosnowski Date: Monday, July 14 2025 10:04:37 DPDK git baseline: Repo:dpdk Branch: master CommitID:9fe9c0b231c8da5435bfccb1963121b4277f961c 155201 --> testing pass Upstream job id: Generic-DPDK-Compile-Meson#408566 Test environment and result as below: +-------------------------------+--------------------+-------------------+------------------+-------------------------+-------------------+----------------------+ | Environment | dpdk_meson_compile | dpdk_compile_spdk | dpdk_compile_ovs | dpdk_llvm_clang_compile | dpdk_msvc_compile | dpdk_mingw64_compile | +===============================+====================+===================+==================+=========================+===================+======================+ | CentOS Stream 9 | PASS | PASS | SKIPPED | SKIPPED | SKIPPED | SKIPPED | +-------------------------------+--------------------+-------------------+------------------+-------------------------+-------------------+----------------------+ | CentOS Stream 10 | PASS | SKIPPED | SKIPPED | SKIPPED | SKIPPED | SKIPPED | +-------------------------------+--------------------+-------------------+------------------+-------------------------+-------------------+----------------------+ | Debian GNU/Linux 12 | PASS | PASS | SKIPPED | SKIPPED | SKIPPED | SKIPPED | +-------------------------------+--------------------+-------------------+------------------+-------------------------+-------------------+----------------------+ | Fedora Linux 40 | PASS | PASS | SKIPPED | SKIPPED | SKIPPED | SKIPPED | +-------------------------------+--------------------+-------------------+------------------+-------------------------+-------------------+----------------------+ | Fedora Linux 41 | PASS | PASS | PASS | SKIPPED | SKIPPED | SKIPPED | +-------------------------------+--------------------+-------------------+------------------+-------------------------+-------------------+----------------------+ | Red Hat Enterprise Linux 8.10 | PASS | SKIPPED | SKIPPED | SKIPPED | SKIPPED | SKIPPED | +-------------------------------+--------------------+-------------------+------------------+-------------------------+-------------------+----------------------+ | openSUSE Leap 15.6 | PASS | SKIPPED | SKIPPED | SKIPPED | SKIPPED | SKIPPED | +-------------------------------+--------------------+-------------------+------------------+-------------------------+-------------------+----------------------+ | Red Hat Enterprise Linux 9.5 | PASS | SKIPPED | SKIPPED | SKIPPED | SKIPPED | SKIPPED | +-------------------------------+--------------------+-------------------+------------------+-------------------------+-------------------+----------------------+ | Ubuntu 20.04 | PASS | SKIPPED | SKIPPED | SKIPPED | SKIPPED | SKIPPED | +-------------------------------+--------------------+-------------------+------------------+-------------------------+-------------------+----------------------+ | Ubuntu 22.04 | PASS | PASS | SKIPPED | SKIPPED | SKIPPED | SKIPPED | +-------------------------------+--------------------+-------------------+------------------+-------------------------+-------------------+----------------------+ | Ubuntu 24.04 | PASS | PASS | PASS | SKIPPED | SKIPPED | SKIPPED | +-------------------------------+--------------------+-------------------+------------------+-------------------------+-------------------+----------------------+ | Alpine Linux 3.22.0 | PASS | SKIPPED | SKIPPED | SKIPPED | SKIPPED | SKIPPED | +-------------------------------+--------------------+-------------------+------------------+-------------------------+-------------------+----------------------+ | FreeBSD 14.2 | PASS | SKIPPED | SKIPPED | SKIPPED | SKIPPED | SKIPPED | +-------------------------------+--------------------+-------------------+------------------+-------------------------+-------------------+----------------------+ | Windows Server 2022 | SKIPPED | SKIPPED | SKIPPED | PASS | PASS | PASS | +-------------------------------+--------------------+-------------------+------------------+-------------------------+-------------------+----------------------+ CentOS Stream 9 Kernel: 5.15 Compiler: gcc gcc (GCC) 11.5.0 20240719 (Red Hat 11.5.0-7) CentOS Stream 10 Kernel: 5.15 Compiler: gcc gcc (GCC) 14.2.1 20250110 (Red Hat 14.2.1-8) Debian GNU/Linux 12 Kernel: 5.15 Compiler: gcc gcc (Debian 12.2.0-14+deb12u1) 12.2.0 Fedora Linux 40 Kernel: 5.15 Compiler: gcc gcc (GCC) 14.2.1 20240912 (Red Hat 14.2.1-3) Fedora Linux 41 Kernel: 5.15 Compiler: gcc gcc (GCC) 14.3.1 20250523 (Red Hat 14.3.1-1) Red Hat Enterprise Linux 8.10 Kernel: 5.15 Compiler: gcc gcc (GCC) 8.5.0 20210514 (Red Hat 8.5.0-22) openSUSE Leap 15.6 Kernel: 5.15 Compiler: gcc gcc (SUSE Linux) 7.5.0 Red Hat Enterprise Linux 9.5 Kernel: 5.15 Compiler: gcc gcc (GCC) 11.5.0 20240719 (Red Hat 11.5.0-2) Ubuntu 20.04 Kernel: 5.15 Compiler: gcc gcc (Ubuntu 9.4.0-1ubuntu1~20.04.2) 9.4.0 Ubuntu 22.04 Kernel: 5.15 Compiler: gcc gcc (Ubuntu 11.4.0-1ubuntu1~22.04) 11.4.0 Ubuntu 24.04 Kernel: 5.15 Compiler: gcc gcc (Ubuntu 13.3.0-6ubuntu2~24.04) 13.3.0 Alpine Linux 3.22.0 Kernel: 5.15 Compiler: gcc gcc (Alpine 14.2.0) 14.2.0 FreeBSD 14.2 Kernel: 14.2-RELEASE Compiler: clang 18.1.6 Windows Server 2022 Kernel: 10.0.20348.2031 Compiler: clang 15.0.7, gcc 14.1.0 (MinGW), and MSVC VS 19.39.33521 To view detailed results, visit: https://lab.dpdk.org/results/dashboard/patchsets/33648/ UNH-IOL DPDK Community Lab To manage your email subscriptions, visit: https://lab.dpdk.org/results/dashboard/preferences/subscriptions/