From mboxrd@z Thu Jan 1 00:00:00 1970 Return-Path: Received: from mails.dpdk.org (mails.dpdk.org [217.70.189.124]) by inbox.dpdk.org (Postfix) with ESMTP id F1CB046B72 for ; Mon, 14 Jul 2025 17:48:43 +0200 (CEST) Received: from mails.dpdk.org (localhost [127.0.0.1]) by mails.dpdk.org (Postfix) with ESMTP id ECE02400D5; Mon, 14 Jul 2025 17:48:43 +0200 (CEST) Received: from mail-io1-f97.google.com (mail-io1-f97.google.com [209.85.166.97]) by mails.dpdk.org (Postfix) with ESMTP id E80A1400D5 for ; Mon, 14 Jul 2025 17:48:42 +0200 (CEST) Received: by mail-io1-f97.google.com with SMTP id ca18e2360f4ac-875acfc133dso185588739f.1 for ; Mon, 14 Jul 2025 08:48:42 -0700 (PDT) DKIM-Signature: v=1; a=rsa-sha256; c=relaxed/relaxed; d=iol.unh.edu; s=unh-iol; t=1752508122; x=1753112922; darn=dpdk.org; h=references:in-reply-to:cc:to:from:subject:message-id:date:from:to :cc:subject:date:message-id:reply-to; bh=40WgQcnVUfwy9WJrJRi14Dk/qQ98rGVBjvq8Zh/DPcU=; b=LGvAOM8/flYmKn4WSci5jf1TaegcSOvUj3vc11IDqcTbk9I+1yqD3RAAZuY7fUD/Vb V8Ywmhkan32k7wEdW1usAnapripEGQfyOktjyZWE+h7iMHD+N9hkNRUq26E452xKOVxO 42o93pbwXOc8iwil32PrmrvGfX6/+npW7bPYA= X-Google-DKIM-Signature: v=1; a=rsa-sha256; c=relaxed/relaxed; d=1e100.net; s=20230601; t=1752508122; x=1753112922; h=references:in-reply-to:cc:to:from:subject:message-id:date :x-gm-message-state:from:to:cc:subject:date:message-id:reply-to; bh=40WgQcnVUfwy9WJrJRi14Dk/qQ98rGVBjvq8Zh/DPcU=; b=CSH5WN8NfgTSypOwwlhK6cVL+QkbQvEzYwq5dlzLm/YH/9tZArPxObWF+RgIQwEFnp 0llxnHjPFkxH3gPtXf+B6qkwyvZqoVTUPVeKUCCC9lUhgCh1h181m39HNLS9F1OrzB9B UVosmnNDNv4qkV8ox6YuPNHMs1m9WuXU4nMqt/S0YTSR4PDXVMTdEjZzpIdD/2IRBSLM BB5JViQsoqncB4GNh66gO2ldRkCVPECVHSyGX21XpkJdfmpkTPbp3kLB9yy/m7gUdfMd 2p0g6aNq1BE1FGU7X7P1FLHKN846Az5NHgheHOz4DMVd+VTy0OGAj/uwUZjgD5NEiXqE AjSg== X-Gm-Message-State: AOJu0YxjhW9PlKUmOnsBUJ2hMA/C4sZkKE6Ta0N+uk+G71b1xvVzU9r/ eALqr3xEcFUo7rd4vXlOGzbyA1cKQSZHpeQkLvMHuxQvYAv7Mdj7KhVpIp6bYxTcR7BGwzY6tLJ u2asmQszoIK6+xWsuh3PMXXj9ItqpOY0MQwovz+H3+vAEp9cGizJhwiDrD1b3 X-Gm-Gg: ASbGncuYI03X89ib4Z+xmqNbGy9E0fd21U2TlZkZTyp60wLjVfuv5l4h+rpoBpvAYjn UUXooxQxvsoClb3as2vQLrif8tG5D0PXEmW/W7DWjai3eSJEijZZG+7PBznlN9NarC3zwQotbxE OMk2+xsJZXlJ0XuHKukYuGoqPyTATYqH/v5pL4hIxCQBqC2qLPKnDs52vsWZz4B+JZ3w3ctErch OzVrRES1kiq6m9fXq6rlKTOFQpkOB1WWP5AtUYieZiRm52LmtTSNheSxpu6xcDbQFjz9LH6mpHP KqR8/ZP2xB7DrMAuKfcM3oEA68QlWDhpPHzY5fyAHOSjoXEtaA== X-Google-Smtp-Source: AGHT+IHOClSKaaXZ8lZ0NQQURBMndxRh3lUlZ4dEn4T//MNvRScA/U8aq+AjcFVEHoZQroNC3ukoeMIxGIJm X-Received: by 2002:a05:6602:2b93:b0:875:bd67:2f1d with SMTP id ca18e2360f4ac-87977fa6b9amr1415225239f.10.1752508122229; Mon, 14 Jul 2025 08:48:42 -0700 (PDT) Received: from postal.iol.unh.edu (postal.iol.unh.edu. [2606:4100:3880:1234::84]) by smtp-relay.gmail.com with ESMTPS id ca18e2360f4ac-8796bc1e32asm43679539f.31.2025.07.14.08.48.42 (version=TLS1_2 cipher=ECDHE-ECDSA-AES128-GCM-SHA256 bits=128/128); Mon, 14 Jul 2025 08:48:42 -0700 (PDT) X-Relaying-Domain: iol.unh.edu Date: Mon, 14 Jul 2025 08:48:42 -0700 (PDT) Message-ID: <687526da.050a0220.11d9c1.8238SMTPIN_ADDED_MISSING@mx.google.com> Received: from [172.21.0.5] (unknown [172.18.0.240]) by postal.iol.unh.edu (Postfix) with ESMTP id B7250604D420; Mon, 14 Jul 2025 11:48:41 -0400 (EDT) Subject: |SUCCESS| pw155202 [PATCH] [RFC] doc: clarify VLAN and QinQ strippin From: dpdklab@iol.unh.edu To: Test Report Cc: dpdk-test-reports@iol.unh.edu In-Reply-To: <20250714133014.44597-1-bruce.richardson@intel.com> References: <20250714133014.44597-1-bruce.richardson@intel.com> Content-Type: text/plain X-BeenThere: test-report@dpdk.org X-Mailman-Version: 2.1.29 Precedence: list List-Id: automatic DPDK test reports List-Unsubscribe: , List-Archive: List-Post: List-Help: List-Subscribe: , Errors-To: test-report-bounces@dpdk.org Test-Label: iol-abi-testing Test-Status: SUCCESS http://dpdk.org/patch/155202 _Testing PASS_ Submitter: Bruce Richardson Date: Monday, July 14 2025 13:30:14 DPDK git baseline: Repo:dpdk Branch: master CommitID:9fe9c0b231c8da5435bfccb1963121b4277f961c 155202 --> testing pass Upstream job id: Generic-DPDK-Compile-ABI#134299 Test environment and result as below: +-------------------------------+----------+ | Environment | abi_test | +===============================+==========+ | CentOS Stream 10 | PASS | +-------------------------------+----------+ | Debian GNU/Linux 12 | PASS | +-------------------------------+----------+ | CentOS Stream 9 | PASS | +-------------------------------+----------+ | Fedora Linux 41 | PASS | +-------------------------------+----------+ | Fedora Linux 40 | PASS | +-------------------------------+----------+ | Red Hat Enterprise Linux 8.10 | PASS | +-------------------------------+----------+ | openSUSE Leap 15.6 | PASS | +-------------------------------+----------+ | Ubuntu 24.04 | PASS | +-------------------------------+----------+ | Ubuntu 22.04 | PASS | +-------------------------------+----------+ | Red Hat Enterprise Linux 9.5 | PASS | +-------------------------------+----------+ CentOS Stream 10 Kernel: 5.15 Compiler: gcc gcc (GCC) 14.2.1 20250110 (Red Hat 14.2.1-8) Debian GNU/Linux 12 Kernel: 5.15 Compiler: gcc gcc (Debian 12.2.0-14+deb12u1) 12.2.0 CentOS Stream 9 Kernel: 5.15 Compiler: gcc gcc (GCC) 11.5.0 20240719 (Red Hat 11.5.0-7) Fedora Linux 41 Kernel: 5.15 Compiler: clang gcc (GCC) 14.3.1 20250523 (Red Hat 14.3.1-1) Fedora Linux 40 Kernel: 5.15 Compiler: clang gcc (GCC) 14.2.1 20240912 (Red Hat 14.2.1-3) Red Hat Enterprise Linux 8.10 Kernel: 5.15 Compiler: gcc gcc (GCC) 8.5.0 20210514 (Red Hat 8.5.0-22) openSUSE Leap 15.6 Kernel: 5.15 Compiler: gcc gcc (SUSE Linux) 7.5.0 Ubuntu 24.04 Kernel: 5.15 Compiler: gcc gcc (Ubuntu 13.3.0-6ubuntu2~24.04) 13.3.0 Ubuntu 22.04 Kernel: 5.15 Compiler: gcc gcc (Ubuntu 11.4.0-1ubuntu1~22.04) 11.4.0 Red Hat Enterprise Linux 9.5 Kernel: 5.15 Compiler: gcc gcc (GCC) 11.5.0 20240719 (Red Hat 11.5.0-2) To view detailed results, visit: https://lab.dpdk.org/results/dashboard/patchsets/33649/ UNH-IOL DPDK Community Lab To manage your email subscriptions, visit: https://lab.dpdk.org/results/dashboard/preferences/subscriptions/