From mboxrd@z Thu Jan 1 00:00:00 1970 Return-Path: Received: from mails.dpdk.org (mails.dpdk.org [217.70.189.124]) by inbox.dpdk.org (Postfix) with ESMTP id 114BA46B72 for ; Mon, 14 Jul 2025 17:49:13 +0200 (CEST) Received: from mails.dpdk.org (localhost [127.0.0.1]) by mails.dpdk.org (Postfix) with ESMTP id 0BF8F400D5; Mon, 14 Jul 2025 17:49:13 +0200 (CEST) Received: from mail-pl1-f228.google.com (mail-pl1-f228.google.com [209.85.214.228]) by mails.dpdk.org (Postfix) with ESMTP id DD9EC400D5 for ; Mon, 14 Jul 2025 17:49:11 +0200 (CEST) Received: by mail-pl1-f228.google.com with SMTP id d9443c01a7336-23c703c471dso46027655ad.0 for ; Mon, 14 Jul 2025 08:49:11 -0700 (PDT) DKIM-Signature: v=1; a=rsa-sha256; c=relaxed/relaxed; d=iol.unh.edu; s=unh-iol; t=1752508151; x=1753112951; darn=dpdk.org; h=references:in-reply-to:cc:to:from:subject:message-id:date:from:to :cc:subject:date:message-id:reply-to; bh=pzN6nF5Lrny9JavsufUJ/0hKuITtyWvBYgv+YMPEPZo=; b=GWNpqF9lWQBoMYB3wNObHTik8mJ7okUZJahJKw5+5CsMXqBXQS0x1INsQdSHy4MeAF 4wA/pk+2V7yUkFc/1FDce/oaOzQOJ1S+gyl/bslYyRY7N1HbS/fHZlAOyfRbwHuPlFpR wvcGmWRjz5JI6aDJrbp7iyqaHVfhVE8Qa18aw= X-Google-DKIM-Signature: v=1; a=rsa-sha256; c=relaxed/relaxed; d=1e100.net; s=20230601; t=1752508151; x=1753112951; h=references:in-reply-to:cc:to:from:subject:message-id:date :x-gm-message-state:from:to:cc:subject:date:message-id:reply-to; bh=pzN6nF5Lrny9JavsufUJ/0hKuITtyWvBYgv+YMPEPZo=; b=QyCFJZtBy3Jex85a+oX5fsX2+F7mB3W0DQaZdhYMOZjjKXDK6gHe1X98fEX8HDeZVY NiJRy91g+pv9YVwb7/hEiCKzQNBjj/z/e+vBt1cLkY85wtHQgSHSgMA3nwfmWTirl0/L uqPWko5GKMm/F1LowEdkskBbBKthzvYu0TLCA+VUVxaC+B8iowosb4GEaoIch8Z5Ln7d Ien7ijl6WADyL5+AuLjcuEhA8LU0ja8cZjWnvhGo6spRx/RhZLH1bHfcURMcQhF+KmAo GUkYBQqXpONHtQWekPfMx96ka4wtAG6akF7ptFUWG4aKPsV8jstRjhTmP7DTz1qJuxlf uHsg== X-Gm-Message-State: AOJu0YzoxjY4Liiq1G/cl86rYdkkbAYnkAKVIhxVk9TBddg4Gq3yTur1 lQwtlf08wvTn5Trop5lYG2npJ9axmJudptHKqf6j6/ReC1iHlg0vqplX/wieH9nh85EkLSrGdjp JGN+ZcT9cRwhYfJKrzLmwMsM3FPUYgnPEwfApmJEWTGvpQSN9/6VD5BynKngP X-Gm-Gg: ASbGnctae9sNkd1oQ9fJsnbw7tOpxZREmx/zdBCGAhq521GQZS7kluYUToCercSb2SD cSbyjO/kV5O4jEIEUiy9ofWLBtbUihcclsGBgWkks2aWGukuVBd5hfJE1dNAgTITDRVnhgw/+MI 155p9BShDYTKAkO0+aKczdUA2DB458109p3/iBF47fxUvhRDs0X8Vmt60J5LpCib6cA0zDQF6zw jcI9Q5uRhdkhW/X2SqKOIr/k2P5hbLooHEUL0qzG4m9ZQI/Nv3Fx+CvZPqeEFyiVskNLk7kkKAi 2nvQ4elGe0WkCvn54W0fXhfC1rQLSYks7PzIUC5cpnnUmtNZwg== X-Google-Smtp-Source: AGHT+IGSstC7N9rl+6m2iCj84s40pXNihBSsngpnjL0cDcljuLM8/WItifc3Q+qwOWm7HcqbpmcIxfW2IW1L X-Received: by 2002:a17:903:40c6:b0:236:10b1:50cb with SMTP id d9443c01a7336-23e1a4c66c9mr884655ad.26.1752508150848; Mon, 14 Jul 2025 08:49:10 -0700 (PDT) Received: from postal.iol.unh.edu (postal.iol.unh.edu. [2606:4100:3880:1234::84]) by smtp-relay.gmail.com with ESMTPS id d9443c01a7336-23de432de03sm5234865ad.87.2025.07.14.08.49.10 (version=TLS1_2 cipher=ECDHE-ECDSA-AES128-GCM-SHA256 bits=128/128); Mon, 14 Jul 2025 08:49:10 -0700 (PDT) X-Relaying-Domain: iol.unh.edu Date: Mon, 14 Jul 2025 08:49:10 -0700 (PDT) Message-ID: <687526f6.170a0220.435ee.cd4fSMTPIN_ADDED_MISSING@mx.google.com> Received: from [172.21.0.5] (unknown [172.18.0.240]) by postal.iol.unh.edu (Postfix) with ESMTP id 1259B604D420; Mon, 14 Jul 2025 11:49:10 -0400 (EDT) Subject: |SUCCESS| pw155202 [PATCH] [RFC] doc: clarify VLAN and QinQ strippin From: dpdklab@iol.unh.edu To: Test Report Cc: dpdk-test-reports@iol.unh.edu In-Reply-To: <20250714133014.44597-1-bruce.richardson@intel.com> References: <20250714133014.44597-1-bruce.richardson@intel.com> Content-Type: text/plain X-BeenThere: test-report@dpdk.org X-Mailman-Version: 2.1.29 Precedence: list List-Id: automatic DPDK test reports List-Unsubscribe: , List-Archive: List-Post: List-Help: List-Subscribe: , Errors-To: test-report-bounces@dpdk.org Test-Label: iol-abi-testing Test-Status: SUCCESS http://dpdk.org/patch/155202 _Testing PASS_ Submitter: Bruce Richardson Date: Monday, July 14 2025 13:30:14 DPDK git baseline: Repo:dpdk Branch: master CommitID:9fe9c0b231c8da5435bfccb1963121b4277f961c 155202 --> testing pass Upstream job id: Generic-DPDK-Compile-ABI#134300 Test environment and result as below: +-------------------------------+----------+ | Environment | abi_test | +===============================+==========+ | CentOS Stream 10 | PASS | +-------------------------------+----------+ | Debian GNU/Linux 12 | PASS | +-------------------------------+----------+ | CentOS Stream 9 | PASS | +-------------------------------+----------+ | Fedora Linux 41 | PASS | +-------------------------------+----------+ | Fedora Linux 40 | PASS | +-------------------------------+----------+ | Red Hat Enterprise Linux 8.10 | PASS | +-------------------------------+----------+ | openSUSE Leap 15.6 | PASS | +-------------------------------+----------+ | Ubuntu 24.04 | PASS | +-------------------------------+----------+ | Ubuntu 22.04 | PASS | +-------------------------------+----------+ | Red Hat Enterprise Linux 9.5 | PASS | +-------------------------------+----------+ CentOS Stream 10 Kernel: 5.15 Compiler: gcc gcc (GCC) 14.2.1 20250110 (Red Hat 14.2.1-8) Debian GNU/Linux 12 Kernel: 5.15 Compiler: gcc gcc (Debian 12.2.0-14+deb12u1) 12.2.0 CentOS Stream 9 Kernel: 5.15 Compiler: gcc gcc (GCC) 11.5.0 20240719 (Red Hat 11.5.0-7) Fedora Linux 41 Kernel: 5.15 Compiler: clang gcc (GCC) 14.3.1 20250523 (Red Hat 14.3.1-1) Fedora Linux 40 Kernel: 5.15 Compiler: clang gcc (GCC) 14.2.1 20240912 (Red Hat 14.2.1-3) Red Hat Enterprise Linux 8.10 Kernel: 5.15 Compiler: gcc gcc (GCC) 8.5.0 20210514 (Red Hat 8.5.0-22) openSUSE Leap 15.6 Kernel: 5.15 Compiler: gcc gcc (SUSE Linux) 7.5.0 Ubuntu 24.04 Kernel: 5.15 Compiler: gcc gcc (Ubuntu 13.3.0-6ubuntu2~24.04) 13.3.0 Ubuntu 22.04 Kernel: 5.15 Compiler: gcc gcc (Ubuntu 11.4.0-1ubuntu1~22.04) 11.4.0 Red Hat Enterprise Linux 9.5 Kernel: 5.15 Compiler: gcc gcc (GCC) 11.5.0 20240719 (Red Hat 11.5.0-2) To view detailed results, visit: https://lab.dpdk.org/results/dashboard/patchsets/33649/ UNH-IOL DPDK Community Lab To manage your email subscriptions, visit: https://lab.dpdk.org/results/dashboard/preferences/subscriptions/