From mboxrd@z Thu Jan 1 00:00:00 1970 Return-Path: Received: from mails.dpdk.org (mails.dpdk.org [217.70.189.124]) by inbox.dpdk.org (Postfix) with ESMTP id 1C9BE46B72 for ; Mon, 14 Jul 2025 17:49:21 +0200 (CEST) Received: from mails.dpdk.org (localhost [127.0.0.1]) by mails.dpdk.org (Postfix) with ESMTP id 1821D400D5; Mon, 14 Jul 2025 17:49:21 +0200 (CEST) Received: from mail-pj1-f97.google.com (mail-pj1-f97.google.com [209.85.216.97]) by mails.dpdk.org (Postfix) with ESMTP id 355CB400D5 for ; Mon, 14 Jul 2025 17:49:20 +0200 (CEST) Received: by mail-pj1-f97.google.com with SMTP id 98e67ed59e1d1-311c95ddfb5so3609925a91.2 for ; Mon, 14 Jul 2025 08:49:20 -0700 (PDT) DKIM-Signature: v=1; a=rsa-sha256; c=relaxed/relaxed; d=iol.unh.edu; s=unh-iol; t=1752508159; x=1753112959; darn=dpdk.org; h=references:in-reply-to:cc:to:from:subject:message-id:date:from:to :cc:subject:date:message-id:reply-to; bh=zq5+z0BL9zMpdgihNlrEbWVP1phtR2efIavwmHTDKdM=; b=hVzcRfYPyItT3O54mY74Qc0J1KrVfxiCjQ7qAW8efTiPzhA3qw8AjI9Ql4sj+99HHe ER2XMzHy2Mew25mKSAgAyeEphkMCqHJcYDwC6kkTIQrrAEQOSPlKng2dvytFisiJbazt EeUbwT5rwbNR9lqrBfHx6eaZALYyruOZMLmJQ= X-Google-DKIM-Signature: v=1; a=rsa-sha256; c=relaxed/relaxed; d=1e100.net; s=20230601; t=1752508159; x=1753112959; h=references:in-reply-to:cc:to:from:subject:message-id:date :x-gm-message-state:from:to:cc:subject:date:message-id:reply-to; bh=zq5+z0BL9zMpdgihNlrEbWVP1phtR2efIavwmHTDKdM=; b=fu4w/cBcRn76VAYRKxDLODq6KJs0pZpHwYuAzpRN+7zHGzJTGUYz4iTzJOxPfvtrWK lKW33jTg//wxNZ3ijxXyTdIBwQ3y4er3KwrH3kbPtaAhQ1mVHriXVSf/xfe2cDQR+whx AGH0PxssuiAufnLuUvpHdwKJ8CehTGcYsBk7F7Zlu1dFawQS9rMf6y/41ZbOXIe4/SRY f+JrJIcaTs6yEhP4lg0DbowYymYFS7VE7GpvZ5X3eRTTWLQVuME+3mDFrQMRFo4Fg/BV BOJKILOycdhYJdW75WdOxEjXJ5Dsylt95BeysWK1DXueEOw6Oz4o28TlwigMHaN3yuMv Egiw== X-Gm-Message-State: AOJu0Yxp9nUkmvGe5eYb8IVJY+s0SouhItdjF+N3POToc9EfsCcQZaHH 5IjbIkvw0VDvB+AkVoMU2ckZts5VLR+DeMZapV+fdfc3a++nXw3u7U0qs4vuzR7O7MHbCtNfGLe n6RAfQybxNed4EJMB7zDGOMeA20P03mTkj9aGFQ/IFGM2 X-Gm-Gg: ASbGncsrtF2nZ641vd5R3GTIyNc2xQ/xvDvdLAwVrxgARyHoUqMhRLf8HTDeq2Dy1PZ xfPnZ2rGbnmiuRb2FOM83n9XXwXxlJRAJlgoIW4fBySX6d+Ggp8rAoUJzRAf6fShdP0+g4eMyg7 0n8l8EhNvGA1ipPCVptn2R6+3UW9PxsMpi/CDf9YGxPr102gc9rZdNOjk6PBnzXYLw73ZApgdmD WDBIHkYKnc8K6eTis0xw5Sid9G8xo5ka4TqHQlCZbZeL4QdELM8V4sf5YViS/wmZEQoRITWxC6D wuCmXgv+bqx+o6tn6ZdYrSY+2HG3W1uoIQsJzDWxGQ1X8JAOsWXre7VmoPfNKns/HoQHGt9o X-Google-Smtp-Source: AGHT+IGjdyRp9KSK6gi+QARCpwIioqvWD8kbMHB8PV9XGN90tnhSrBNRSyZbdNx9cECe+McOAF+0ZkBiqafj X-Received: by 2002:a17:90b:2541:b0:313:d346:f347 with SMTP id 98e67ed59e1d1-31c4cdc645bmr19497572a91.35.1752508159157; Mon, 14 Jul 2025 08:49:19 -0700 (PDT) Received: from postal.iol.unh.edu (postal.iol.unh.edu. [132.177.123.84]) by smtp-relay.gmail.com with ESMTPS id 98e67ed59e1d1-31c3008af0dsm592778a91.5.2025.07.14.08.49.19 (version=TLS1_2 cipher=ECDHE-ECDSA-AES128-GCM-SHA256 bits=128/128); Mon, 14 Jul 2025 08:49:19 -0700 (PDT) X-Relaying-Domain: iol.unh.edu Date: Mon, 14 Jul 2025 08:49:19 -0700 (PDT) Message-ID: <687526ff.170a0220.33bb22.fe55SMTPIN_ADDED_MISSING@mx.google.com> Received: from [172.21.0.6] (unknown [172.18.0.240]) by postal.iol.unh.edu (Postfix) with ESMTP id A15F3604D420; Mon, 14 Jul 2025 11:49:18 -0400 (EDT) Subject: |SUCCESS| pw155202 [PATCH] [RFC] doc: clarify VLAN and QinQ strippin From: dpdklab@iol.unh.edu To: Test Report Cc: dpdk-test-reports@iol.unh.edu In-Reply-To: <20250714133014.44597-1-bruce.richardson@intel.com> References: <20250714133014.44597-1-bruce.richardson@intel.com> Content-Type: text/plain X-BeenThere: test-report@dpdk.org X-Mailman-Version: 2.1.29 Precedence: list List-Id: automatic DPDK test reports List-Unsubscribe: , List-Archive: List-Post: List-Help: List-Subscribe: , Errors-To: test-report-bounces@dpdk.org Test-Label: iol-abi-testing Test-Status: SUCCESS http://dpdk.org/patch/155202 _Testing PASS_ Submitter: Bruce Richardson Date: Monday, July 14 2025 13:30:14 DPDK git baseline: Repo:dpdk Branch: master CommitID:9fe9c0b231c8da5435bfccb1963121b4277f961c 155202 --> testing pass Upstream job id: Generic-DPDK-Compile-ABI#134297 Test environment and result as below: +-------------------------------+----------+ | Environment | abi_test | +===============================+==========+ | CentOS Stream 10 | PASS | +-------------------------------+----------+ | Debian GNU/Linux 12 | PASS | +-------------------------------+----------+ | CentOS Stream 9 | PASS | +-------------------------------+----------+ | Fedora Linux 41 | PASS | +-------------------------------+----------+ | Fedora Linux 40 | PASS | +-------------------------------+----------+ | Red Hat Enterprise Linux 8.10 | PASS | +-------------------------------+----------+ | openSUSE Leap 15.6 | PASS | +-------------------------------+----------+ | Ubuntu 24.04 | PASS | +-------------------------------+----------+ | Ubuntu 22.04 | PASS | +-------------------------------+----------+ | Red Hat Enterprise Linux 9.5 | PASS | +-------------------------------+----------+ CentOS Stream 10 Kernel: 5.15 Compiler: gcc gcc (GCC) 14.2.1 20250110 (Red Hat 14.2.1-8) Debian GNU/Linux 12 Kernel: 5.15 Compiler: gcc gcc (Debian 12.2.0-14+deb12u1) 12.2.0 CentOS Stream 9 Kernel: 5.15 Compiler: gcc gcc (GCC) 11.5.0 20240719 (Red Hat 11.5.0-7) Fedora Linux 41 Kernel: 5.15 Compiler: clang gcc (GCC) 14.3.1 20250523 (Red Hat 14.3.1-1) Fedora Linux 40 Kernel: 5.15 Compiler: clang gcc (GCC) 14.2.1 20240912 (Red Hat 14.2.1-3) Red Hat Enterprise Linux 8.10 Kernel: 5.15 Compiler: gcc gcc (GCC) 8.5.0 20210514 (Red Hat 8.5.0-22) openSUSE Leap 15.6 Kernel: 5.15 Compiler: gcc gcc (SUSE Linux) 7.5.0 Ubuntu 24.04 Kernel: 5.15 Compiler: gcc gcc (Ubuntu 13.3.0-6ubuntu2~24.04) 13.3.0 Ubuntu 22.04 Kernel: 5.15 Compiler: gcc gcc (Ubuntu 11.4.0-1ubuntu1~22.04) 11.4.0 Red Hat Enterprise Linux 9.5 Kernel: 5.15 Compiler: gcc gcc (GCC) 11.5.0 20240719 (Red Hat 11.5.0-2) To view detailed results, visit: https://lab.dpdk.org/results/dashboard/patchsets/33649/ UNH-IOL DPDK Community Lab To manage your email subscriptions, visit: https://lab.dpdk.org/results/dashboard/preferences/subscriptions/