From mboxrd@z Thu Jan 1 00:00:00 1970 Return-Path: Received: from mails.dpdk.org (mails.dpdk.org [217.70.189.124]) by inbox.dpdk.org (Postfix) with ESMTP id 3D60346B72 for ; Mon, 14 Jul 2025 17:49:54 +0200 (CEST) Received: from mails.dpdk.org (localhost [127.0.0.1]) by mails.dpdk.org (Postfix) with ESMTP id 354D9402E6; Mon, 14 Jul 2025 17:49:54 +0200 (CEST) Received: from mail-oo1-f99.google.com (mail-oo1-f99.google.com [209.85.161.99]) by mails.dpdk.org (Postfix) with ESMTP id 550544021F for ; Mon, 14 Jul 2025 17:49:53 +0200 (CEST) Received: by mail-oo1-f99.google.com with SMTP id 006d021491bc7-613b02e801aso2271746eaf.2 for ; Mon, 14 Jul 2025 08:49:53 -0700 (PDT) DKIM-Signature: v=1; a=rsa-sha256; c=relaxed/relaxed; d=iol.unh.edu; s=unh-iol; t=1752508192; x=1753112992; darn=dpdk.org; h=references:in-reply-to:cc:to:from:subject:message-id:date:from:to :cc:subject:date:message-id:reply-to; bh=UfjjNIY/Od7aqkMPDh09OVQcOJfIvtOStc7rVqVOd1s=; b=fg7+dZ2KQjd1eBMOp5sSxmdc81/ezcBleKuuViogUkVG4EGJno4HIx0NmQYk/FG6KG 21THCNC5bOSlmxDeqxXI5HvY4w5wg8qLriP4lC/n6OhwEjvkMzfvcHs89Nchu8vgKXAG EbhdtXRY1K+HmemzDwOk1P8e7sghe1OEKl47k= X-Google-DKIM-Signature: v=1; a=rsa-sha256; c=relaxed/relaxed; d=1e100.net; s=20230601; t=1752508192; x=1753112992; h=references:in-reply-to:cc:to:from:subject:message-id:date :x-gm-message-state:from:to:cc:subject:date:message-id:reply-to; bh=UfjjNIY/Od7aqkMPDh09OVQcOJfIvtOStc7rVqVOd1s=; b=nkQv7bPbUYv/xSjTE1j3RcYnWGBjspR5B9/ggYpcq/DqK5exjsV6cZ3i+jKwii+kIt XPInzEOjE8vmNgw9TReA9wjeLWXAFQe2t7ko5l64o5mycbxWTavy5Fqcws4f4ikAbeOw +C4GoWSYeXwDL9FP/2fKzXe0wIGBxUQJpaV9aF9Xsyxu3wHNQZQfQcpy+ZP1nlhfRUrL 5etaSrkJnzeEP2F7UVSzLL7gG4EGGQDnyN9H+UD0+iY3Tm/H7nHADXqB1SyPzVeaiaf7 UEN7xbAFw2vHlq4CibNwxTFqiQUEIOfbk2etOki4zuOHow0QaqAxUD9vnRlRZSkB8eBq bztw== X-Gm-Message-State: AOJu0Yx1A2/kzO9fXyPKH6FGLEzN0znnS4bwL6bs30JBvAx606o9b4Z+ v8Y1xKyC1dfUiRZ2DhCccjO7XWqdggauWxy0y+rcQOpSQzJkxH+c6za1ZzAaeR703cbhlaFwsDc ktyaZO+HwIKcUkXk1/MSerMcwJ/IsINhBNzIgd7rsPC2I X-Gm-Gg: ASbGncue2YhGlyNjQvzJ4oxAqPcAniz8Uc/1Y30+NNlT2xSe5U/7/KfgwVIct0nXMme EPlgsoXOFtT+w4IdTyBgx/qrGJ3PKqTJWN9FSCuMWyAEmLH3ezgSQhHZDEWD4NSLScGpGsMTAff NMxbg8Z//HGNKdCySjlhiyuzgDn4u3lylVRYD/m3ZuGaKUvl+t7nU92tRSekEdscWYUmzPZrgSF SswtR+SbEn5tfU3s2X7aBlSjM8z8NvmB3nWfdiiX0qn3L1/bIaRKwW1FHYuOeRrk3VHofc7QH4w 86yS0hmmXypf5JcDXu0EpPbwNtzqy2owPpYKmLpBQobHRqF0t/aBFUwU+b6L5xF+hGijZVRu X-Google-Smtp-Source: AGHT+IGoVbj3pJeS1/ylG2Fmc6YLydzc1T1WXEayOxK9jnKC0PPw2E1ojLs3B7ZSc9l6C6/FbFx88JTcwRfy X-Received: by 2002:a05:6820:4df3:b0:611:e30a:fa1c with SMTP id 006d021491bc7-613e5eeb902mr7112174eaf.1.1752508192568; Mon, 14 Jul 2025 08:49:52 -0700 (PDT) Received: from postal.iol.unh.edu (postal.iol.unh.edu. [132.177.123.84]) by smtp-relay.gmail.com with ESMTPS id 006d021491bc7-613d9f1189asm160938eaf.19.2025.07.14.08.49.52 (version=TLS1_2 cipher=ECDHE-ECDSA-AES128-GCM-SHA256 bits=128/128); Mon, 14 Jul 2025 08:49:52 -0700 (PDT) X-Relaying-Domain: iol.unh.edu Date: Mon, 14 Jul 2025 08:49:52 -0700 (PDT) Message-ID: <68752720.050a0220.1523d7.876dSMTPIN_ADDED_MISSING@mx.google.com> Received: from [172.21.0.5] (unknown [172.18.0.240]) by postal.iol.unh.edu (Postfix) with ESMTP id 095D3604D421; Mon, 14 Jul 2025 11:49:52 -0400 (EDT) Subject: |SUCCESS| pw155201 [PATCH] net/mlx5: fix indirect age action handlin From: dpdklab@iol.unh.edu To: Test Report Cc: dpdk-test-reports@iol.unh.edu In-Reply-To: <20250714100437.993231-1-dsosnowski@nvidia.com> References: <20250714100437.993231-1-dsosnowski@nvidia.com> Content-Type: text/plain X-BeenThere: test-report@dpdk.org X-Mailman-Version: 2.1.29 Precedence: list List-Id: automatic DPDK test reports List-Unsubscribe: , List-Archive: List-Post: List-Help: List-Subscribe: , Errors-To: test-report-bounces@dpdk.org Test-Label: iol-compile-amd64-testing Test-Status: SUCCESS http://dpdk.org/patch/155201 _Testing PASS_ Submitter: Dariusz Sosnowski Date: Monday, July 14 2025 10:04:37 DPDK git baseline: Repo:dpdk Branch: master CommitID:9fe9c0b231c8da5435bfccb1963121b4277f961c 155201 --> testing pass Upstream job id: Generic-DPDK-Compile-Meson#408565 Test environment and result as below: +-------------------------------+--------------------+-------------------+------------------+-------------------------+-------------------+----------------------+ | Environment | dpdk_meson_compile | dpdk_compile_spdk | dpdk_compile_ovs | dpdk_llvm_clang_compile | dpdk_msvc_compile | dpdk_mingw64_compile | +===============================+====================+===================+==================+=========================+===================+======================+ | CentOS Stream 9 | PASS | PASS | SKIPPED | SKIPPED | SKIPPED | SKIPPED | +-------------------------------+--------------------+-------------------+------------------+-------------------------+-------------------+----------------------+ | CentOS Stream 10 | PASS | SKIPPED | SKIPPED | SKIPPED | SKIPPED | SKIPPED | +-------------------------------+--------------------+-------------------+------------------+-------------------------+-------------------+----------------------+ | Debian GNU/Linux 12 | PASS | PASS | SKIPPED | SKIPPED | SKIPPED | SKIPPED | +-------------------------------+--------------------+-------------------+------------------+-------------------------+-------------------+----------------------+ | Fedora Linux 40 | PASS | PASS | SKIPPED | SKIPPED | SKIPPED | SKIPPED | +-------------------------------+--------------------+-------------------+------------------+-------------------------+-------------------+----------------------+ | Fedora Linux 41 | PASS | PASS | PASS | SKIPPED | SKIPPED | SKIPPED | +-------------------------------+--------------------+-------------------+------------------+-------------------------+-------------------+----------------------+ | Red Hat Enterprise Linux 8.10 | PASS | SKIPPED | SKIPPED | SKIPPED | SKIPPED | SKIPPED | +-------------------------------+--------------------+-------------------+------------------+-------------------------+-------------------+----------------------+ | openSUSE Leap 15.6 | PASS | SKIPPED | SKIPPED | SKIPPED | SKIPPED | SKIPPED | +-------------------------------+--------------------+-------------------+------------------+-------------------------+-------------------+----------------------+ | Red Hat Enterprise Linux 9.5 | PASS | SKIPPED | SKIPPED | SKIPPED | SKIPPED | SKIPPED | +-------------------------------+--------------------+-------------------+------------------+-------------------------+-------------------+----------------------+ | Ubuntu 20.04 | PASS | SKIPPED | SKIPPED | SKIPPED | SKIPPED | SKIPPED | +-------------------------------+--------------------+-------------------+------------------+-------------------------+-------------------+----------------------+ | Ubuntu 22.04 | PASS | PASS | SKIPPED | SKIPPED | SKIPPED | SKIPPED | +-------------------------------+--------------------+-------------------+------------------+-------------------------+-------------------+----------------------+ | Ubuntu 24.04 | PASS | PASS | PASS | SKIPPED | SKIPPED | SKIPPED | +-------------------------------+--------------------+-------------------+------------------+-------------------------+-------------------+----------------------+ | Alpine Linux 3.22.0 | PASS | SKIPPED | SKIPPED | SKIPPED | SKIPPED | SKIPPED | +-------------------------------+--------------------+-------------------+------------------+-------------------------+-------------------+----------------------+ | FreeBSD 14.2 | PASS | SKIPPED | SKIPPED | SKIPPED | SKIPPED | SKIPPED | +-------------------------------+--------------------+-------------------+------------------+-------------------------+-------------------+----------------------+ | Windows Server 2022 | SKIPPED | SKIPPED | SKIPPED | PASS | PASS | PASS | +-------------------------------+--------------------+-------------------+------------------+-------------------------+-------------------+----------------------+ CentOS Stream 9 Kernel: 5.15 Compiler: gcc gcc (GCC) 11.5.0 20240719 (Red Hat 11.5.0-7) CentOS Stream 10 Kernel: 5.15 Compiler: gcc gcc (GCC) 14.2.1 20250110 (Red Hat 14.2.1-8) Debian GNU/Linux 12 Kernel: 5.15 Compiler: gcc gcc (Debian 12.2.0-14+deb12u1) 12.2.0 Fedora Linux 40 Kernel: 5.15 Compiler: gcc gcc (GCC) 14.2.1 20240912 (Red Hat 14.2.1-3) Fedora Linux 41 Kernel: 5.15 Compiler: gcc gcc (GCC) 14.3.1 20250523 (Red Hat 14.3.1-1) Red Hat Enterprise Linux 8.10 Kernel: 5.15 Compiler: gcc gcc (GCC) 8.5.0 20210514 (Red Hat 8.5.0-22) openSUSE Leap 15.6 Kernel: 5.15 Compiler: gcc gcc (SUSE Linux) 7.5.0 Red Hat Enterprise Linux 9.5 Kernel: 5.15 Compiler: gcc gcc (GCC) 11.5.0 20240719 (Red Hat 11.5.0-2) Ubuntu 20.04 Kernel: 5.15 Compiler: gcc gcc (Ubuntu 9.4.0-1ubuntu1~20.04.2) 9.4.0 Ubuntu 22.04 Kernel: 5.15 Compiler: gcc gcc (Ubuntu 11.4.0-1ubuntu1~22.04) 11.4.0 Ubuntu 24.04 Kernel: 5.15 Compiler: gcc gcc (Ubuntu 13.3.0-6ubuntu2~24.04) 13.3.0 Alpine Linux 3.22.0 Kernel: 5.15 Compiler: gcc gcc (Alpine 14.2.0) 14.2.0 FreeBSD 14.2 Kernel: 14.2-RELEASE Compiler: clang 18.1.6 Windows Server 2022 Kernel: 10.0.20348.2031 Compiler: clang 15.0.7, gcc 14.1.0 (MinGW), and MSVC VS 19.39.33521 To view detailed results, visit: https://lab.dpdk.org/results/dashboard/patchsets/33648/ UNH-IOL DPDK Community Lab To manage your email subscriptions, visit: https://lab.dpdk.org/results/dashboard/preferences/subscriptions/