From mboxrd@z Thu Jan 1 00:00:00 1970 Return-Path: Received: from mails.dpdk.org (mails.dpdk.org [217.70.189.124]) by inbox.dpdk.org (Postfix) with ESMTP id 31DDA46B72 for ; Mon, 14 Jul 2025 17:49:54 +0200 (CEST) Received: from mails.dpdk.org (localhost [127.0.0.1]) by mails.dpdk.org (Postfix) with ESMTP id 2CBC4400D5; Mon, 14 Jul 2025 17:49:54 +0200 (CEST) Received: from mail-oa1-f97.google.com (mail-oa1-f97.google.com [209.85.160.97]) by mails.dpdk.org (Postfix) with ESMTP id 4EE49400D5 for ; Mon, 14 Jul 2025 17:49:53 +0200 (CEST) Received: by mail-oa1-f97.google.com with SMTP id 586e51a60fabf-2eff5d1c7efso2831085fac.2 for ; Mon, 14 Jul 2025 08:49:53 -0700 (PDT) DKIM-Signature: v=1; a=rsa-sha256; c=relaxed/relaxed; d=iol.unh.edu; s=unh-iol; t=1752508192; x=1753112992; darn=dpdk.org; h=references:in-reply-to:cc:to:from:subject:message-id:date:from:to :cc:subject:date:message-id:reply-to; bh=4fLPXb/tTSZxNxHliIJdJBZVRy1Z1oedSCbr68a+nds=; b=L4S9tR7+eFyXDxu7FRE2mZnSmNM29q/m07zV3K0ghc2yuQG2n5ve2vtK6EpALBv/Kb 8d+mlCxpJ62lYC1zqW6gTpxmeIdSsn4/hh14nAETCIpIFFPQ1nOPiAmzMZsHrVufxEyy iaDkhdcEMbYU/zMgyWYtJxwYr8xxmz4zzKRIQ= X-Google-DKIM-Signature: v=1; a=rsa-sha256; c=relaxed/relaxed; d=1e100.net; s=20230601; t=1752508192; x=1753112992; h=references:in-reply-to:cc:to:from:subject:message-id:date :x-gm-message-state:from:to:cc:subject:date:message-id:reply-to; bh=4fLPXb/tTSZxNxHliIJdJBZVRy1Z1oedSCbr68a+nds=; b=M1NOXNNmUcU0KalwjPxfx/6zIGFPNu7bx0NqGAy2QcvFmbOFCr9GKQShPuhrelorod NgepwZMP17IPdrW6Heaa5VmdK64zOuyPrtxCaQKUb0DmGudF14KD+BmdzsOphJnfGGRy 4phtnXFpDyMcMrRiOi78c3yfr47/2t353nBuoceD7V+vxj4PAgO1LSF2DdfZvN0dwLrM XvhX3fAFQFHO1e5PkhQ74bWdXRMNStQx0dULqjIRkOdKAKAwglmAf6LIrqCE493P7Pxn SjcLYFgYFaprogOiA5OZKZesyBbJ2nCG7srUfvL73F50xj+xw1t/W71cWZxcoHM3E50C hV7g== X-Gm-Message-State: AOJu0Ywiu4LHFmj8AykLerEJ2O3RNnV8ItUgCnvlRyuGfzguGgNnfc3i oQd3JS7rshYgIV0dWL6AC43dQ7wWLz6rDWnOrdJ/AmYizEC1vFhjM3skE5DJOHZDZPwgoIeMIXU WSQZyyHKU/BY+eDszB6wDEZLIdzj/E4OZF1boJaOHHbJvf4RRyaAmxxaEX9Pm X-Gm-Gg: ASbGncvsUQX+6VgyFRYV/IJllqILgLMBdX0dU8rGoX01aeMqRJXsxlzOppPgUlxAYB5 c0TpccrLhlFT8Blw3gxZOsuGtMCcs/gt+1EUXDPTG/oCBCPDjY4Wfo792jmAsAc8o8QI82gF+qs 7a2Z5tJUSlx88lqPiZEkQLErcLU1B67R2ghwWmAKn2oqlmHexpDkNdshtY7JnX8ZgJwl4Y22CcP HLnouSSXyDIinZUfXmLbm7wm2qqBNNdeYXeWu5O/H02kVLKLWrcYcdFlr9/kqhE4TyuS/B1f6vU gnyTd8ayArG4khPfxj0pLcfPIShC3AbYzq7BRkeduTeishmgaw== X-Google-Smtp-Source: AGHT+IGdU9W+ZBQD300xIksCBnXeL+wmJVHnrdSrmrmMtEiGG54RftkMq4sQnTucvGwDkuUzjybsfp6HT3TW X-Received: by 2002:a05:6870:aa95:b0:2d4:e101:13ec with SMTP id 586e51a60fabf-2ff270a53bbmr9342564fac.33.1752508192377; Mon, 14 Jul 2025 08:49:52 -0700 (PDT) Received: from postal.iol.unh.edu (postal.iol.unh.edu. [2606:4100:3880:1234::84]) by smtp-relay.gmail.com with ESMTPS id 586e51a60fabf-2ff111c37f1sm715790fac.3.2025.07.14.08.49.52 (version=TLS1_2 cipher=ECDHE-ECDSA-AES128-GCM-SHA256 bits=128/128); Mon, 14 Jul 2025 08:49:52 -0700 (PDT) X-Relaying-Domain: iol.unh.edu Date: Mon, 14 Jul 2025 08:49:52 -0700 (PDT) Message-ID: <68752720.050a0220.3b3e1c.7440SMTPIN_ADDED_MISSING@mx.google.com> Received: from [172.21.0.8] (unknown [172.18.0.240]) by postal.iol.unh.edu (Postfix) with ESMTP id 06885604D420; Mon, 14 Jul 2025 11:49:52 -0400 (EDT) Subject: |SUCCESS| pw155202 [PATCH] [RFC] doc: clarify VLAN and QinQ strippin From: dpdklab@iol.unh.edu To: Test Report Cc: dpdk-test-reports@iol.unh.edu In-Reply-To: <20250714133014.44597-1-bruce.richardson@intel.com> References: <20250714133014.44597-1-bruce.richardson@intel.com> Content-Type: text/plain X-BeenThere: test-report@dpdk.org X-Mailman-Version: 2.1.29 Precedence: list List-Id: automatic DPDK test reports List-Unsubscribe: , List-Archive: List-Post: List-Help: List-Subscribe: , Errors-To: test-report-bounces@dpdk.org Test-Label: iol-abi-testing Test-Status: SUCCESS http://dpdk.org/patch/155202 _Testing PASS_ Submitter: Bruce Richardson Date: Monday, July 14 2025 13:30:14 DPDK git baseline: Repo:dpdk Branch: master CommitID:9fe9c0b231c8da5435bfccb1963121b4277f961c 155202 --> testing pass Upstream job id: Generic-DPDK-Compile-ABI#134296 Test environment and result as below: +-------------------------------+----------+ | Environment | abi_test | +===============================+==========+ | CentOS Stream 10 | PASS | +-------------------------------+----------+ | Debian GNU/Linux 12 | PASS | +-------------------------------+----------+ | CentOS Stream 9 | PASS | +-------------------------------+----------+ | Fedora Linux 41 | PASS | +-------------------------------+----------+ | Fedora Linux 40 | PASS | +-------------------------------+----------+ | Red Hat Enterprise Linux 8.10 | PASS | +-------------------------------+----------+ | openSUSE Leap 15.6 | PASS | +-------------------------------+----------+ | Ubuntu 24.04 | PASS | +-------------------------------+----------+ | Ubuntu 22.04 | PASS | +-------------------------------+----------+ | Red Hat Enterprise Linux 9.5 | PASS | +-------------------------------+----------+ CentOS Stream 10 Kernel: 5.15 Compiler: gcc gcc (GCC) 14.2.1 20250110 (Red Hat 14.2.1-8) Debian GNU/Linux 12 Kernel: 5.15 Compiler: gcc gcc (Debian 12.2.0-14+deb12u1) 12.2.0 CentOS Stream 9 Kernel: 5.15 Compiler: gcc gcc (GCC) 11.5.0 20240719 (Red Hat 11.5.0-7) Fedora Linux 41 Kernel: 5.15 Compiler: clang gcc (GCC) 14.3.1 20250523 (Red Hat 14.3.1-1) Fedora Linux 40 Kernel: 5.15 Compiler: clang gcc (GCC) 14.2.1 20240912 (Red Hat 14.2.1-3) Red Hat Enterprise Linux 8.10 Kernel: 5.15 Compiler: gcc gcc (GCC) 8.5.0 20210514 (Red Hat 8.5.0-22) openSUSE Leap 15.6 Kernel: 5.15 Compiler: gcc gcc (SUSE Linux) 7.5.0 Ubuntu 24.04 Kernel: 5.15 Compiler: gcc gcc (Ubuntu 13.3.0-6ubuntu2~24.04) 13.3.0 Ubuntu 22.04 Kernel: 5.15 Compiler: gcc gcc (Ubuntu 11.4.0-1ubuntu1~22.04) 11.4.0 Red Hat Enterprise Linux 9.5 Kernel: 5.15 Compiler: gcc gcc (GCC) 11.5.0 20240719 (Red Hat 11.5.0-2) To view detailed results, visit: https://lab.dpdk.org/results/dashboard/patchsets/33649/ UNH-IOL DPDK Community Lab To manage your email subscriptions, visit: https://lab.dpdk.org/results/dashboard/preferences/subscriptions/