From mboxrd@z Thu Jan 1 00:00:00 1970 Return-Path: Received: from mails.dpdk.org (mails.dpdk.org [217.70.189.124]) by inbox.dpdk.org (Postfix) with ESMTP id 4B19D46B72 for ; Mon, 14 Jul 2025 17:50:08 +0200 (CEST) Received: from mails.dpdk.org (localhost [127.0.0.1]) by mails.dpdk.org (Postfix) with ESMTP id 47342400D5; Mon, 14 Jul 2025 17:50:08 +0200 (CEST) Received: from mail-oa1-f100.google.com (mail-oa1-f100.google.com [209.85.160.100]) by mails.dpdk.org (Postfix) with ESMTP id 6B7A5400D5 for ; Mon, 14 Jul 2025 17:50:07 +0200 (CEST) Received: by mail-oa1-f100.google.com with SMTP id 586e51a60fabf-2efc0ed41efso1233265fac.1 for ; Mon, 14 Jul 2025 08:50:07 -0700 (PDT) DKIM-Signature: v=1; a=rsa-sha256; c=relaxed/relaxed; d=iol.unh.edu; s=unh-iol; t=1752508207; x=1753113007; darn=dpdk.org; h=references:in-reply-to:cc:to:from:subject:message-id:date:from:to :cc:subject:date:message-id:reply-to; bh=hrRozc1wMji3/oTdHC30SJag7bHTTK+NeqtSaV0+eUY=; b=EMQMN8Jd5UXtanJBN/jCuaZQ222CtGbKpwknmDa02gxXdi8VvIP52BbZGq1Gr33iS8 sk7bLtdSPvf3MNyObSkLH610PGpFLpv4ZwsXNQI2z6qfr1uZmx/tD4n0GZOD5GGFOCan GUlcDNizVEfE3GIgGPmUkzbCVwkjilyDIntTg= X-Google-DKIM-Signature: v=1; a=rsa-sha256; c=relaxed/relaxed; d=1e100.net; s=20230601; t=1752508207; x=1753113007; h=references:in-reply-to:cc:to:from:subject:message-id:date :x-gm-message-state:from:to:cc:subject:date:message-id:reply-to; bh=hrRozc1wMji3/oTdHC30SJag7bHTTK+NeqtSaV0+eUY=; b=PZQSYeB5ZtjsScD6p2ATryAVPjlI2wR9Dtz/3vuVZCgMNCpjMIJqcf0OHz8xUlXTxm dZlBhXw1riSDcATuCH6RIRrWHB+SXBUESTXs9llr4MoSKVbMoOo8uaYqAQZP36nzZQ/D kSiw1rkLvDuiFXGXbVnVsqmvepEtKaGM6aLwplVQH1I3Ezz7hU7/FxlRtmvx00FWWfQi NhTsUtSF1SgLVyxUplvpFVW/1olObHbJjkv3Nzu0435McTeLJ4sTqjQqgDG2bvZIl7ZK rEJOEfnNqTZP6R3T/X9tI8nHe2qYs9cUikWguGKziX2aGK80QhlLtn1ZhDU2K47ClSNn JOzg== X-Gm-Message-State: AOJu0YytZRsMsL2bxfwiCXHlBqV3/sOYeKWJsFxJ6s6+BGhVrP5La6WA tRovtPL6+gV0TJktwF2Z5OqCSJ3L6i+JFNqxX8CqREgB785vbPPqtaXurE6QISZRmsCnkZ2oeuP pXrsDyve7dLOXd4wHy4O3BsxKqQUhnT+Th9E7iMwlx1YQiKP0npdoBT3em6h1 X-Gm-Gg: ASbGnctc3zYLdWneNFJPbkR9LiGPEb3gavcDNJ5xW8igvZla0LGw7II9Umdb9IhJvNF iDYA7ToXIH0gMz1ZPBMyg9vuuMHOODPED36cKxhugGOmnx5fGnz7mlVnm/QJ8yAS+JEXaBEwJlb P++qYRciC6QY6gKFErkAyFAfsKLnSZj3UfqBKLZMx0kUbL/POIzrio6WLcItGRAg4KdKl6Fyp47 XA1EASHOmJX41VPT6M2hLXQGpLXltP2bddRd9iVkuYB7b457wUzL6DdJJ3/t/BXrCsb+NvKrozx MFnAP7DgAlpYzJpInfXOwREpKR9O88eRT/GUzN+8GTueOOJ2lQ== X-Google-Smtp-Source: AGHT+IHtvUsgxp5fO0PjbAq76wkbfXCpKq/eB441jCQCG3snal+mUokmvbuO4Hi69FcKrb+2h1swxyR4ZHpL X-Received: by 2002:a05:6871:e414:b0:2c2:542b:bce4 with SMTP id 586e51a60fabf-2ff26713d0emr8562120fac.8.1752508206709; Mon, 14 Jul 2025 08:50:06 -0700 (PDT) Received: from postal.iol.unh.edu (postal.iol.unh.edu. [2606:4100:3880:1234::84]) by smtp-relay.gmail.com with ESMTPS id 586e51a60fabf-2ff1123540esm745512fac.11.2025.07.14.08.50.06 (version=TLS1_2 cipher=ECDHE-ECDSA-AES128-GCM-SHA256 bits=128/128); Mon, 14 Jul 2025 08:50:06 -0700 (PDT) X-Relaying-Domain: iol.unh.edu Date: Mon, 14 Jul 2025 08:50:06 -0700 (PDT) Message-ID: <6875272e.050a0220.44fa5.950dSMTPIN_ADDED_MISSING@mx.google.com> Received: from [172.21.0.9] (unknown [172.18.0.240]) by postal.iol.unh.edu (Postfix) with ESMTP id 33D9B604D420; Mon, 14 Jul 2025 11:50:06 -0400 (EDT) Subject: |SUCCESS| pw155202 [PATCH] [RFC] doc: clarify VLAN and QinQ strippin From: dpdklab@iol.unh.edu To: Test Report Cc: dpdk-test-reports@iol.unh.edu In-Reply-To: <20250714133014.44597-1-bruce.richardson@intel.com> References: <20250714133014.44597-1-bruce.richardson@intel.com> Content-Type: text/plain X-BeenThere: test-report@dpdk.org X-Mailman-Version: 2.1.29 Precedence: list List-Id: automatic DPDK test reports List-Unsubscribe: , List-Archive: List-Post: List-Help: List-Subscribe: , Errors-To: test-report-bounces@dpdk.org Test-Label: iol-abi-testing Test-Status: SUCCESS http://dpdk.org/patch/155202 _Testing PASS_ Submitter: Bruce Richardson Date: Monday, July 14 2025 13:30:14 DPDK git baseline: Repo:dpdk Branch: master CommitID:9fe9c0b231c8da5435bfccb1963121b4277f961c 155202 --> testing pass Upstream job id: Generic-DPDK-Compile-ABI#134303 Test environment and result as below: +-------------------------------+----------+ | Environment | abi_test | +===============================+==========+ | CentOS Stream 10 | PASS | +-------------------------------+----------+ | Debian GNU/Linux 12 | PASS | +-------------------------------+----------+ | CentOS Stream 9 | PASS | +-------------------------------+----------+ | Fedora Linux 41 | PASS | +-------------------------------+----------+ | Fedora Linux 40 | PASS | +-------------------------------+----------+ | Red Hat Enterprise Linux 8.10 | PASS | +-------------------------------+----------+ | openSUSE Leap 15.6 | PASS | +-------------------------------+----------+ | Ubuntu 24.04 | PASS | +-------------------------------+----------+ | Ubuntu 22.04 | PASS | +-------------------------------+----------+ | Red Hat Enterprise Linux 9.5 | PASS | +-------------------------------+----------+ CentOS Stream 10 Kernel: 5.15 Compiler: gcc gcc (GCC) 14.2.1 20250110 (Red Hat 14.2.1-8) Debian GNU/Linux 12 Kernel: 5.15 Compiler: gcc gcc (Debian 12.2.0-14+deb12u1) 12.2.0 CentOS Stream 9 Kernel: 5.15 Compiler: gcc gcc (GCC) 11.5.0 20240719 (Red Hat 11.5.0-7) Fedora Linux 41 Kernel: 5.15 Compiler: clang gcc (GCC) 14.3.1 20250523 (Red Hat 14.3.1-1) Fedora Linux 40 Kernel: 5.15 Compiler: clang gcc (GCC) 14.2.1 20240912 (Red Hat 14.2.1-3) Red Hat Enterprise Linux 8.10 Kernel: 5.15 Compiler: gcc gcc (GCC) 8.5.0 20210514 (Red Hat 8.5.0-22) openSUSE Leap 15.6 Kernel: 5.15 Compiler: gcc gcc (SUSE Linux) 7.5.0 Ubuntu 24.04 Kernel: 5.15 Compiler: gcc gcc (Ubuntu 13.3.0-6ubuntu2~24.04) 13.3.0 Ubuntu 22.04 Kernel: 5.15 Compiler: gcc gcc (Ubuntu 11.4.0-1ubuntu1~22.04) 11.4.0 Red Hat Enterprise Linux 9.5 Kernel: 5.15 Compiler: gcc gcc (GCC) 11.5.0 20240719 (Red Hat 11.5.0-2) To view detailed results, visit: https://lab.dpdk.org/results/dashboard/patchsets/33649/ UNH-IOL DPDK Community Lab To manage your email subscriptions, visit: https://lab.dpdk.org/results/dashboard/preferences/subscriptions/